BEGIN:VCALENDAR
VERSION:2.0
PRODID:-//Berkshire Artistree - ECPv6.15.20//NONSGML v1.0//EN
CALSCALE:GREGORIAN
METHOD:PUBLISH
X-ORIGINAL-URL:https://berkshireartistree.co.uk
X-WR-CALDESC:Events for Berkshire Artistree
REFRESH-INTERVAL;VALUE=DURATION:PT1H
X-Robots-Tag:noindex
X-PUBLISHED-TTL:PT1H
BEGIN:VTIMEZONE
TZID:UTC
BEGIN:STANDARD
TZOFFSETFROM:+0000
TZOFFSETTO:+0000
TZNAME:UTC
DTSTART:20250101T000000
END:STANDARD
END:VTIMEZONE
BEGIN:VEVENT
DTSTART;TZID=UTC:20260331T200000
DTEND;TZID=UTC:20260331T220000
DTSTAMP:20260423T211040
CREATED:20260124T105303Z
LAST-MODIFIED:20260124T105310Z
UID:10009200-1774987200-1774994400@berkshireartistree.co.uk
SUMMARY:So You Think You Know Music Quiz at Other Space Arts\, Windsor
DESCRIPTION:So You Think You Know Music quiz at Other Space Arts\, Windsor\nhosted by Abi Powell Music and Nicole Allan \n• Every last Tuesday \n  \nJoin local musicians Abi Powell and Nicole Allan for So You Think You Know Music? — a fun-filled\, live music quiz night held at Other Space Arts in Windsor. Celebrate songs from every era — from classic rock to modern pop hits — in this interactive\, high-energy music quiz night designed to test your knowledge and entertain music lovers of all ages. \nWhether you’re joining solo or bringing a team of friends\, this Windsor music quiz night is the perfect night out for anyone who loves music and wants to compete\, laugh and have fun. The event features: \n\n\nA mix of quiz rounds\, including picture rounds\, film & music trivia\, and audio-based questions. \n\n\nLive performances by talented local artists\, making this more than just a quiz — it’s a full interactive music experience. \n\n\nQuestions covering all music genres and decades — a genuine challenge for both casual fans and music buffs alike. \n\n\nExciting picture and audio rounds that keep the energy high and the competition friendly. \n\n\nPrizes and fun surprises throughout the evening\, adding an extra layer of excitement to your night. \n\n\n  \nDon’t miss out on this unique interactive music quiz evening in Windsor — bring your friends\, hone your recall of your favourite tracks\, and enjoy a night of sound\, nostalgia and friendly competition! \nTickets are £3.00 on the door\, or you can reserve a spot for your team on the Other Space Arts website. \nFor more live music in Berkshire visit BerkshireArtistree.co.uk/live-music-events
URL:https://berkshireartistree.co.uk/live-music-event/so-you-think-you-know-music-quiz-at-other-space-arts-windsor-2-2/
LOCATION:Other Space Arts\, Windsor\, Kardelton House\, Vansittart Estate\, Windsor\, SL4 1SE
CATEGORIES:Music Quiz
ATTACH;FMTTYPE=image/jpeg:https://berkshireartistree.co.uk/wp-content/uploads/2025/08/SO-YOU-THINK-YOU-KNOW-MUSIC_poster.jpeg
END:VEVENT
BEGIN:VEVENT
DTSTART;TZID=UTC:20260331T200000
DTEND;TZID=UTC:20260331T220000
DTSTAMP:20260423T211040
CREATED:20260225T200117Z
LAST-MODIFIED:20260225T200117Z
UID:10009569-1774987200-1774994400@berkshireartistree.co.uk
SUMMARY:The Backroom Sessions - Blues Jam
DESCRIPTION:Live Music at Other Space Arts\, Windsor\nWith The Backroom Sessions – Blues Jam performing live \nBlues Jam.  See more information on the organiser link below\, or visit the venue link to see more about Other Space Arts\, Windsor. \nFor more live music in Berkshire visit BerkshireArtistree.co.uk/live-music-events
URL:https://berkshireartistree.co.uk/live-music-event/the-backroom-sessions-blues-jam/
LOCATION:Other Space Arts\, Windsor\, Kardelton House\, Vansittart Estate\, Windsor\, SL4 1SE
CATEGORIES:Original Music
END:VEVENT
BEGIN:VEVENT
DTSTART;TZID=UTC:20260331T203000
DTEND;TZID=UTC:20260331T223000
DTSTAMP:20260423T211040
CREATED:20260325T131750Z
LAST-MODIFIED:20260325T141648Z
UID:10009744-1774989000-1774996200@berkshireartistree.co.uk
SUMMARY:Open Mic In Windsor | Vansittart Arms
DESCRIPTION:Open mic night at The Vansittart Arms Windsor\, hosted by Damian Delahunty\, offers a welcoming stage for emerging and seasoned performers in a relaxed\, community-driven setting. \nKey Points➖ Hosted by Damian Delahunty\, known for running engaging local open mic nights➖ Open to musicians\, singers\, and acoustic performers of all levels➖ Supportive audience encouraging new material and experimentation➖ Intimate pub setting perfect for stripped-back live sets➖ Strong community feel with opportunities to connect and collaborate \nOpen Mic at The Vansittart Arms Windsor\nThe Open Mic at The Vansittart Arms Windsor stands out as a vibrant grassroots music night\, guided by the experienced hand of Damian Delahunty. His approach creates a smooth\, inclusive evening where performers feel supported from the moment they step up. As a result\, the night flows naturally\, balancing fresh talent with more confident acts. \nEach session delivers a diverse mix of sounds\, from acoustic originals to crowd-pleasing covers\, giving the audience something new to enjoy throughout. Because of this variety\, the event keeps a lively pace while maintaining a relaxed\, easy-going charm. Performers benefit from an attentive crowd\, which helps build confidence and encourages creative expression. \nThe venue itself enhances the experience. With its cosy layout and welcoming atmosphere\, it fosters a close connection between artist and audience\, making every performance feel personal. Guests can settle in and enjoy the ambience while discovering emerging local talent. \nUltimately\, this is more than just an open mic. It’s a community-led live music experience that celebrates creativity and connection in Windsor. For both performers and music lovers\, it offers an authentic and rewarding night out. \nFor more live music check out Berkshireartistree.co.uk/live-music-events/
URL:https://berkshireartistree.co.uk/live-music-event/open-mic-in-windsor-vansittart-arms/2026-03-31/
LOCATION:The Vansittart Arms\, Windsor\, 105 Vansittart Rd\, Windsor\, SL4 5DD\, United Kingdom
CATEGORIES:Open mic
ATTACH;FMTTYPE=image/jpeg:https://berkshireartistree.co.uk/wp-content/uploads/2024/04/Vansittart-Arms_open-mic_Berkshire-Artistree.jpeg
END:VEVENT
END:VCALENDAR