BEGIN:VCALENDAR
VERSION:2.0
PRODID:-//Berkshire Artistree - ECPv6.15.20//NONSGML v1.0//EN
CALSCALE:GREGORIAN
METHOD:PUBLISH
X-ORIGINAL-URL:https://berkshireartistree.co.uk
X-WR-CALDESC:Events for Berkshire Artistree
REFRESH-INTERVAL;VALUE=DURATION:PT1H
X-Robots-Tag:noindex
X-PUBLISHED-TTL:PT1H
BEGIN:VTIMEZONE
TZID:UTC
BEGIN:STANDARD
TZOFFSETFROM:+0000
TZOFFSETTO:+0000
TZNAME:UTC
DTSTART:20250101T000000
END:STANDARD
END:VTIMEZONE
BEGIN:VEVENT
DTSTART;TZID=UTC:20260403T150000
DTEND;TZID=UTC:20260403T170000
DTSTAMP:20260423T211335
CREATED:20260330T104329Z
LAST-MODIFIED:20260330T104400Z
UID:10009807-1775228400-1775235600@berkshireartistree.co.uk
SUMMARY:Live music on Good Friday | The Dolphin\, Wallingford
DESCRIPTION:Live music for the Easter Bank holiday\n\n\n\n\n\n\n\n\n\n\n\n\n\n\nOne Eyed Man at The Dolphin Wallingford marks a family-friendly Good Friday live music event that warmly opens the Easter holidays with an engaging\, all-ages atmosphere. \n➖ Family-friendly Good Friday performance welcoming all ages➖ A perfect start to the Easter holidays in Wallingford➖ Alternative rock with strong storytelling and melodic depth➖ Intimate venue known for clear sound and attentive audiences➖ Relaxed\, inclusive setting ideal for families and music lovers alike \nAs the Easter break begins\, One Eyed Man at The Dolphin Wallingford offers a refreshing way to bring people together through live music. The project’s sound blends modern alternative rock with expressive\, narrative-driven songwriting\, creating a performance style that feels both accessible and emotionally rich. Live\, the music carries a natural energy that draws listeners in without overwhelming younger audiences\, making it especially suited to a family-friendly setting. \nMeanwhile\, The Dolphin Wallingford provides the perfect backdrop for a Good Friday gathering. Known for its welcoming atmosphere and balanced acoustics\, the venue allows every lyric and musical shift to come through with clarity. Its intimate layout encourages connection\, helping families and friends share the experience in a relaxed and comfortable space. As a result\, the performance feels close\, engaging\, and inclusive from start to finish. \nA Feel-Good Start to Easter at The Dolphin Wallingford\nAdditionally\, the timing makes this event stand out. Good Friday naturally brings people together\, and this show offers a thoughtful yet uplifting way to begin the Easter holidays. Whether you’re introducing younger listeners to live music or simply enjoying a laid-back evening\, the experience strikes the right balance. \nUltimately\, One Eyed Man at The Dolphin Wallingford delivers a memorable\, family-friendly live music moment—ideal for easing into the Easter weekend with warmth\, atmosphere\, and genuine musical connection. \n\n\n\n\n\n\n\n\n\nFor more live music check out Berkshireartistree.co.uk/live-music-events/
URL:https://berkshireartistree.co.uk/live-music-event/live-music-on-good-friday-the-dolphin-wallingford/
LOCATION:The Dolphin\, Wallingford\, St Mary's St\, Wallingford\, OX10 0ET
CATEGORIES:Live Music
ATTACH;FMTTYPE=image/png:https://berkshireartistree.co.uk/wp-content/uploads/2026/03/Live-music_Easter_wallingford.png
END:VEVENT
BEGIN:VEVENT
DTSTART;TZID=UTC:20260403T190000
DTEND;TZID=UTC:20260403T210000
DTSTAMP:20260423T211335
CREATED:20260305T175410Z
LAST-MODIFIED:20260330T105326Z
UID:10009649-1775242800-1775250000@berkshireartistree.co.uk
SUMMARY:Live music in Reading\, The Rowbarge | Good Friday Easter Bank Holiday
DESCRIPTION:Easter Live music with One Eyed Man playing acoustic covers of all your favourites!\nAcoustic cover artist One Eyed Man performing at The Rowbarge sets the tone for a warm and welcoming Good Friday live music evening\, perfectly marking the start of the Easter holidays with a family-friendly feel. \nKey Points \n➖ Family-friendly Good Friday event to begin the Easter holidays➖ Popular acoustic covers from Mumford & Sons\, Noah Kahan\, and Myles Smith➖ Classic favourites from Bill Withers\, Don McLean\, and John Denver➖ Relaxed riverside pub setting ideal for all ages \nA Feel-Good Start to the Easter Weekend\nOne Eyed Man at The Rowbarge brings together uplifting acoustic favourites and recognisable singalong classics\, making it an ideal Good Friday outing for families and mixed-age groups. The set blends modern folk-inspired tracks from artists like Mumford & Sons and Noah Kahan with timeless songs that span generations. As a result\, both younger listeners and long-time music fans can enjoy the performance together. \nThe familiar melodies and easy-going rhythms create a welcoming\, inclusive atmosphere\, while the acoustic style keeps the sound accessible and relaxed. This balance makes the evening especially suited to those looking for a gentle\, enjoyable way to begin the Easter break. \nBeautiful Riverside Setting\nThe Rowbarge enhances the experience with its cosy riverside charm. Guests can settle in comfortably\, whether enjoying a quiet drink\, a family meal\, or simply soaking up the live music. The laid-back setting allows the performance to feel close and engaging without being overwhelming. \nIn the end\, One Eyed Man at The Rowbarge offers a perfect Good Friday live music experience. With its friendly atmosphere\, familiar songs\, and broad appeal\, it’s a great way to start the Easter holidays on a high note. \nFor more live music check out Berkshireartistree.co.uk/live-music-events/
URL:https://berkshireartistree.co.uk/live-music-event/live-music-in-reading-the-rowbarge-one-eyed-man/
LOCATION:The Rowbarge\, Reading\, Station Rd\, Woolhampton\, Reading\, RG7 5SH
CATEGORIES:Live Music
ATTACH;FMTTYPE=image/png:https://berkshireartistree.co.uk/wp-content/uploads/2026/03/live-music-reading_easter_the-rowbarge.png
END:VEVENT
END:VCALENDAR