BEGIN:VCALENDAR
VERSION:2.0
PRODID:-//Berkshire Artistree - ECPv6.15.20//NONSGML v1.0//EN
CALSCALE:GREGORIAN
METHOD:PUBLISH
X-WR-CALNAME:Berkshire Artistree
X-ORIGINAL-URL:https://berkshireartistree.co.uk
X-WR-CALDESC:Events for Berkshire Artistree
REFRESH-INTERVAL;VALUE=DURATION:PT1H
X-Robots-Tag:noindex
X-PUBLISHED-TTL:PT1H
BEGIN:VTIMEZONE
TZID:UTC
BEGIN:STANDARD
TZOFFSETFROM:+0000
TZOFFSETTO:+0000
TZNAME:UTC
DTSTART:20250101T000000
END:STANDARD
END:VTIMEZONE
BEGIN:VEVENT
DTSTART;TZID=UTC:20260405T180000
DTEND;TZID=UTC:20260405T210000
DTSTAMP:20260423T210426
CREATED:20260322T125116Z
LAST-MODIFIED:20260323T201811Z
UID:10009733-1775412000-1775422800@berkshireartistree.co.uk
SUMMARY:Live music in Windsor | Easter Bank holiday
DESCRIPTION: with JPR Music at the Duke Of Connaught\nJPR Music performing at the Duke of Connaught Windsor promises a lively Easter Bank Holiday special with crowd-pleasing live music in a welcoming pub setting. \n➖ Easter Bank Holiday special featuring lively live music set➖ JPR Music brings a versatile performance style suited to a relaxed pub crowd➖ Duke of Connaught Windsor offers an easy-going atmosphere for drinks\, conversation\, and live entertainment \nJPR Music at Duke of Connaught Windsor\nJPR Music at Duke of Connaught Windsor is the kind of upcoming live show that suits a long bank holiday weekend. Expect a set built for the room\, with accessible live energy\, familiar appeal\, and the sort of atmosphere that helps a pub crowd settle in quickly. As a result\, this performance should feel both lively and easy to enjoy\, whether you plan to stay for the full evening or drop in for a few standout songs. \nThe Duke of Connaught Windsor adds real value to the event. A pub venue like this works best when the music and the room support each other\, and that is exactly why this Easter Bank Holiday special stands out. The setting should feel social\, relaxed\, and full of character\, giving guests space to enjoy a drink\, chat between songs\, and still stay close to the live action. Moreover\, that balance makes it especially appealing for groups\, couples\, and anyone seeking a laid-back night with a strong soundtrack. \nOverall\, JPR Music at Duke of Connaught Windsor looks like a smart pick for the holiday weekend. It offers live entertainment with atmosphere\, a dependable venue\, and the simple pleasure of good music in good company. \nFor more live music check out Berkshireartistree.co.uk/live-music-events/
URL:https://berkshireartistree.co.uk/live-music-event/live-music-in-windsor-easter-bank-holiday/
LOCATION:Duke Of Connaught\, Windsor\, 165 Arthur Rd\, Windsor\, SL4 1RZ
CATEGORIES:Live Music
ATTACH;FMTTYPE=image/png:https://berkshireartistree.co.uk/wp-content/uploads/2026/03/easter-bank-holiday_windsor.png
END:VEVENT
END:VCALENDAR