BEGIN:VCALENDAR
VERSION:2.0
PRODID:-//Berkshire Artistree - ECPv6.15.20//NONSGML v1.0//EN
CALSCALE:GREGORIAN
METHOD:PUBLISH
X-ORIGINAL-URL:https://berkshireartistree.co.uk
X-WR-CALDESC:Events for Berkshire Artistree
REFRESH-INTERVAL;VALUE=DURATION:PT1H
X-Robots-Tag:noindex
X-PUBLISHED-TTL:PT1H
BEGIN:VTIMEZONE
TZID:UTC
BEGIN:STANDARD
TZOFFSETFROM:+0000
TZOFFSETTO:+0000
TZNAME:UTC
DTSTART:20250101T000000
END:STANDARD
END:VTIMEZONE
BEGIN:VEVENT
DTSTART;TZID=UTC:20260405T150000
DTEND;TZID=UTC:20260405T170000
DTSTAMP:20260423T211344
CREATED:20260329T143323Z
LAST-MODIFIED:20260331T101739Z
UID:10009805-1775401200-1775408400@berkshireartistree.co.uk
SUMMARY:Easter Sunday in Arborfield\, The Bull Inn | One Eyed Man
DESCRIPTION:Easter Bank Holiday at The Bull Inn\nWith live performance from One Eyed Man\n\n\n\n\n\n\n\n\n\nEaster Sunday at the Bull Inn Arborfield promises a lively start to spring with live music in the hideout! The event is family friendly\, serves food and drink and is great fun for all ages! \nKey Points➖ Upbeat classics with rich harmonies and catchy hooks \n➖ Family friendly for kids of all ages➖ Acoustic performance (with outdoor heating) in the hideout\n➖ A joyful\, audience-friendly live experience \nFeel-Good Indie Folk: One Eyed Man at The Bull Inn\nOne Eyed Man at The Bull Inn Arborfield Cross is set to deliver uplifting indie folk with a vibrant twist. While his songwriting carries warmth and heart\, his live shows burst with personality and rhythm. Expect toe-tapping acoustic grooves\, bright guitar lines\, and harmonies that lift the room from the very first chorus! One Eyed Man thrives on audience connection\, each set feels shared rather than staged. Expect popular covers in a unique guitar and percussion style\, all afternoon! \n\nArborfield local pub with outdoor cover\n\nThis cosy pub sports a fantastic outdoor area called the Hideout – a heated area with cover\, complete with a bar that takes food orders. Easter Sunday at the Bull Inn is a perfect place for families\, locals and music lovers to unwind ready for the summer season! \nAll things considered\, this upcoming show offers more than just live music. It’s a chance to experience indie folk at its most joyful and engaging\, performed in a venue that knows how to host a great night out. If you’re looking for an upbeat evening filled with melody and good company\, this is the one to catch. \nFor more live music check out Berkshireartistree.co.uk/live-music-events/
URL:https://berkshireartistree.co.uk/live-music-event/easter-sunday-in-arborfield-the-bull-inn-one-eyed-man/
LOCATION:The Bull Inn\, Arborfield Cross\, Arborfield Cross\, Reading\, RG2 9QD\, United Kingdom
CATEGORIES:Live Music
ATTACH;FMTTYPE=image/png:https://berkshireartistree.co.uk/wp-content/uploads/2026/03/easter-sunday_arborfield_one-eyed-man.png
END:VEVENT
END:VCALENDAR