BEGIN:VCALENDAR
VERSION:2.0
PRODID:-//Berkshire Artistree - ECPv6.15.20//NONSGML v1.0//EN
CALSCALE:GREGORIAN
METHOD:PUBLISH
X-ORIGINAL-URL:https://berkshireartistree.co.uk
X-WR-CALDESC:Events for Berkshire Artistree
REFRESH-INTERVAL;VALUE=DURATION:PT1H
X-Robots-Tag:noindex
X-PUBLISHED-TTL:PT1H
BEGIN:VTIMEZONE
TZID:UTC
BEGIN:STANDARD
TZOFFSETFROM:+0000
TZOFFSETTO:+0000
TZNAME:UTC
DTSTART:20250101T000000
END:STANDARD
END:VTIMEZONE
BEGIN:VEVENT
DTSTART;TZID=UTC:20260412T180000
DTEND;TZID=UTC:20260412T210000
DTSTAMP:20260423T210946
CREATED:20260321T122725Z
LAST-MODIFIED:20260407T093253Z
UID:10009731-1776016800-1776027600@berkshireartistree.co.uk
SUMMARY:Live music in Windsor\, Duke of Connaught | Abi Powell
DESCRIPTION:Live music in Windsor\nBracknell-based singer Abi Powell performing at The Duke of Connaught Windsor promises a lively\, crowd-friendly set led by a performer known for strong vocals and a real stage presence. \n➖ Abi Powell is a local singer with a huge stage presence➖ She performs solo and also fronts the band Fleece Lined➖ The Duke of Connaught Windsor is known for its relaxed layout\, cosy seating\, and lively bar➖ This upcoming live set suits guests looking for an intimate pub atmosphere with quality local music \nAbi Powell at The Duke of Connaught Windsor\nAbi Powell at The Duke of Connaught Windsor should appeal to anyone who enjoys confident live vocals\, personable performance style\, and the easy connection that comes with a close-up pub show. She has built a reputation on the local scene as both a performer and event organiser\, which gives her sets a natural sense of pace and audience awareness. As a result\, the room is likely to feel engaged from the first song onward. Her style works especially well in venues where atmosphere matters as much as musicianship. \nThe Duke of Connaught Windsor adds plenty to that experience. With its cosy seating\, welcoming pub character\, and lively bar energy\, it offers the sort of setting where live music feels immediate and social rather than distant. That balance makes the venue a strong match for Abi Powell’s stage presence and approachable style. \nAltogether\, Abi Powell at The Duke of Connaught Windsor looks like a smart choice for anyone wanting a relaxed night out with genuine live entertainment\, warm surroundings\, and a performer who knows how to hold a room. \nFor more live music check out Berkshireartistree.co.uk/live-music-events/
URL:https://berkshireartistree.co.uk/live-music-event/live-music-in-windsor-duke-of-connaught-abi-powell/
LOCATION:Duke Of Connaught\, Windsor\, 165 Arthur Rd\, Windsor\, SL4 1RZ
CATEGORIES:Live Music
ATTACH;FMTTYPE=image/jpeg:https://berkshireartistree.co.uk/wp-content/uploads/2024/04/Abi-Powell-Music_Berkshire-Artistree-e1713476553489.jpeg
END:VEVENT
END:VCALENDAR