BEGIN:VCALENDAR
VERSION:2.0
PRODID:-//Berkshire Artistree - ECPv6.15.20//NONSGML v1.0//EN
CALSCALE:GREGORIAN
METHOD:PUBLISH
X-WR-CALNAME:Berkshire Artistree
X-ORIGINAL-URL:https://berkshireartistree.co.uk
X-WR-CALDESC:Events for Berkshire Artistree
REFRESH-INTERVAL;VALUE=DURATION:PT1H
X-Robots-Tag:noindex
X-PUBLISHED-TTL:PT1H
BEGIN:VTIMEZONE
TZID:UTC
BEGIN:STANDARD
TZOFFSETFROM:+0000
TZOFFSETTO:+0000
TZNAME:UTC
DTSTART:20250101T000000
END:STANDARD
END:VTIMEZONE
BEGIN:VEVENT
DTSTART;TZID=UTC:20260420T203000
DTEND;TZID=UTC:20260420T230000
DTSTAMP:20260423T222624
CREATED:20241122T165053Z
LAST-MODIFIED:20250201T133250Z
UID:10009240-1776717000-1776726000@berkshireartistree.co.uk
SUMMARY:Open Mic night at GOGOS\, Windsor
DESCRIPTION:Open Mic night at GOGOS\, Windsor \nHosted by Damian Delahunty \n• Every Monday \nGOGOs Waterfront bar hosts their weekly open mic in Windsor\, led by the fantastic Damian. They have a superb spot down by the marina\, welcoming talent of all levels and have a great supportive environment! Damian runs a whole host open open mics\, for more live music in Berkshire visit BerkshireArtistree.co.uk/live-music-events
URL:https://berkshireartistree.co.uk/live-music-event/open-mic-night-at-gogos-windsor/2026-04-20/
LOCATION:GOGOS Waterfront Bar\, Racecourse Marina\, Maidenhead Rd\, Windsor\, SL4 5HT\, United Kingdom
CATEGORIES:Live music Windsor,Open mic
ATTACH;FMTTYPE=image/jpeg:https://berkshireartistree.co.uk/wp-content/uploads/2024/11/open-mic-windsor_Gogos_live-music_windsor_Berkshire-Artistree.jpg
END:VEVENT
END:VCALENDAR