BEGIN:VCALENDAR
VERSION:2.0
PRODID:-//Berkshire Artistree - ECPv6.15.20//NONSGML v1.0//EN
CALSCALE:GREGORIAN
METHOD:PUBLISH
X-WR-CALNAME:Berkshire Artistree
X-ORIGINAL-URL:https://berkshireartistree.co.uk
X-WR-CALDESC:Events for Berkshire Artistree
REFRESH-INTERVAL;VALUE=DURATION:PT1H
X-Robots-Tag:noindex
X-PUBLISHED-TTL:PT1H
BEGIN:VTIMEZONE
TZID:UTC
BEGIN:STANDARD
TZOFFSETFROM:+0000
TZOFFSETTO:+0000
TZNAME:UTC
DTSTART:20250101T000000
END:STANDARD
END:VTIMEZONE
BEGIN:VEVENT
DTSTART;TZID=UTC:20260426T180000
DTEND;TZID=UTC:20260426T210000
DTSTAMP:20260423T211138
CREATED:20260327T111032Z
LAST-MODIFIED:20260327T111113Z
UID:10009789-1777226400-1777237200@berkshireartistree.co.uk
SUMMARY:Live music in Windsor\, Duke of Connaught | Tom Martin
DESCRIPTION:Singer-songwriter Tom Martin performing at The Duke of Connaught in Windsor promises an intimate\, engaging night of live music rooted in strong melodies and authentic delivery. \nKey Points➖ Live performance from Tom Martin at The Duke of Connaught Windsor➖ Popular covers including Dire Straits\, Chappell Roan\, and Ben Howard➖ Acoustic-led set in a relaxed pub setting➖ Ideal for social evenings and live music fans \nTom Martin at The Duke of Connaught Windsor\nAudiences can expect Tom Martin at The Duke of Connaught Windsor to bring a warm\, engaging set built around well-loved covers. His performances focus on recognisable tracks\, giving each song a fresh yet respectful interpretation. From the smooth guitar lines of Dire Straits to the modern edge of Chappell Roan\, the setlist offers variety. In addition\, Ben Howard’s emotive style fits naturally into the mix\, creating a balanced and enjoyable flow. \nMoreover\, Tom’s easy stage presence and clear vocal delivery help create a strong connection with the room. The set moves at a steady pace\, allowing listeners to settle in while still keeping the energy alive. As a result\, the performance suits both dedicated music fans and those simply looking for a great night out. \nThe Duke of Connaught Windsor provides the perfect backdrop. Its welcoming pub atmosphere encourages both attentive listening and relaxed conversation. Guests can enjoy the music up close while still soaking in the social buzz of the venue. Therefore\, it works equally well for casual drinks or a focused live music experience. \nUltimately\, Tom Martin at The Duke of Connaught Windsor offers a lively\, familiar\, and easy-to-enjoy evening. With standout covers and a friendly setting\, it’s a strong choice for anyone seeking quality live music in Windsor. \nFor more live music check out Berkshireartistree.co.uk/live-music-events/
URL:https://berkshireartistree.co.uk/live-music-event/live-music-in-windsor-duke-of-connaught-tom-martin/
LOCATION:Duke Of Connaught\, Windsor\, 165 Arthur Rd\, Windsor\, SL4 1RZ
CATEGORIES:Live Music
ATTACH;FMTTYPE=image/jpeg:https://berkshireartistree.co.uk/wp-content/uploads/2025/06/Tom-Martin_guitarist-and-singer.jpg
END:VEVENT
BEGIN:VEVENT
DTSTART;TZID=UTC:20260426T200000
DTEND;TZID=UTC:20260426T220000
DTSTAMP:20260423T211138
CREATED:20260305T004824Z
LAST-MODIFIED:20260312T120201Z
UID:10009677-1777233600-1777240800@berkshireartistree.co.uk
SUMMARY:Live music in Henley\, The Old Bell | Steve Morano
DESCRIPTION:Live music in Henley with independent artist\n\n\n\n\n\n\n\n\n\n\n\n\n\n\nIndie folk singer-songwriter Steve Morano performing at The Old Bell Henley promises an intimate evening of thoughtful songwriting and warm live energy in one of Henley’s most characterful music-friendly pubs. \nKey Points \n➖ Acoustic folk and Americana-inspired performance from singer-songwriter Steve Morano➖ Intimate live setting inside The Old Bell Henley\, known for its welcoming atmosphere➖ Story-led songwriting with rich melodies and engaging stage presence➖ Ideal for fans of relaxed\, high-quality live music in a cosy pub venue \nWhy See Steve Morano at The Old Bell Henley\nWhen Steve Morano at The Old Bell Henley takes the stage\, audiences can expect heartfelt songwriting paired with an engaging acoustic performance style. Morano blends indie folk warmth with Americana storytelling\, creating songs that feel both personal and instantly relatable. His live shows focus on connection as much as music. Clear melodies\, reflective lyrics\, and relaxed humour between songs create a performance that feels welcoming from the first note. \nListeners who enjoy stripped-back performances often find Morano’s music especially rewarding. Each song reveals careful craftsmanship\, while his expressive delivery brings every lyric to life. As a result\, the audience becomes part of the experience rather than simply watching from the sidelines. \nThe Venue\nThe setting enhances the atmosphere perfectly. The Old Bell Henley is well known locally for hosting intimate live music nights in a classic pub environment. With its historic character\, comfortable layout\, and lively yet relaxed crowd\, the venue offers an ideal space for acoustic performances. Guests can enjoy a drink\, settle into the warm ambience\, and experience live music up close. \nAltogether\, Steve Morano at The Old Bell Henley offers a refreshing reminder of how powerful live acoustic music can be. For anyone seeking an evening of genuine songwriting and a welcoming venue atmosphere\, this performance delivers a memorable night of live music. \nFor more live music check out Berkshireartistree.co.uk/live-music-events/
URL:https://berkshireartistree.co.uk/live-music-event/live-music-in-henley-the-old-bell-steve-morano/2026-04-26/
LOCATION:The Old Bell\, Henley\, 20 Bell St\, Henley-on-Thames\, RG9 2BG\, United Kingdom
CATEGORIES:Live Music
ATTACH;FMTTYPE=image/jpeg:https://berkshireartistree.co.uk/wp-content/uploads/2026/03/Steve-Morano_live-music.jpg
END:VEVENT
END:VCALENDAR