BEGIN:VCALENDAR
VERSION:2.0
PRODID:-//Berkshire Artistree - ECPv6.15.20//NONSGML v1.0//EN
CALSCALE:GREGORIAN
METHOD:PUBLISH
X-WR-CALNAME:Berkshire Artistree
X-ORIGINAL-URL:https://berkshireartistree.co.uk
X-WR-CALDESC:Events for Berkshire Artistree
REFRESH-INTERVAL;VALUE=DURATION:PT1H
X-Robots-Tag:noindex
X-PUBLISHED-TTL:PT1H
BEGIN:VTIMEZONE
TZID:UTC
BEGIN:STANDARD
TZOFFSETFROM:+0000
TZOFFSETTO:+0000
TZNAME:UTC
DTSTART:20250101T000000
END:STANDARD
END:VTIMEZONE
BEGIN:VEVENT
DTSTART;TZID=UTC:20260501T183000
DTEND;TZID=UTC:20260501T213000
DTSTAMP:20260423T173701
CREATED:20260203T181211Z
LAST-MODIFIED:20260203T181211Z
UID:10009356-1777660200-1777671000@berkshireartistree.co.uk
SUMMARY:Live music at The Stables\, Wokingham | One Eyed Man
DESCRIPTION:Live Music at The Stables\, Wokingham\nWith One Eyed Man performing live \n \nOne Eyed Man at The Stables Wokingham promises an engaging live music experience shaped by strong songwriting\, characterful vocals\, and an instinctive connection with the room. Known across Berkshire for his versatile solo performances\, One Eyed Man blends acoustic guitar\, percussion\, and a husky\, expressive voice that carries effortlessly in an intimate venue setting. \nRooted in modern folk\, his live sets are thoughtfully paced and refreshingly unpredictable. Meanwhile\, audiences can expect emotionally driven interpretations of artists such as Mumford & Sons\, George Ezra\, and Noah Kahan\, alongside timeless songs by Tracy Chapman. Additionally\, he brings a warm\, accessible energy to well-loved favourites from Bon Jovi\, Bill Withers\, Jason Mraz\, and Teddy Swims. This balance of reflective moments and uplifting singalong tracks ensures a performance that feels both personal and inclusive. \nA natural fit for One Eyed Man at The Stables Wokingham\nThe characterful atmosphere of The Stables\, Wokingham makes it an ideal backdrop for this style of live music. Then\, as the room fills\, the venue’s relaxed layout and attentive acoustics allow subtle guitar work and vocal detail to shine. However\, when the energy lifts\, the space responds just as well\, creating an easy flow between laid-back listening and lively crowd engagement. \nFinally\, for those seeking an evening of live music that feels genuine\, skillfully delivered\, and welcoming\, One Eyed Man at The Stables Wokingham delivers on every level! \n \nFor more live music in Berkshire visit BerkshireArtistree.co.uk/live-music-events
URL:https://berkshireartistree.co.uk/live-music-event/live-music-at-the-stables-wokingham-one-eyed-man/2026-05-01/
LOCATION:The Stables\, Wokingham\, Cantley Park\, Milton Rd\, Wokingham\, RG40 1JY\, United Kingdom
CATEGORIES:Live Music
ATTACH;FMTTYPE=image/jpeg:https://berkshireartistree.co.uk/wp-content/uploads/2024/09/One-Eyed-Man_Stuart-Hutton_2_berkshire-artistree.jpg
END:VEVENT
BEGIN:VEVENT
DTSTART;TZID=UTC:20260501T190000
DTEND;TZID=UTC:20260501T230000
DTSTAMP:20260423T173701
CREATED:20250604T150914Z
LAST-MODIFIED:20250604T150914Z
UID:10009325-1777662000-1777676400@berkshireartistree.co.uk
SUMMARY:Open Mic at Ace Space\, Newbury
DESCRIPTION:Open Mic at Ace Space\, Newbury\nhosted by Ace Space \n• Every 1st Friday \nLooking for a welcoming space to perform your music\, poetry\, comedy or spoken word in Newbury? Or just after a great night out with live\, local entertainment? Ace Space’s legendary Open Mic Night is the place to be.\n  \nPLEASE ARRIVE EARLY TO SIGN UP – Musicians entry is free \nHeld in the heart of Newbury\, this unplugged open mic night offers a relaxed\, intimate setting where both seasoned performers and first-timers are warmly welcomed. Whether you’re a singer-songwriter ready to share new material\, or a music lover looking for a laid-back\, friendly vibe\, Ace Space delivers a unique community-driven evening.  \nThis open mic happens only once a month\, however opens doors for more shows and great networking opportunities with the Newbury arts scene! \nWhat to Expect: \n• An unplugged\, acoustic-friendly setup \n• A supportive\, creative atmosphere \n• A diverse lineup of local talent – from folk and blues to spoken word \n• Affordable bar and refreshments \nDoors open 7pm\, performances begin 8pm \nWant to Perform?\nSign-ups are taken on the night – just bring your instrument\, your voice\, or your words. Slots are typically 10 minutes each\, with a full PA and sound support provided. \nWhether you’re performing or watching\, the Ace Space Open Mic is one of Newbury’s most loved grassroots music nights. Come along\, meet the community\, and support local talent! See the venue and organiser links below for more details. \nFor more live music in Berkshire visit BerkshireArtistree.co.uk/live-music-events
URL:https://berkshireartistree.co.uk/live-music-event/open-mic-at-ace-space-newbury/2026-05-01/
LOCATION:Ace Space\, Newbuy\, St Nicholas Rd\, Newbury\, RG14 5PR
CATEGORIES:Open mic
ATTACH;FMTTYPE=image/png:https://berkshireartistree.co.uk/wp-content/uploads/2025/06/Open-Mic_Ace-Space_Newbury.png
END:VEVENT
BEGIN:VEVENT
DTSTART;TZID=UTC:20260501T200000
DTEND;TZID=UTC:20260501T220000
DTSTAMP:20260423T173701
CREATED:20260423T114805Z
LAST-MODIFIED:20260423T114944Z
UID:10009942-1777665600-1777672800@berkshireartistree.co.uk
SUMMARY:Bowsey Woods supported by Toby Taylor
DESCRIPTION:Indie acoustic outfit Bowsey Woods performing at Up The Junction in Reading\, joined by Toby Taylor for an intimate evening of melodic live music. \n➖ Bowsey Woods headline set blending melodic light and shade➖ Support performance from Toby Taylor➖ Live at Up The Junction\, Reading➖ Free entry show with a welcoming\, relaxed atmosphere➖ Evening performance in a close-up\, immersive setting \nBowsey Woods at Up The Junction Reading\nBowsey Woods with support from Toby Taylor offers a fantastic night of original live music by local artists from Reading.\n\nInspired by one of Andy’s favourite places to get away from the world\, the Bowsey Woods sound swings from mellow moods to biting environmental protest songs. Made up of talented and experienced musicians Tony McKenna (Drums)\, Kristian Wilkins (Bass) and Stewart Campbell (Lead Guitar)\, Andy fronts the band on vocals and guitar.\n Up the Junction is one of Reading’s oldest grassroots venues with a fantastic reputation for showcasing local talent regularly. Head down and support local live music! \nFor more live music check out Berkshireartistree.co.uk/live-music-events/
URL:https://berkshireartistree.co.uk/live-music-event/bowsey-woods-supported-by-toby-taylor/
LOCATION:Up The Junction\, Reading\, 231 London Rd\,\, Reading\, RG1 3NY
CATEGORIES:Original Music
ATTACH;FMTTYPE=image/jpeg:https://berkshireartistree.co.uk/wp-content/uploads/2026/04/bowsey-woods-at-up-the-junction.jpg
END:VEVENT
BEGIN:VEVENT
DTSTART;TZID=UTC:20260501T200000
DTEND;TZID=UTC:20260501T230000
DTSTAMP:20260423T173701
CREATED:20241016T215152Z
LAST-MODIFIED:20260121T143637Z
UID:10009229-1777665600-1777676400@berkshireartistree.co.uk
SUMMARY:Open Mic night at The Club Bar and Lounge\, Newbury
DESCRIPTION:Open Mic night at The Club Bar and Lounge\, Newbury\nhosted by Zoe Badman \n• Every 1st Friday \n\n\n\n\n\n\n\nA family-friendly open mic hosted by Zoe Badman at The Club Bar & Lounge creates an inviting space for creativity\, confidence\, and community. This Zoe Badman at The Club Bar & Lounge event is designed to welcome performers of all ages and abilities\, while keeping the atmosphere relaxed\, supportive\, and inclusive from start to finish. \nAs host\, Zoe Badman brings clarity and warmth to the evening. She guides the open mic with calm introductions and smooth transitions. As a result\, performers feel supported the moment they step on stage. Meanwhile\, her encouraging presence helps first-time artists settle quickly. More experienced performers also benefit from the clear structure and respectful pacing. Overall\, the night feels organised without losing its friendly\, open feel. \nThe setting strengthens that experience. The Club Bar & Lounge offers an intimate layout that encourages attentive listening. Additionally\, its comfortable atmosphere suits a family-friendly open mic\, where audiences can focus on the performers. The venue’s commitment to live culture ensures the emphasis stays on creativity\, participation\, and shared enjoyment. \nFor those interested in Zoe Badman at The Club Bar & Lounge\, this open mic stands out as a welcoming way to experience local talent. Finally\, it offers a chance to enjoy live performance in a space that values positivity and inclusion. \n\n\n\n\n\n\n\nFor more live music in Berkshire visit BerkshireArtistree.co.uk/live-music-events
URL:https://berkshireartistree.co.uk/live-music-event/open-mic-night-at-the-club-bar-and-lounge-newbury/2026-05-01/
LOCATION:Club Bar and Lounge\, Newbury\, 5 Cheap St\,\, Newbury\, RG14 5DD
CATEGORIES:live music newbury,Open mic
ATTACH;FMTTYPE=image/jpeg:https://berkshireartistree.co.uk/wp-content/uploads/2024/04/Club-Bar-and-lounge_-Newbury-Open-Mic_Berkshire-Artistree-e1769005946678.jpg
END:VEVENT
BEGIN:VEVENT
DTSTART;TZID=UTC:20260501T200000
DTEND;TZID=UTC:20260501T230000
DTSTAMP:20260423T173701
CREATED:20250422T065238Z
LAST-MODIFIED:20260210T082539Z
UID:10009327-1777665600-1777676400@berkshireartistree.co.uk
SUMMARY:Open Mic at The Butler\, Reading
DESCRIPTION:Open Mic at The Butler\, Reading \nhosted by Nicole Allan \n  \n• Every Friday \n  \nOne of Reading’s most popular open mic nights\, welcoming a range of acts from novice to expert. Run by Nicole Allan\, winner of the BA award 2022\, for her continuous efforts to encourage new artists to showcase their skills! See the venue and organiser links below for more details. The Butler hosts many live music nights\, both in the main bar and in the back room where bands play almost every weekend. The owners are huge supporters of live music in Reading and also allow Nicole to book her attendees at their annual music festival\, Marvellous. The Butler open mic night is situated on Chatham Street and is a short walk from Reading trains station. There is also 24 hour car parking directly opposite the pub.   Held every week\, the open mic at The Butler is super supportive and hosts a great community of musicians. \n  \nFor more live music in Berkshire visit BerkshireArtistree.co.uk/live-music-events
URL:https://berkshireartistree.co.uk/live-music-event/open-mic-at-the-butler-reading-25-2/2026-05-01/
LOCATION:The Butler\, Reading\, 85-91 Chatham St\, Reading\, RG1 7DS
CATEGORIES:Open mic
ATTACH;FMTTYPE=image/jpeg:https://berkshireartistree.co.uk/wp-content/uploads/2024/10/Open-Mic-Reading_The-Butler_Reading_Berkshire-Artistree-scaled.jpg
END:VEVENT
BEGIN:VEVENT
DTSTART;TZID=UTC:20260501T200000
DTEND;TZID=UTC:20260501T230000
DTSTAMP:20260423T173701
CREATED:20260114T163502Z
LAST-MODIFIED:20260114T163917Z
UID:10009663-1777665600-1777676400@berkshireartistree.co.uk
SUMMARY:Open Mic at The Oakingham Belle\, Wokingham
DESCRIPTION:Open Mic at The Oakingham Belle\nhosted by Abi Powell Music \n• First Friday of the month \n\n\n\n\n\n\n\n\n\n\n\n\n\n\n\n\n\n\n\n\n\n\nOpen Mic Night at The Oakingham Belle offers a relaxed and rewarding live music experience in the centre of Wokingham\, hosted by Abi Powell Music. Designed to welcome performers of all levels\, this monthly event brings together singers\, songwriters\, and musicians for an evening focused on creativity and shared enjoyment. From the outset\, Open Mic Night at The Oakingham Belle sets a supportive tone that encourages both confidence and experimentation on stage. \nMeanwhile\, Abi Powell Music guides the night with warmth and professionalism. As host\, Abi creates an environment where artists feel comfortable performing original material or putting their own spin on familiar songs. Additionally\, advance booking helps the evening run smoothly\, giving each performer a clear slot and a genuinely attentive audience. This structure allows performers to focus on their music rather than logistics\, which adds to the night’s easygoing flow. \nThe venue itself plays an essential role in shaping the atmosphere. The Oakingham Belle is a characterful local pub known for its welcoming interior and engaged crowd. As a result\, Open Mic Night at The Oakingham Belle feels social without becoming distracting\, making it ideal for live acoustic sets and intimate performances. \n\n\n\n\n\n\n\n\nFor more live music in Berkshire visit BerkshireArtistree.co.uk/live-music-events
URL:https://berkshireartistree.co.uk/live-music-event/open-mic-at-the-oakingham-belle-wokingham/2026-05-01/
LOCATION:The Oakingham Belle\, Oak Ave\, Wokingham\, RG40 1LH
CATEGORIES:Open mic
ATTACH;FMTTYPE=image/jpeg:https://berkshireartistree.co.uk/wp-content/uploads/2026/01/Open-Mic-at-The-Oakingham-Belle_Wokingham.jpg
END:VEVENT
END:VCALENDAR