BEGIN:VCALENDAR
VERSION:2.0
PRODID:-//Berkshire Artistree - ECPv6.15.20//NONSGML v1.0//EN
CALSCALE:GREGORIAN
METHOD:PUBLISH
X-WR-CALNAME:Berkshire Artistree
X-ORIGINAL-URL:https://berkshireartistree.co.uk
X-WR-CALDESC:Events for Berkshire Artistree
REFRESH-INTERVAL;VALUE=DURATION:PT1H
X-Robots-Tag:noindex
X-PUBLISHED-TTL:PT1H
BEGIN:VTIMEZONE
TZID:UTC
BEGIN:STANDARD
TZOFFSETFROM:+0000
TZOFFSETTO:+0000
TZNAME:UTC
DTSTART:20250101T000000
END:STANDARD
END:VTIMEZONE
BEGIN:VEVENT
DTSTART;TZID=UTC:20260501T200000
DTEND;TZID=UTC:20260501T220000
DTSTAMP:20260423T210309
CREATED:20260423T114805Z
LAST-MODIFIED:20260423T114944Z
UID:10009942-1777665600-1777672800@berkshireartistree.co.uk
SUMMARY:Bowsey Woods supported by Toby Taylor
DESCRIPTION:Indie acoustic outfit Bowsey Woods performing at Up The Junction in Reading\, joined by Toby Taylor for an intimate evening of melodic live music. \n➖ Bowsey Woods headline set blending melodic light and shade➖ Support performance from Toby Taylor➖ Live at Up The Junction\, Reading➖ Free entry show with a welcoming\, relaxed atmosphere➖ Evening performance in a close-up\, immersive setting \nBowsey Woods at Up The Junction Reading\nBowsey Woods with support from Toby Taylor offers a fantastic night of original live music by local artists from Reading.\n\nInspired by one of Andy’s favourite places to get away from the world\, the Bowsey Woods sound swings from mellow moods to biting environmental protest songs. Made up of talented and experienced musicians Tony McKenna (Drums)\, Kristian Wilkins (Bass) and Stewart Campbell (Lead Guitar)\, Andy fronts the band on vocals and guitar.\n Up the Junction is one of Reading’s oldest grassroots venues with a fantastic reputation for showcasing local talent regularly. Head down and support local live music! \nFor more live music check out Berkshireartistree.co.uk/live-music-events/
URL:https://berkshireartistree.co.uk/live-music-event/bowsey-woods-supported-by-toby-taylor/
LOCATION:Up The Junction\, Reading\, 231 London Rd\,\, Reading\, RG1 3NY
CATEGORIES:Original Music
ATTACH;FMTTYPE=image/jpeg:https://berkshireartistree.co.uk/wp-content/uploads/2026/04/bowsey-woods-at-up-the-junction.jpg
END:VEVENT
BEGIN:VEVENT
DTSTART;TZID=UTC:20260501T200000
DTEND;TZID=UTC:20260501T230000
DTSTAMP:20260423T210309
CREATED:20250422T065238Z
LAST-MODIFIED:20260210T082539Z
UID:10009327-1777665600-1777676400@berkshireartistree.co.uk
SUMMARY:Open Mic at The Butler\, Reading
DESCRIPTION:Open Mic at The Butler\, Reading \nhosted by Nicole Allan \n  \n• Every Friday \n  \nOne of Reading’s most popular open mic nights\, welcoming a range of acts from novice to expert. Run by Nicole Allan\, winner of the BA award 2022\, for her continuous efforts to encourage new artists to showcase their skills! See the venue and organiser links below for more details. The Butler hosts many live music nights\, both in the main bar and in the back room where bands play almost every weekend. The owners are huge supporters of live music in Reading and also allow Nicole to book her attendees at their annual music festival\, Marvellous. The Butler open mic night is situated on Chatham Street and is a short walk from Reading trains station. There is also 24 hour car parking directly opposite the pub.   Held every week\, the open mic at The Butler is super supportive and hosts a great community of musicians. \n  \nFor more live music in Berkshire visit BerkshireArtistree.co.uk/live-music-events
URL:https://berkshireartistree.co.uk/live-music-event/open-mic-at-the-butler-reading-25-2/2026-05-01/
LOCATION:The Butler\, Reading\, 85-91 Chatham St\, Reading\, RG1 7DS
CATEGORIES:Open mic
ATTACH;FMTTYPE=image/jpeg:https://berkshireartistree.co.uk/wp-content/uploads/2024/10/Open-Mic-Reading_The-Butler_Reading_Berkshire-Artistree-scaled.jpg
END:VEVENT
END:VCALENDAR