BEGIN:VCALENDAR
VERSION:2.0
PRODID:-//Berkshire Artistree - ECPv6.15.20//NONSGML v1.0//EN
CALSCALE:GREGORIAN
METHOD:PUBLISH
X-WR-CALNAME:Berkshire Artistree
X-ORIGINAL-URL:https://berkshireartistree.co.uk
X-WR-CALDESC:Events for Berkshire Artistree
REFRESH-INTERVAL;VALUE=DURATION:PT1H
X-Robots-Tag:noindex
X-PUBLISHED-TTL:PT1H
BEGIN:VTIMEZONE
TZID:UTC
BEGIN:STANDARD
TZOFFSETFROM:+0000
TZOFFSETTO:+0000
TZNAME:UTC
DTSTART:20250101T000000
END:STANDARD
END:VTIMEZONE
BEGIN:VEVENT
DTSTART;TZID=UTC:20260503T180000
DTEND;TZID=UTC:20260503T210000
DTSTAMP:20260423T210514
CREATED:20260322T130150Z
LAST-MODIFIED:20260322T130457Z
UID:10009734-1777831200-1777842000@berkshireartistree.co.uk
SUMMARY:Live music in Windsor | Bank Holiday Special
DESCRIPTION: with JPR Music at the Duke Of Connaught\nJPR Music performing at the  Duke of Connaught Windsor delivers a high-energy Bank Holiday special packed with lively\, feel-good live music in a buzzing pub atmosphere. \n➖ Bank Holiday special set to bring a vibrant\, high-spirited crowd➖ JPR Music delivers a dynamic\, crowd-focused live performance➖ Duke of Connaught Windsor known for its warm\, lively pub setting➖ Ideal for those seeking a big atmosphere and great live music in Windsor \nJPR Music at Duke of Connaught Windsor\nJPR Music at Duke of Connaught Windsor is shaping up to be a properly lively Bank Holiday event\, built for those who want more than just background music. Expect a set that lifts the room from the first note\, blending upbeat energy\, familiar favourites\, and a performance style that keeps the crowd engaged throughout. Whether you arrive early or join mid-flow\, the momentum of the night will be hard to resist. \nThe Duke of Connaught Windsor is the perfect setting for this kind of occasion. Known for its welcoming charm\, the venue naturally fills with energy when live music takes centre stage. On a Bank Holiday\, that atmosphere only intensifies\, creating a space that feels busy\, social\, and full of movement. Guests can enjoy a drink\, connect with friends\, and still feel completely part of the action as the music carries across the room. \nAll things considered\, JPR Music at Duke of Connaught Windsor promises a buzzing night of live entertainment. With a packed atmosphere\, strong crowd interaction\, and a soundtrack designed to keep spirits high\, this is exactly the kind of event that defines a great Bank Holiday night out in Windsor. \nFor more live music check out Berkshireartistree.co.uk/live-music-events/
URL:https://berkshireartistree.co.uk/live-music-event/live-music-in-windsor-bank-holiday/
LOCATION:Duke Of Connaught\, Windsor\, 165 Arthur Rd\, Windsor\, SL4 1RZ
CATEGORIES:Live Music
ATTACH;FMTTYPE=image/png:https://berkshireartistree.co.uk/wp-content/uploads/2026/03/bank-holiday-windsor_live-music.png
END:VEVENT
END:VCALENDAR