BEGIN:VCALENDAR
VERSION:2.0
PRODID:-//Berkshire Artistree - ECPv6.15.20//NONSGML v1.0//EN
CALSCALE:GREGORIAN
METHOD:PUBLISH
X-ORIGINAL-URL:https://berkshireartistree.co.uk
X-WR-CALDESC:Events for Berkshire Artistree
REFRESH-INTERVAL;VALUE=DURATION:PT1H
X-Robots-Tag:noindex
X-PUBLISHED-TTL:PT1H
BEGIN:VTIMEZONE
TZID:UTC
BEGIN:STANDARD
TZOFFSETFROM:+0000
TZOFFSETTO:+0000
TZNAME:UTC
DTSTART:20250101T000000
END:STANDARD
END:VTIMEZONE
BEGIN:VEVENT
DTSTART;TZID=UTC:20260510T200000
DTEND;TZID=UTC:20260510T220000
DTSTAMP:20260423T224248
CREATED:20260301T151447Z
LAST-MODIFIED:20260312T122258Z
UID:10009614-1778443200-1778450400@berkshireartistree.co.uk
SUMMARY:Live music in Henley\, The Old Bell | Nicole Allan
DESCRIPTION:Live music at the Old Bell\nCountry folk artist Nicole Allan performing at The Old Bell\, Henley brings authentic Americana-infused storytelling to one of Berkshire’s most atmospheric live music settings. \nKey Points➖ Country folk sound with heartfelt lyrics and warm acoustic tones➖ Intimate Henley venue known for cosy ambience➖ A must for fans of rootsy\, story-driven live music \nNicole Allan at The Old Bell\, Henley\nNicole Allan at The Old Bell\, Henley promises an evening of rich country folk melodies and heartfelt songwriting delivered with sincerity and poise. Her sound blends classic country influences with modern folk textures\, creating songs that feel both timeless and personal. On stage\, she pairs expressive vocals with acoustic warmth\, drawing audiences into narratives shaped by emotion\, resilience\, and reflection. As a result\, every performance feels genuine and immersive rather than distant or polished. \nEqually important\, The Old Bell provides the perfect backdrop for this style of music. The venue’s characterful interiors\, welcoming pub atmosphere\, and carefully selected drinks menu create an inviting space where live performance can truly shine. Guests can relax with a locally brewed pint or a favourite wine while enjoying clear views of the stage in a setting designed for connection. Because of its cosy layout\, even the quietest lyric carries weight and meaning. \nTogether\, Nicole Allan at The Old Bell\, Henley offers more than a gig; it delivers a shared musical experience rooted in storytelling and atmosphere. For lovers of authentic country folk and intimate live shows\, this upcoming performance stands out as a memorable night of music in the heart of Henley. \nFor more live music check out Berkshireartistree.co.uk/live-music-events/
URL:https://berkshireartistree.co.uk/live-music-event/live-music-in-henley-the-old-bell-nicole-allan/2026-05-10/
LOCATION:The Old Bell\, Henley\, 20 Bell St\, Henley-on-Thames\, RG9 2BG\, United Kingdom
CATEGORIES:Live Music
ATTACH;FMTTYPE=image/jpeg:https://berkshireartistree.co.uk/wp-content/uploads/2026/03/Nicole-Allan_singer_country.jpeg
END:VEVENT
END:VCALENDAR