BEGIN:VCALENDAR
VERSION:2.0
PRODID:-//Berkshire Artistree - ECPv6.15.20//NONSGML v1.0//EN
CALSCALE:GREGORIAN
METHOD:PUBLISH
X-ORIGINAL-URL:https://berkshireartistree.co.uk
X-WR-CALDESC:Events for Berkshire Artistree
REFRESH-INTERVAL;VALUE=DURATION:PT1H
X-Robots-Tag:noindex
X-PUBLISHED-TTL:PT1H
BEGIN:VTIMEZONE
TZID:UTC
BEGIN:STANDARD
TZOFFSETFROM:+0000
TZOFFSETTO:+0000
TZNAME:UTC
DTSTART:20250101T000000
END:STANDARD
END:VTIMEZONE
BEGIN:VEVENT
DTSTART;TZID=UTC:20260516T190000
DTEND;TZID=UTC:20260516T210000
DTSTAMP:20260423T192838
CREATED:20260324T170610Z
LAST-MODIFIED:20260324T171301Z
UID:10009738-1778958000-1778965200@berkshireartistree.co.uk
SUMMARY:Live music in Pangbourne\, Ada Meyhane | One Eyed Man
DESCRIPTION:Authentic Turkish cuisine with live music\nIndie Folk artist One Eyed Man performing at Ada Meyhane Pangbourne delivers a vibrant\, genre-blending night rich in rhythm and atmosphere. \nKey Points➖ Dynamic live set from One Eyed Man\, known for classic covers with rustic vocals➖ Intimate performance setting at Ada Meyhane Pangbourne➖ Lively\, social ambience ideal for music lovers and groups➖ Distinctive blend of global influences and contemporary sounds \nOne Eyed Man at Ada Meyhane Pangbourne\nOne Eyed Man at Ada Meyhane Pangbourne promises a captivating live experience driven by musical diversity and spontaneous energy. The collective’s sound draws from multiple traditions\, creating a set that feels fresh\, expressive\, and deeply engaging. As a result\, audiences can expect tight musicianship paired with moments of improvisation\, giving each performance a unique edge. Their ability to shift between moods keeps listeners hooked from the opening note to the final encore. \nMeanwhile\, Ada Meyhane Pangbourne provides the perfect backdrop. Known for its warm\, welcoming atmosphere and stylish interior\, the venue enhances the connection between performers and audience. Guests can enjoy the performance in a setting that encourages both relaxation and lively interaction. The layout allows for an up-close musical experience\, making every detail of the performance feel immediate and immersive. \n Your visit is an opportunity to enjoy live music in Pangbourne\, a setting that blends culture\, cuisine\, and sound seamlessly. For those seeking an engaging night out with character and quality\, this performance offers exceptional value and atmosphere. \nFor more live music check out Berkshireartistree.co.uk/live-music-events/
URL:https://berkshireartistree.co.uk/live-music-event/live-music-in-pangbourne-ada-meyhane-one-eyed-man/2026-05-16/
LOCATION:Ada Meyhane\, Pangbourne\, 3-5 Reading Rd\, Pangbourne\,\, Reading\,\, RG8 7LR\, United Kingdom
CATEGORIES:Live Music
ATTACH;FMTTYPE=image/jpeg:https://berkshireartistree.co.uk/wp-content/uploads/2026/03/One-Eyed-Man_singer-scaled.jpg
END:VEVENT
BEGIN:VEVENT
DTSTART;TZID=UTC:20260516T200000
DTEND;TZID=UTC:20260516T230000
DTSTAMP:20260423T192838
CREATED:20250424T094827Z
LAST-MODIFIED:20251127T181419Z
UID:10008513-1778961600-1778972400@berkshireartistree.co.uk
SUMMARY:Live music at Mad Squirrel\, High Wycombe | One Eyed Man
DESCRIPTION:Live Music at The Mad Squirrel\, High Wycombe\nWith One Eyed Man performing live \nIf you’re searching for live music in High Wycombe this weekend\, look no further. One Eyed Man will be performing at Mad Squirrel Tap & Bottle Shop for an evening of raw\, original acoustic music. \nOne Eyed Man (Stu Hutton) is a UK-based singer-songwriter who blends folk with rock\, pop\, country and classic covers. His distinctive voice\, honest lyrics\, and emotionally charged performances have earned him a strong following both locally and across the country. Stu has curated a cult following of fans in High Wycombe since his last two electric performances\, including Frogfest on the May bank holiday weekend! You can find more about him at oneyedmanofficial.com. \nMeanwhile\, the venue itself is one of High Wycombe’s favourite gathering spots. Mad Squirrel Tap & Bottle Shop offers an industrial-style interior\, award-winning craft beer\, and a laid-back atmosphere. As a result\, it’s a natural choice for anyone looking to enjoy live music in a relaxed\, social setting. \nIn addition to its drinks selection\, the venue supports independent musicians\, creating a space where creativity thrives. Whether you’re a longtime fan or new to One Eyed Man’s sound\, this performance is an excellent opportunity to experience his music up close. \nThis night promises more than just entertainment. It’s a chance to connect with great music\, local culture\, and an energetic crowd. Be sure to arrive early to secure a good spot and settle in with your favourite brew. \nFor more live music in Berkshire visit BerkshireArtistree.co.uk/live-music-events
URL:https://berkshireartistree.co.uk/live-music-event/live-music-at-the-mad-squirrel-high-wycombe-one-eyed-man/2026-05-16/
LOCATION:Mad Squirrel\, High Wycombe\, 4-5 Church St\, High Wycombe\, HP11 2DE
CATEGORIES:Live Music,live music high wycombe
ATTACH;FMTTYPE=image/webp:https://berkshireartistree.co.uk/wp-content/uploads/2025/04/One-Eyed-Man_berkshire-artistree_Poster.webp
END:VEVENT
END:VCALENDAR