BEGIN:VCALENDAR
VERSION:2.0
PRODID:-//Berkshire Artistree - ECPv6.15.20//NONSGML v1.0//EN
CALSCALE:GREGORIAN
METHOD:PUBLISH
X-ORIGINAL-URL:https://berkshireartistree.co.uk
X-WR-CALDESC:Events for Berkshire Artistree
REFRESH-INTERVAL;VALUE=DURATION:PT1H
X-Robots-Tag:noindex
X-PUBLISHED-TTL:PT1H
BEGIN:VTIMEZONE
TZID:UTC
BEGIN:STANDARD
TZOFFSETFROM:+0000
TZOFFSETTO:+0000
TZNAME:UTC
DTSTART:20250101T000000
END:STANDARD
END:VTIMEZONE
BEGIN:VEVENT
DTSTART;TZID=UTC:20260517T200000
DTEND;TZID=UTC:20260517T220000
DTSTAMP:20260423T224511
CREATED:20260203T154230Z
LAST-MODIFIED:20260225T223908Z
UID:10009331-1779048000-1779055200@berkshireartistree.co.uk
SUMMARY:Live music at  The Old Bell\, Henley | One Eyed Man
DESCRIPTION:Live Music at The Old Bell\, Henley\nWith One Eyed Man performing live \nIndie folk artist One Eyed Man performing at The Old Bell Henley promises an atmospheric evening of heartfelt songwriting in one of Henley’s most characterful venues. \nKey Points\n➖ One Eyed Man live at The Old Bell Henley➖ Indie folk shaped by Noah Kahan\, Mumford & Sons\, Myles Smith and Bastille➖ Classic songwriting echoes of Bob Dylan and Bill Withers➖ Intimate\, historic pub setting ideal for immersive live music \nOne Eyed Man at The Old Bell Henley\nOne Eyed Man at The Old Bell Henley blends modern indie folk energy with the timeless craft of classic singer-songwriters. Inspiration from artists such as Noah Kahan\, Mumford & Sons\, Myles Smith\, and Bastille. The set features soaring melodies and emotionally direct lyrics. At the same time\, the influence of Bob Dylan and Bill Withers brings depth and warmth to the storytelling. This balance creates a sound that feels contemporary yet rooted in enduring musical tradition. \nLive\, One Eyed Man delivers dynamic acoustic arrangements that move from intimate\, reflective verses to powerful\, uplifting choruses. Expressive vocals and confident guitar work draw the audience into each song’s narrative. The result is an engaging experience that feels both personal and expansive\, with moments built for quiet reflection as well as collective singalongs. \nMeanwhile\, The Old Bell Henley provides the perfect backdrop. Known for its historic charm and welcoming pub atmosphere\, the venue offers a cosy interior that enhances every lyrical detail. Guests can enjoy quality drinks and a relaxed ambience while staying close to the action. \nAltogether\, One Eyed Man at The Old Bell Henley offers a compelling night of indie folk\, rich in melody\, meaning\, and live connection. \nFor more live music in Berkshire visit BerkshireArtistree.co.uk/live-music-events
URL:https://berkshireartistree.co.uk/live-music-event/live-music-at-the-old-bell-henley-one-eyed-man/2026-05-17/
LOCATION:The Old Bell\, Henley\, 20 Bell St\, Henley-on-Thames\, RG9 2BG\, United Kingdom
CATEGORIES:Live Music
ATTACH;FMTTYPE=image/webp:https://berkshireartistree.co.uk/wp-content/uploads/2025/04/One-Eyed-Man_berkshire-artistree_Poster.webp
END:VEVENT
END:VCALENDAR