BEGIN:VCALENDAR
VERSION:2.0
PRODID:-//Berkshire Artistree - ECPv6.15.20//NONSGML v1.0//EN
CALSCALE:GREGORIAN
METHOD:PUBLISH
X-ORIGINAL-URL:https://berkshireartistree.co.uk
X-WR-CALDESC:Events for Berkshire Artistree
REFRESH-INTERVAL;VALUE=DURATION:PT1H
X-Robots-Tag:noindex
X-PUBLISHED-TTL:PT1H
BEGIN:VTIMEZONE
TZID:UTC
BEGIN:STANDARD
TZOFFSETFROM:+0000
TZOFFSETTO:+0000
TZNAME:UTC
DTSTART:20250101T000000
END:STANDARD
END:VTIMEZONE
BEGIN:VEVENT
DTSTART;TZID=UTC:20260521T190000
DTEND;TZID=UTC:20260521T220000
DTSTAMP:20260423T224055
CREATED:20251124T091646Z
LAST-MODIFIED:20251124T091651Z
UID:10009715-1779390000-1779400800@berkshireartistree.co.uk
SUMMARY:Open Mic at The Royal Oak\, Bracknell
DESCRIPTION:Open Mic at The Royal Oak\, Bracknell\nhosted by Abi Powell Music \n• Every 3rd Thursday \n  \nLooking for an open mic near Wokingham or Bracknell? The Open Mic at The Royal Oak is the perfect place to perform or enjoy live music. \nHosted by local talent Abi Powell\, the event offers a warm and supportive stage for musicians\, singers\, and spoken word artists. It is open to everyone\, from experienced performers to first-time acts. The friendly audience creates a relaxed atmosphere that makes performing feel easy. \nThe Royal Oak in Bracknell is a cosy pub known for its charm\, great drinks\, and welcoming community. On open mic nights\, the space transforms into a lively hub for live entertainment. Performers and listeners come from Bracknell\, Wokingham\, and across Berkshire. You can enjoy local beer\, fresh food\, and a variety of creative performances. \nSign up on the night or message Abi Powell in advance via Facebook. Arrive early to secure your slot because performance spots fill quickly. The evening features acoustic music\, covers\, original songs\, and spoken word. The variety keeps every show fresh and exciting. \nWhether you want to perform or simply listen\, this event offers a fun night out. You will meet other local creatives and discover new talent. Plus\, it is a great way to support the local music scene. \nJoin us for the next Open Mic at The Royal Oak. Enjoy a drink\, cheer on performers\, and celebrate Bracknell’s vibrant live music culture. \n  \nFor more live music in Berkshire visit our events page.
URL:https://berkshireartistree.co.uk/live-music-event/open-mic-at-the-royal-oak-bracknell-2/2026-05-21/
LOCATION:The Royal Oak\, Bracknell\, London Rd\, Bracknell\, RG12 2NN
CATEGORIES:live music bracknell,Open mic
ATTACH;FMTTYPE=image/jpeg:https://berkshireartistree.co.uk/wp-content/uploads/2025/08/Open-Mic_The-Royal-Oak_Bracknell.jpeg
END:VEVENT
BEGIN:VEVENT
DTSTART;TZID=UTC:20260521T190000
DTEND;TZID=UTC:20260521T220000
DTSTAMP:20260423T224055
CREATED:20260327T103646Z
LAST-MODIFIED:20260327T104047Z
UID:10009783-1779390000-1779400800@berkshireartistree.co.uk
SUMMARY:Open Mic In Windsor | Windsor & Eton Brewery
DESCRIPTION:Open mic night hosted by Windsor Music at Windsor and Eton Brewery brings an inviting platform for emerging and established performers alike. \n• Every other Thursday \nKey Points➖ Hosted by Windsor Music\, known for supporting grassroots live talent➖ Open mic format welcoming musicians\, singers\, and acoustic acts➖ Intimate brewery setting with a relaxed\, creative atmosphere➖ Ideal for testing new material or enjoying diverse live performances➖ To book a slot: email unit4@webrew.co.uk or call 01753854075 \nWindsor Music Open Mic at Windsor and Eton Brewery\nOpen Mic at the brewery offers a range of locally brewed beers and ales\, as well as serving pizza and other snacks. Performers can step up and share original songs\, covers\, or stripped-back sets in front of an attentive\, music-loving crowd. As a result\, the night often delivers a rich mix of styles\, from acoustic folk to indie\, soul\, and beyond. Whether you’re refining your craft or performing for the first time\, this welcoming environment encourages authentic expression and genuine connection. \nMeanwhile\, Windsor & Eton Brewery provides the perfect backdrop. Known for its laid-back brewery atmosphere and carefully crafted drinks\, the venue creates a comfortable environment where both artists and audiences can unwind. The intimate layout ensures every performance feels personal\, while the ambient buzz of conversation and clinking glasses adds to the night’s charm. \nUltimately\, this open mic is more than just a showcase—it’s a hub for local talent and music enthusiasts. With each set bringing something new\, audiences can expect an engaging and unpredictable evening. If you’re looking to perform or simply soak up live music in a relaxed setting\, this is a standout choice worth experiencing. \nFor more live music check out Berkshireartistree.co.uk/live-music-events/
URL:https://berkshireartistree.co.uk/live-music-event/open-mic-in-windsor-windsor-eton-brewery/2026-05-21/
LOCATION:Windsor and Eton Brewery\, Windsor\, 1-4 Vansittart Estate\, Duke St\,\, Windsor\, SL4 1SE
CATEGORIES:Open mic
ATTACH;FMTTYPE=image/jpeg:https://berkshireartistree.co.uk/wp-content/uploads/2026/03/windsor-and-eton-brewery_windsor.jpg
END:VEVENT
BEGIN:VEVENT
DTSTART;TZID=UTC:20260521T193000
DTEND;TZID=UTC:20260521T220000
DTSTAMP:20260423T224055
CREATED:20251124T135027Z
LAST-MODIFIED:20251124T135028Z
UID:10009511-1779391800-1779400800@berkshireartistree.co.uk
SUMMARY:Open Mic at The Victoria Arms\, Wokingham
DESCRIPTION:Open Mic at The Victoria Arms\, Wokingham\nhosted by The Victoria Arms \n• Every Thursday \nOpen mic at the Victoria Arms\, located on the far side of Wokingham on Easthampstead Road. The night is one every week and anyone is welcome to play! See the venue and organiser links below for more details. \nFor more live music in Berkshire visit BerkshireArtistree.co.uk/live-music-events
URL:https://berkshireartistree.co.uk/live-music-event/open-mic-at-the-victoria-arms-wokingham-7-2/2026-05-21/
LOCATION:The Victoria Arms\, 1 Easthampstead Rd\, Wokgingham\, RG40 2EH\, United Kingdom
CATEGORIES:live music wokingham,Open mic
ATTACH;FMTTYPE=image/jpeg:https://berkshireartistree.co.uk/wp-content/uploads/2024/10/Open-Mic-at-The-Victoria-Arms_Wokingham_Berkshire-Artistree.jpg
END:VEVENT
BEGIN:VEVENT
DTSTART;TZID=UTC:20260521T193000
DTEND;TZID=UTC:20260521T230000
DTSTAMP:20260423T224055
CREATED:20260311T171356Z
LAST-MODIFIED:20260311T171701Z
UID:10009674-1779391800-1779404400@berkshireartistree.co.uk
SUMMARY:Open mic in Wokingham | The Outhouse
DESCRIPTION:Open Mic Night at The Outhouse Brewery in Wokingham invites local performers and music lovers alike to experience a relaxed evening of grassroots live music in one of Wokingham’s most welcoming craft beer venues. \nKey Points \n➖ Open Mic Night at The Outhouse Brewery➖ Hosted by local musician Dan Cottle➖ Performers can book a 15-minute slot by messaging the host or speaking to the bar team➖ Open to singers\, songwriters\, acoustic acts\, and emerging performers➖ Live music runs from 7:30 PM until close➖ A friendly setting for discovering new talent and enjoying local live music \nLive Music and Community Energy at The Outhouse Brewery\nOpen Mic Night in Wokingham at The Outhouse Brewery is all about authentic live music and community spirit. Hosted by Dan Cottle\, the evening welcomes a mix of performers — from first-time singers to experienced local musicians. Each act gets a short performance slot\, creating a lively rotation of styles\, voices\, and original songs throughout the night. As a result\, audiences can expect an unpredictable and engaging showcase of Berkshire’s grassroots talent. \nMeanwhile\, the venue itself adds something special to the experience. The Outhouse Brewery is a working brewery and craft beer bar\, known for pouring a carefully chosen selection of independent beers alongside its own freshly brewed creations. Guests can explore rotating draft lines\, discover new guest brews\, or enjoy drinks from the well-stocked craft beer fridge. The relaxed taproom atmosphere encourages conversation and makes it easy to connect with performers and fellow music fans. \nUltimately\, Open Mic Night at The Outhouse Brewery is more than a gig — it’s a gathering point for the local music scene. Whether you want to step up to the mic or simply enjoy the variety of live performances\, the evening offers a laid-back way to experience fresh music\, great drinks\, and a welcoming crowd. \nFor more live music check out Berkshireartistree.co.uk/live-music-events/
URL:https://berkshireartistree.co.uk/live-music-event/open-mic-in-wokingham-the-outhouse/2026-05-21/
LOCATION:The Outhouse\, Wokigham\, Southgate House\, Alexandra Ct\, Wokingham\, RG40 2SL
CATEGORIES:Open mic
ATTACH;FMTTYPE=image/jpeg:https://berkshireartistree.co.uk/wp-content/uploads/2026/03/the-outhouse_wokingham_live-music.jpg
END:VEVENT
BEGIN:VEVENT
DTSTART;TZID=UTC:20260521T200000
DTEND;TZID=UTC:20260521T220000
DTSTAMP:20260423T224055
CREATED:20260217T174857Z
LAST-MODIFIED:20260217T174946Z
UID:10009721-1779393600-1779400800@berkshireartistree.co.uk
SUMMARY:Open Mic at The Swan\, Three Mile Cross
DESCRIPTION:Open Mic at The Swan\, Three Mile Cross  \nFocus Keyphrase: Joe Bingham at The Swan \nExperience the energy of live music with Joe Bingham at The Swan\, a fresh Open Mic night at The Swan in Three Mile Cross\, Reading. This new Open Mic at The Swan invites music lovers and performers alike to gather in a welcoming\, community-driven setting. With Joe Bingham leading the night\, audiences can expect an authentic showcase of musicianship in an intimate pub atmosphere designed for real connection and raw talent. \nJoe Bingham live at The Swan Open Mic\nAs a performer\, Joe Bingham brings heartfelt vocals and expressive songwriting that shine in a stripped-back live setting. His sound blends melodic acoustic textures with engaging storytelling\, creating a set that feels both personal and uplifting. Meanwhile\, the Open Mic format keeps the evening dynamic\, with emerging artists stepping up to share original songs and crowd favourites. As a result\, every performance feels spontaneous and alive. \nThe Swan provides the perfect backdrop for this live music experience. Known for its warm interiors and relaxed charm\, the venue offers a range of beers and a great menu. Additionally\, its reputation as a local gathering spot makes it ideal for discovering new talent while enjoying a great night out. \nFor more open mics in Berkshire\, visit our events page
URL:https://berkshireartistree.co.uk/live-music-event/open-mic-at-the-swan-three-mile-cross/2026-05-21/
LOCATION:The Swan\, Three Mile Cross\, Basingstoke Rd\, Reading\, RG7 1AT\, United Kingdom
CATEGORIES:Open mic
ATTACH;FMTTYPE=image/jpeg:https://berkshireartistree.co.uk/wp-content/uploads/2026/02/Open-mic-at-The-Swan_Three-mile-Cross.jpg
END:VEVENT
BEGIN:VEVENT
DTSTART;TZID=UTC:20260521T200000
DTEND;TZID=UTC:20260521T223000
DTSTAMP:20260423T224055
CREATED:20250315T114500Z
LAST-MODIFIED:20260218T153818Z
UID:10009726-1779393600-1779402600@berkshireartistree.co.uk
SUMMARY:Open Mic at The Mad Squirrel\, High Wycombe
DESCRIPTION:Open Mic at The Mad Squirrel\, High Wycombe\nhosted by Andy Barrett \n\n\n\n\n\n\n\n\n\n\nOpen Mic at the Mad Squirrel is a standout live music night in the heart of High Wycombe. Located on the high street and run by Andy Barrett\, this popular event has quickly become a key date in the local music calendar. Over the past year\, Open Mic at the Mad Squirrel has grown into one of the town’s most respected grassroots showcases. As a result\, performers and audiences alike return week after week for an evening built on creativity and connection. \nWhy Open Mic at the Mad Squirrel Leads High Wycombe’s Live Scene\nEvery Open Mic at the Mad Squirrel delivers a welcoming and supportive atmosphere. First-time performers share the stage with experienced musicians\, and each act receives genuine attention from an engaged crowd. Because the night values inclusivity\, talent of all levels feels encouraged to take part. Meanwhile\, the variety of styles keeps the energy fresh and unpredictable. \nIn addition\, the venue itself plays a vital role in the event’s success. Its central location makes it easy to attend\, and its intimate setting ensures that every lyric and chord carries impact. The friendly community that surrounds Open Mic at the Mad Squirrel creates a safe space for experimentation and growth. Consequently\, many local artists now see it as a trusted platform to refine their sound and build confidence. \nFor anyone searching for authentic live music in High Wycombe\, this is the place to be. Open Mic at the Mad Squirrel continues to strengthen the town’s creative scene while offering unforgettable live performances in a truly community-driven setting. \n\n\n\n\n\n\n\n\n\n  \nFor more live music in Berkshire visit BerkshireArtistree.co.uk/live-music-events
URL:https://berkshireartistree.co.uk/live-music-event/open-mic-at-the-mad-squirrel-high-wycombe-2/2026-05-21/
LOCATION:Mad Squirrel\, High Wycombe\, 4-5 Church St\, High Wycombe\, HP11 2DE
CATEGORIES:Open mic
ATTACH;FMTTYPE=image/jpeg:https://berkshireartistree.co.uk/wp-content/uploads/2024/12/open-mic_mad-squirrel_high-wycombe-e1737893877386.jpg
END:VEVENT
BEGIN:VEVENT
DTSTART;TZID=UTC:20260521T200000
DTEND;TZID=UTC:20260521T233000
DTSTAMP:20260423T224055
CREATED:20251124T135108Z
LAST-MODIFIED:20251124T135108Z
UID:10009512-1779393600-1779406200@berkshireartistree.co.uk
SUMMARY:Open Mic at The Newbury Pub & Terrace\, Newbury
DESCRIPTION:Open Mic at The Newbury Pub & Terrace\, Newbury\nhosted by Sion Whiley \n• Every Thursday \nOpen Mic at The Newbury Inn\, Newbury. Celebrating over 100 weekly open mic’s in Newbury hotspot\, the Newbury Pub & Terrace. Hosted by the fantastic Sion Whiley\, a local talent who fosters acts onto stage and is very welcoming to new talent! The open mic is held upstairs and in the summer months it moves outside to their tidy outdoor terrace to enjoy some sunshine! Sion is available for contact on the link below. See the venue and organiser links below for more details. \nFor more live music in Berkshire visit BerkshireArtistree.co.uk/live-music-events
URL:https://berkshireartistree.co.uk/live-music-event/open-mic-at-the-newbury-pub-terrace-newbury-2/2026-05-21/
LOCATION:The Newbury Pub & Roof terrace\, 137 Bartholomew St\, Newbury\, RG14 5HB\, United Kingdom
CATEGORIES:Open mic
ATTACH;FMTTYPE=image/jpeg:https://berkshireartistree.co.uk/wp-content/uploads/2024/05/The-Newbury-Inn_Berkshire-Artistree-1.jpeg
END:VEVENT
BEGIN:VEVENT
DTSTART;TZID=UTC:20260521T203000
DTEND;TZID=UTC:20260521T230000
DTSTAMP:20260423T224055
CREATED:20250310T090745Z
LAST-MODIFIED:20251124T135140Z
UID:10009513-1779395400-1779404400@berkshireartistree.co.uk
SUMMARY:Open Mic at The Acre\, Windsor
DESCRIPTION:Open Mic at The Acre\, Windsor\nhosted by Damian Delahunty \n• Every Thursday \nDamian is a seasoned musician who will welcome all types of act to the stage and creates a very supportive environment. He actively encourages new acts to perform and will happily lend his guitar to you if you ask nicely! See Damian Delahunty for more details. \nFor more live music in Berkshire visit our events page.
URL:https://berkshireartistree.co.uk/live-music-event/open-mic-at-the-acre-windsor/2026-05-21/
LOCATION:The Acre\, Windsor\, Victoria St\, Windsor\, SL4 1EN\, United Kingdom
CATEGORIES:Live music Windsor,Open mic
ATTACH;FMTTYPE=image/jpeg:https://berkshireartistree.co.uk/wp-content/uploads/2025/03/Open-Mic_The-Acre_Windsor.jpg
END:VEVENT
END:VCALENDAR