BEGIN:VCALENDAR
VERSION:2.0
PRODID:-//Berkshire Artistree - ECPv6.15.20//NONSGML v1.0//EN
CALSCALE:GREGORIAN
METHOD:PUBLISH
X-WR-CALNAME:Berkshire Artistree
X-ORIGINAL-URL:https://berkshireartistree.co.uk
X-WR-CALDESC:Events for Berkshire Artistree
REFRESH-INTERVAL;VALUE=DURATION:PT1H
X-Robots-Tag:noindex
X-PUBLISHED-TTL:PT1H
BEGIN:VTIMEZONE
TZID:UTC
BEGIN:STANDARD
TZOFFSETFROM:+0000
TZOFFSETTO:+0000
TZNAME:UTC
DTSTART:20250101T000000
END:STANDARD
END:VTIMEZONE
BEGIN:VEVENT
DTSTART;TZID=UTC:20260525T150000
DTEND;TZID=UTC:20260525T170000
DTSTAMP:20260423T192735
CREATED:20260205T170203Z
LAST-MODIFIED:20260410T094544Z
UID:10009369-1779721200-1779728400@berkshireartistree.co.uk
SUMMARY:Live music at The Swan\, Pangbourne | Bank Holiday Special
DESCRIPTION:Live Music at The Swan\, Pangbourne\nWith Omari performing live\n  \nA Bank Holiday live music special featuring Omari at The Swan Pangbourne sets the tone for a relaxed yet engaging celebration by the Thames. Omari’s famous sets at The Swan Pangbourne are perfectly suited to a long weekend atmosphere\, offering live performances that encourage listeners to get up and dancing from the get go. From the opening songs\, this Bank Holiday event places quality live music at the heart of the experience. \nOmari’s live shows are defined by a masterclass of expressive vocals\, coupled with live looping of various instruments including guitar\, flute and saxophone. His material blends soul and contemporary influences\, which translates especially well in an intimate setting. As a result\, each performance feels personal and unrushed. Meanwhile\, The Swan Pangbourne provides an inviting backdrop for a Bank Holiday gathering. Its welcoming interior and attentive crowd culture allow the music to breathe. Additionally\, the riverside location adds a subtle sense of occasion\, making the performance feel special without becoming overstated. \nBeautiful riverside setting\nThe venue sits in the heart of Pangbourne overlooking the Thames river\, where you can catch the glorious sunset glancing of the water. Enjoy a wonderful gastro menu while enjoying one of Berkshire’s top talent\, performing a range of hits on multiple instruments! \nFor more live music in Berkshire visit BerkshireArtistree.co.uk/live-music-events
URL:https://berkshireartistree.co.uk/live-music-event/live-music-at-the-swan-pangbourne-omari/2026-05-25/
LOCATION:The Swan\, Pangbourne\, Shooters Hill\, Pangbourne\, Reading\, RG8 7DU
CATEGORIES:Live Music
ATTACH;FMTTYPE=image/webp:https://berkshireartistree.co.uk/wp-content/uploads/2026/02/Omari-Johnson-Daley_sax.webp
END:VEVENT
BEGIN:VEVENT
DTSTART;TZID=UTC:20260525T203000
DTEND;TZID=UTC:20260525T230000
DTSTAMP:20260423T192735
CREATED:20241122T165053Z
LAST-MODIFIED:20250201T133250Z
UID:10009583-1779741000-1779750000@berkshireartistree.co.uk
SUMMARY:Open Mic night at GOGOS\, Windsor
DESCRIPTION:Open Mic night at GOGOS\, Windsor \nHosted by Damian Delahunty \n• Every Monday \nGOGOs Waterfront bar hosts their weekly open mic in Windsor\, led by the fantastic Damian. They have a superb spot down by the marina\, welcoming talent of all levels and have a great supportive environment! Damian runs a whole host open open mics\, for more live music in Berkshire visit BerkshireArtistree.co.uk/live-music-events
URL:https://berkshireartistree.co.uk/live-music-event/open-mic-night-at-gogos-windsor/2026-05-25/
LOCATION:GOGOS Waterfront Bar\, Racecourse Marina\, Maidenhead Rd\, Windsor\, SL4 5HT\, United Kingdom
CATEGORIES:Live music Windsor,Open mic
ATTACH;FMTTYPE=image/jpeg:https://berkshireartistree.co.uk/wp-content/uploads/2024/11/open-mic-windsor_Gogos_live-music_windsor_Berkshire-Artistree.jpg
END:VEVENT
END:VCALENDAR