BEGIN:VCALENDAR
VERSION:2.0
PRODID:-//Berkshire Artistree - ECPv6.15.20//NONSGML v1.0//EN
CALSCALE:GREGORIAN
METHOD:PUBLISH
X-WR-CALNAME:Berkshire Artistree
X-ORIGINAL-URL:https://berkshireartistree.co.uk
X-WR-CALDESC:Events for Berkshire Artistree
REFRESH-INTERVAL;VALUE=DURATION:PT1H
X-Robots-Tag:noindex
X-PUBLISHED-TTL:PT1H
BEGIN:VTIMEZONE
TZID:UTC
BEGIN:STANDARD
TZOFFSETFROM:+0000
TZOFFSETTO:+0000
TZNAME:UTC
DTSTART:20250101T000000
END:STANDARD
END:VTIMEZONE
BEGIN:VEVENT
DTSTART;TZID=UTC:20260531T180000
DTEND;TZID=UTC:20260531T210000
DTSTAMP:20260423T222727
CREATED:20260227T145109Z
LAST-MODIFIED:20260321T121207Z
UID:10009730-1780250400-1780261200@berkshireartistree.co.uk
SUMMARY:Live music in Windsor\, Duke Of Connaught | One Eyed Man
DESCRIPTION:Live music in Windsor\, Duke Of Connaught\nWith performance from One Eyed Man\nOne Eyed Man performing at Duke of Connaught promises a powerful night of live music in one of Windsor’s most characterful venues. \nKey Points \n➖ High-energy set blending crowd favourites and dynamic originals➖ Intimate pub setting known for its welcoming atmosphere➖ Ideal for local live music lovers seeking an authentic night out \nOne Eyed Man at Duke of Connaught\nOne Eyed Man at Duke of Connaught Windsor brings a bold\, engaging sound to this much-loved local stage. Known for delivering tight musicianship and commanding vocals\, One Eyed Man creates a set that feels both polished and spontaneous. As a result\, audiences can expect an immersive performance packed with rhythm\, personality\, and genuine connection. \nThe Duke of Connaught in Windsor offers the perfect backdrop for live music. With its relaxed layout\, cosy seating\, and lively bar\, the venue strikes a balance between traditional pub charm and a buzzing gig atmosphere. Guests can enjoy a well-poured pint or a classic spirit and mixer while staying close to the action. Because of its intimate setting\, every note lands with impact\, making each performance feel personal and immediate. \nFor those searching for standout live music in Windsor\, this upcoming show delivers on energy and atmosphere alike. Whether you are a long-time follower or discovering the act for the first time\, One Eyed Man at Duke of Connaught Windsor is set to offer an evening of authentic\, high-quality live entertainment. Arrive ready to soak up the sound and stay for the electric crowd response. \nFor more live music check out Berkshireartistree.co.uk/live-music-events/
URL:https://berkshireartistree.co.uk/live-music-event/live-music-in-windsor-duke-of-connaught-one-eyed-man/2026-05-31/
LOCATION:Duke Of Connaught\, Windsor\, 165 Arthur Rd\, Windsor\, SL4 1RZ
CATEGORIES:Live Music
ATTACH;FMTTYPE=image/webp:https://berkshireartistree.co.uk/wp-content/uploads/2025/04/One-Eyed-Man_berkshire-artistree_Poster.webp
END:VEVENT
END:VCALENDAR