BEGIN:VCALENDAR
VERSION:2.0
PRODID:-//Berkshire Artistree - ECPv6.15.20//NONSGML v1.0//EN
CALSCALE:GREGORIAN
METHOD:PUBLISH
X-ORIGINAL-URL:https://berkshireartistree.co.uk
X-WR-CALDESC:Events for Berkshire Artistree
REFRESH-INTERVAL;VALUE=DURATION:PT1H
X-Robots-Tag:noindex
X-PUBLISHED-TTL:PT1H
BEGIN:VTIMEZONE
TZID:UTC
BEGIN:STANDARD
TZOFFSETFROM:+0000
TZOFFSETTO:+0000
TZNAME:UTC
DTSTART:20250101T000000
END:STANDARD
END:VTIMEZONE
BEGIN:VEVENT
DTSTART;TZID=UTC:20260531T200000
DTEND;TZID=UTC:20260531T220000
DTSTAMP:20260423T223035
CREATED:20260304T090150Z
LAST-MODIFIED:20260328T093100Z
UID:10009676-1780257600-1780264800@berkshireartistree.co.uk
SUMMARY:Live music in Henley\, The Old Bell | Harry J
DESCRIPTION:Live music at The Old Bell\, Henley\nLive loop artist Harry J performing at The Old Bell Henley delivers an intimate set where warm vocals\, expert guitar work\, and a relaxed pub atmosphere combine for a memorable night—Harry J at The Old Bell Henley is set to impress. \nKey Points\n➖ Classic hits from all eras\, built with clever guitar looping➖ Relaxed pub setting ideal for close-up live music➖ Perfect for fans of 60’s\, 70’s\, and 80’s favourites➖ A great night out blending quality live music with classic pub hospitality \nHarry J at The Old Bell Henley\nHailing from Reading\, Harry J went full time as a musician last year. From humble beginnings as a busker\, Harry is steadily working his way into venues and events around Berkshire. One thing that makes Harry stand out is his vast knowledge of music from all eras. He was brought up on hall of famers such as Lynyrd Skynyrd\, Queen\, The Beatles\, Fleetwood Mac\, The Eagles\, Elvis\, ACDC and many many more. \nThese artists makes his way into his set\, creating a tidal wave of nostalgia for his audiences to enjoy. Harry is continuously working on his craft\, learning songs and developing his musicianship to create incredible soundscapes on his loop station. His passion for music is unbounded and undeniably infectious\, as he establishes himself amongst Berkshire’s top talent! \nThe Old Bell Henley Atmosphere\nEqually important\, the venue enhances the experience. The Old Bell Henley offers a welcoming character\, classic pub charm\, and a comfortable live music setting. Guests can enjoy quality drinks and friendly service\, while the cosy layout keeps the audience close to the performance. Consequently\, the connection between artist and crowd feels natural and immersive. \nOverall\, this promises a relaxed yet captivating live music experience\, ideal for those seeking great songs in an authentic pub setting. \nFor more live music check out Berkshireartistree.co.uk/live-music-events/
URL:https://berkshireartistree.co.uk/live-music-event/live-music-in-henley-the-old-bell-harry-j/2026-05-31/
LOCATION:The Old Bell\, Henley\, 20 Bell St\, Henley-on-Thames\, RG9 2BG\, United Kingdom
CATEGORIES:Live Music
ATTACH;FMTTYPE=image/jpeg:https://berkshireartistree.co.uk/wp-content/uploads/2025/06/Harry-jones_guitarist-and-singer_2.jpg
END:VEVENT
END:VCALENDAR