BEGIN:VCALENDAR
VERSION:2.0
PRODID:-//Berkshire Artistree - ECPv6.15.20//NONSGML v1.0//EN
CALSCALE:GREGORIAN
METHOD:PUBLISH
X-WR-CALNAME:Berkshire Artistree
X-ORIGINAL-URL:https://berkshireartistree.co.uk
X-WR-CALDESC:Events for Berkshire Artistree
REFRESH-INTERVAL;VALUE=DURATION:PT1H
X-Robots-Tag:noindex
X-PUBLISHED-TTL:PT1H
BEGIN:VTIMEZONE
TZID:UTC
BEGIN:STANDARD
TZOFFSETFROM:+0000
TZOFFSETTO:+0000
TZNAME:UTC
DTSTART:20250101T000000
END:STANDARD
END:VTIMEZONE
BEGIN:VEVENT
DTSTART;TZID=UTC:20260604T200000
DTEND;TZID=UTC:20260604T220000
DTSTAMP:20260423T235636
CREATED:20260217T174857Z
LAST-MODIFIED:20260217T174946Z
UID:10009723-1780603200-1780610400@berkshireartistree.co.uk
SUMMARY:Open Mic at The Swan\, Three Mile Cross
DESCRIPTION:Open Mic at The Swan\, Three Mile Cross  \nFocus Keyphrase: Joe Bingham at The Swan \nExperience the energy of live music with Joe Bingham at The Swan\, a fresh Open Mic night at The Swan in Three Mile Cross\, Reading. This new Open Mic at The Swan invites music lovers and performers alike to gather in a welcoming\, community-driven setting. With Joe Bingham leading the night\, audiences can expect an authentic showcase of musicianship in an intimate pub atmosphere designed for real connection and raw talent. \nJoe Bingham live at The Swan Open Mic\nAs a performer\, Joe Bingham brings heartfelt vocals and expressive songwriting that shine in a stripped-back live setting. His sound blends melodic acoustic textures with engaging storytelling\, creating a set that feels both personal and uplifting. Meanwhile\, the Open Mic format keeps the evening dynamic\, with emerging artists stepping up to share original songs and crowd favourites. As a result\, every performance feels spontaneous and alive. \nThe Swan provides the perfect backdrop for this live music experience. Known for its warm interiors and relaxed charm\, the venue offers a range of beers and a great menu. Additionally\, its reputation as a local gathering spot makes it ideal for discovering new talent while enjoying a great night out. \nFor more open mics in Berkshire\, visit our events page
URL:https://berkshireartistree.co.uk/live-music-event/open-mic-at-the-swan-three-mile-cross/2026-06-04/
LOCATION:The Swan\, Three Mile Cross\, Basingstoke Rd\, Reading\, RG7 1AT\, United Kingdom
CATEGORIES:Open mic
ATTACH;FMTTYPE=image/jpeg:https://berkshireartistree.co.uk/wp-content/uploads/2026/02/Open-mic-at-The-Swan_Three-mile-Cross.jpg
END:VEVENT
END:VCALENDAR