BEGIN:VCALENDAR
VERSION:2.0
PRODID:-//Berkshire Artistree - ECPv6.15.20//NONSGML v1.0//EN
CALSCALE:GREGORIAN
METHOD:PUBLISH
X-ORIGINAL-URL:https://berkshireartistree.co.uk
X-WR-CALDESC:Events for Berkshire Artistree
REFRESH-INTERVAL;VALUE=DURATION:PT1H
X-Robots-Tag:noindex
X-PUBLISHED-TTL:PT1H
BEGIN:VTIMEZONE
TZID:UTC
BEGIN:STANDARD
TZOFFSETFROM:+0000
TZOFFSETTO:+0000
TZNAME:UTC
DTSTART:20250101T000000
END:STANDARD
END:VTIMEZONE
BEGIN:VEVENT
DTSTART;TZID=UTC:20260607T140000
DTEND;TZID=UTC:20260607T170000
DTSTAMP:20260423T204824
CREATED:20260221T154415Z
LAST-MODIFIED:20260228T134045Z
UID:10009814-1780840800-1780851600@berkshireartistree.co.uk
SUMMARY:Live music at MUSICA\, Bracknell
DESCRIPTION:Live Music at MUSICA\, Bracknell \nHead down to Bracknell every Sunday\, for soulful vibes and smooth keys with classics\, favourites and feel-good tunes. Guests can request songs and vote for what comes next\, shaping the set as the afternoon unfolds. See more information on the organiser link below\, or visit the venue link to see more about MUSICA\, Bracknell. \nFor more live music in Berkshire visit BerkshireArtistree.co.uk/live-music-events
URL:https://berkshireartistree.co.uk/live-music-event/live-music-at-musica-bracknell-pauly/2026-06-07/
LOCATION:Musica\, Bracknell\, 3 Eagle Ln\, Bracknell\, RG12 1BG
CATEGORIES:Live Music
ATTACH;FMTTYPE=image/jpeg:https://berkshireartistree.co.uk/wp-content/uploads/2026/02/Musica_HD_live-music_Bracknell.jpeg
END:VEVENT
BEGIN:VEVENT
DTSTART;TZID=UTC:20260607T193000
DTEND;TZID=UTC:20260607T220000
DTSTAMP:20260423T204824
CREATED:20250813T121314Z
LAST-MODIFIED:20250813T123147Z
UID:10009819-1780860600-1780869600@berkshireartistree.co.uk
SUMMARY:Dreading Slam at the Rising Arts Centre\, Reading
DESCRIPTION:Dreading Slam at the Rising Arts Centre\, Reading\nhosted by Dreading Slam \n• Every 1st Sunday \nDreading Slam is a poetry competition held first Sunday of the month. Unleash your talent at one of Reading’s top open mic nights\, hosted at the vibrant Rising Arts Centre. Whether you perform poetry\, comedy\, music\, or spoken word\, this is your stage to shine. \nThe Rising Arts Centre offers a welcoming\, creative space in the heart of Reading. Step into an inspiring venue where local artists and performers gather to share their craft. Audiences can enjoy a relaxed\, friendly atmosphere while discovering fresh talent from the area. \nDreading Slam welcomes performers of all levels\, from beginner to expert. Sign up and showcase your skills to an enthusiastic\, supportive crowd. Each performance gets genuine attention\, giving both newcomers and seasoned artists a chance to thrive. \nFor spectators\, it’s a night packed with energy and creativity. Expect laughter\, thought-provoking poetry\, and memorable musical moments. Connect with local performers\, meet other art lovers\, and immerse yourself in Reading’s buzzing arts scene. \nWhether you live in Reading\, Wokingham\, Newbury\, or the surrounding Berkshire area\, Dreading Slam is the perfect night out. Attend as a performer or a fan—you’ll leave inspired and entertained. \nCheck out our events calendar for more information on the next event\, or you can join the Dreading Slam Facebook group for updates\, sign-up details\, and behind-the-scenes news. Don’t miss your chance to be part of Reading’s thriving creative community! \nPerform. Watch. Connect. Dreading Slam turns ordinary evenings into extraordinary experiences. Make your mark on the local arts scene today. See Dreading Slam for more details. \nFor more live music in Berkshire visit our events page.
URL:https://berkshireartistree.co.uk/live-music-event/dreading-slam-at-the-rising-arts-centre-reading/2026-06-07/
LOCATION:The Rising Sun Arts Centre\, Reading\, 30 Silver St\, Reading\, RG1 2ST\, United Kingdom
CATEGORIES:Open mic,Poetry
ATTACH;FMTTYPE=image/jpeg:https://berkshireartistree.co.uk/wp-content/uploads/2025/08/Dreading-Slam_Rising-Sun-Arts-Centre_Reading_Poetry-Night.jpg
END:VEVENT
BEGIN:VEVENT
DTSTART;TZID=UTC:20260607T200000
DTEND;TZID=UTC:20260607T220000
DTSTAMP:20260423T204824
CREATED:20260301T150112Z
LAST-MODIFIED:20260301T150439Z
UID:10009823-1780862400-1780869600@berkshireartistree.co.uk
SUMMARY:Live music in Henley\, The Old Bell | Tom Martin
DESCRIPTION:Acclaimed singer-songwriter Tom Martin performing at The Old Bell Henley promises an intimate evening of finely crafted acoustic music in one of the town’s most characterful settings. \nKey Points➖ Soulful acoustic folk with melodic warmth➖ Engaging\, intimate live performance style➖ Characterful pub setting in the heart of Henley \nExperience live music at The Old Bell Henley\nTom Martin at The Old Bell Henley offers a compelling blend of heartfelt lyrics and melodic acoustic craftsmanship. His songs move effortlessly between folk and acoustic pop\, while subtle country tones add warmth and texture. As a result\, each performance feels both personal and uplifting. Tom connects quickly with his audience\, and he delivers every line with clarity and confidence. Because of this\, listeners feel fully involved from the very first song. \nMoreover\, his live sets balance reflective moments with upbeat rhythms. This contrast keeps the energy flowing throughout the evening. Rather than overwhelming the room\, he builds atmosphere with dynamic control and genuine stage presence. Fans of authentic\, stripped-back arrangements will appreciate the honesty at the core of his music. \nThe Old Bell Henley provides the perfect backdrop. The venue combines historic character with a relaxed pub ambience\, creating a setting that enhances acoustic performance. Guests can enjoy well-kept drinks while settling into a cosy layout designed for close listening. Consequently\, every chord and lyric carries beautifully across the room. \nAltogether\, Tom Martin at The Old Bell Henley promises a memorable live music experience. If you value thoughtful songwriting\, warm musicianship\, and an inviting atmosphere\, this upcoming performance deserves a place in your plans. \nFor more live music check out Berkshireartistree.co.uk/live-music-events/
URL:https://berkshireartistree.co.uk/live-music-event/live-music-in-henley-the-old-bell-tom-martin/2026-06-07/
LOCATION:The Old Bell\, Henley\, 20 Bell St\, Henley-on-Thames\, RG9 2BG\, United Kingdom
CATEGORIES:Live Music
ATTACH;FMTTYPE=image/jpeg:https://berkshireartistree.co.uk/wp-content/uploads/2025/06/Tom-Martin_guitarist-and-singer.jpg
END:VEVENT
END:VCALENDAR