BEGIN:VCALENDAR
VERSION:2.0
PRODID:-//Berkshire Artistree - ECPv6.15.20//NONSGML v1.0//EN
CALSCALE:GREGORIAN
METHOD:PUBLISH
X-ORIGINAL-URL:https://berkshireartistree.co.uk
X-WR-CALDESC:Events for Berkshire Artistree
REFRESH-INTERVAL;VALUE=DURATION:PT1H
X-Robots-Tag:noindex
X-PUBLISHED-TTL:PT1H
BEGIN:VTIMEZONE
TZID:UTC
BEGIN:STANDARD
TZOFFSETFROM:+0000
TZOFFSETTO:+0000
TZNAME:UTC
DTSTART:20250101T000000
END:STANDARD
END:VTIMEZONE
BEGIN:VEVENT
DTSTART;TZID=UTC:20260617T200000
DTEND;TZID=UTC:20260617T220000
DTSTAMP:20260424T001212
CREATED:20241016T215123Z
LAST-MODIFIED:20251012T122558Z
UID:10009710-1781726400-1781733600@berkshireartistree.co.uk
SUMMARY:Bohemian night at The Fisherman's cottage\, Reading
DESCRIPTION:Bohemian night at The Fisherman’s cottage\, Reading\nhosted by Rob Sowden \n• Every Wednesday \nEvery Wednesday down at the Fisherman’s Cottage in Reading\, Rob Sowden runs his famous bohemian open mic night. Situated down by the river\, boho night has a great reputation amongst the local musicians to welcome new acts and a great opportunity to network with other artists\, poets\, comedians and other diverse acts. Rob himself is an excellent musician\, who plays regularly and runs a number of open mic night around Reading. See the venue and organiser links below for more details. \nFor more live music in Berkshire visit BerkshireArtistree.co.uk/live-music-events
URL:https://berkshireartistree.co.uk/live-music-event/bohemian-night-at-the-fishermans-cottage-reading/2026-06-17/
LOCATION:The Fisherman’s Cottage\, Kennet Side\, Reading\, RG1 3DW\, United Kingdom
CATEGORIES:Open mic
ATTACH;FMTTYPE=image/png:https://berkshireartistree.co.uk/wp-content/uploads/2024/04/Fishermans-cottage_open-mic_boho-night_Berkshire-Artistree.png
END:VEVENT
BEGIN:VEVENT
DTSTART;TZID=UTC:20260617T200000
DTEND;TZID=UTC:20260617T230000
DTSTAMP:20260424T001212
CREATED:20260204T131501Z
LAST-MODIFIED:20260207T235126Z
UID:10009711-1781726400-1781737200@berkshireartistree.co.uk
SUMMARY:Open Mic night at The Old Court Arts Centre\, Windsor
DESCRIPTION:Open Mic night at The Old Court Arts Centre\, Windsor \n• Every Wednesday \nAn inviting midweek tradition returns with Open Mic at Old Court Arts Centre\, offering a welcoming stage for musicians\, poets\, storytellers\, and spoken-word performers in the heart of Windsor. Set within this much-loved local venue\, the night creates space for creativity to unfold naturally. Whether you are sharing new material or discovering emerging local talent\, the atmosphere feels open\, relaxed\, and supportive from the start. \nFrom the moment the doors open\, the room carries a sense of possibility. Meanwhile\, performers of all experience levels are encouraged to step forward and take part. An attentive audience supports each act\, while the venue’s long-standing commitment to artistic expression sets the tone. The evening moves at an easy pace\, giving every performer time to connect with the room. As a result\, each session feels unique\, shaped by the voices\, sounds\, and stories that appear on the night. \nOpen Mic at Old Court Arts Centre is as much about listening as it is about performing. Additionally\, the venue’s warm acoustics and informal layout help remove barriers between stage and audience. Creative risks feel welcome here\, and performers often respond directly to the energy in the room. Acoustic songs\, thoughtful monologues\, and moments of improvisation all find a natural home\, with live expression always at the centre. \nFinally\, for anyone seeking a genuine\, community-led music and performance experience\, Open Mic at Old Court Arts Centre remains a consistent highlight. Come to perform\, come to support others\, or simply come to be surprised by what unfolds live on stage. \nFor more live music in Berkshire visit our events page.
URL:https://berkshireartistree.co.uk/live-music-event/open-mic-night-at-the-old-court-arts-centre-windsor/2026-06-17/
LOCATION:Old Courts Arts Centre\, Windsor\, The Old Court\, St Leonard's Road\,\,\, Windsor\, SL4 3BL
CATEGORIES:Open mic
ATTACH;FMTTYPE=image/png:https://berkshireartistree.co.uk/wp-content/uploads/2026/02/Screenshot-2026-02-04-at-12.49.16-e1770210956574.png
END:VEVENT
BEGIN:VEVENT
DTSTART;TZID=UTC:20260617T203000
DTEND;TZID=UTC:20260617T223000
DTSTAMP:20260424T001212
CREATED:20241016T215208Z
LAST-MODIFIED:20241120T180602Z
UID:10009712-1781728200-1781735400@berkshireartistree.co.uk
SUMMARY:Open Mic at The Golden Cross\, Twyford
DESCRIPTION:Open Mic at The Golden Cross\, Twyford\nhosted by Damian Delahunty \n• Every Wednesday \nOpen Mic down at the Golden Cross in Twyford\, run by seasoned musician Damian Delahunty. Nice intimate space with a listening audeince\, great to network with other musicians. The venue has parking and will lend his guitar if you ask nicely! See the venue and organiser links below for more details. \nFor more live music in Berkshire visit BerkshireArtistree.co.uk/live-music-events
URL:https://berkshireartistree.co.uk/live-music-event/open-mic-at-the-golden-cross-twyford-29/2026-06-17/
LOCATION:The Golden Cross\, Twyford\, 8 Waltham Rd\, Twyford\, Reading\, RG10 9EG\, United Kingdom
CATEGORIES:live music twyford,live music wokingham,Open mic
ATTACH;FMTTYPE=image/jpeg:https://berkshireartistree.co.uk/wp-content/uploads/2024/04/Golden-Cross_open-mic-night_Berkshire-Artistree.jpeg
END:VEVENT
END:VCALENDAR