BEGIN:VCALENDAR
VERSION:2.0
PRODID:-//Berkshire Artistree - ECPv6.15.20//NONSGML v1.0//EN
CALSCALE:GREGORIAN
METHOD:PUBLISH
X-ORIGINAL-URL:https://berkshireartistree.co.uk
X-WR-CALDESC:Events for Berkshire Artistree
REFRESH-INTERVAL;VALUE=DURATION:PT1H
X-Robots-Tag:noindex
X-PUBLISHED-TTL:PT1H
BEGIN:VTIMEZONE
TZID:UTC
BEGIN:STANDARD
TZOFFSETFROM:+0000
TZOFFSETTO:+0000
TZNAME:UTC
DTSTART:20250101T000000
END:STANDARD
END:VTIMEZONE
BEGIN:VEVENT
DTSTART;TZID=UTC:20260626T190000
DTEND;TZID=UTC:20260626T210000
DTSTAMP:20260423T204917
CREATED:20260203T161247Z
LAST-MODIFIED:20260402T080659Z
UID:10009341-1782500400-1782507600@berkshireartistree.co.uk
SUMMARY:Live music at The Hilton Hotel\, Abingdon  | One Eyed Man
DESCRIPTION:Live Music at The Hilton Hotel\, Abingdon\nWith One Eyed Man performing live \n  \nA polished live music evening takes shape as One Eyed Man at Hilton Garden Inn Abingdon Oxford brings expressive acoustic performance into a modern hotel setting. Known for blending acoustic guitar\, vocals\, and light percussion\, One Eyed Man creates live sets that feel both relaxed and engaging. Hosted at Hilton Garden Inn Abingdon Oxford\, the event pairs contemporary comfort with live music that enhances the atmosphere without overpowering it. For guests and locals alike\, One Eyed Man at Hilton Garden Inn Abingdon Oxford offers an inviting way to enjoy quality live performance. \nOne Eyed Man live at Hilton Garden Inn Abingdon Oxford\nOne Eyed Man is steadily building a reputation across Berkshire and the surrounding areas for a husky\, expressive voice and adaptable live shows. While modern folk sits at the heart of the sound\, each performance moves confidently across genres. Expect heartfelt covers of Mumford & Sons\, George Ezra\, Noah Kahan\, and Tracy Chapman\, delivered with warmth and clarity. Meanwhile\, familiar favourites from Bon Jovi\, Bill Withers\, Jason Mraz\, and Teddy Swims lift the energy and encourage an easygoing singalong. As a result\, One Eyed Man at Hilton Garden Inn Abingdon Oxford suits both relaxed listening and more upbeat social moments. \nAdditionally\, the Hilton Garden Inn Abingdon Oxford provides a refined yet welcoming backdrop. The venue’s contemporary design and comfortable layout allow subtle musical details to shine while maintaining a sociable feel. Finally\, whether you are planning a casual evening out or a laid-back night with friends or colleagues\, One Eyed Man at Hilton Garden Inn Abingdon Oxford delivers live music shaped by versatility\, connection\, and atmosphere. \n\nFor more live music in Berkshire visit BerkshireArtistree.co.uk/live-music-events
URL:https://berkshireartistree.co.uk/live-music-event/live-music-at-the-hilton-hotel-abingdon-one-eyed-man-2/2026-06-26/
LOCATION:Hilton Hotel\, Abingdon\, Marcham Rd\, Abingdon\, OX14 1TZ
CATEGORIES:Live Music
ATTACH;FMTTYPE=image/jpeg:https://berkshireartistree.co.uk/wp-content/uploads/2024/09/One-Eyed-Man_Stuart-Hutton_2_berkshire-artistree.jpg
END:VEVENT
BEGIN:VEVENT
DTSTART;TZID=UTC:20260626T193000
DTEND;TZID=UTC:20260626T223000
DTSTAMP:20260423T204917
CREATED:20251124T092403Z
LAST-MODIFIED:20251124T092408Z
UID:10009803-1782502200-1782513000@berkshireartistree.co.uk
SUMMARY:Open Mic at the Dog and Partridge\, Yately
DESCRIPTION:Open Mic at The Dog And Partridge\, Yately\nhosted by Abi Powell Music \n• Every Last Friday \nOpen Mic at the Dog and Partridge\, Yately. Abi Nicholson\, known as Abi Powell Presents\, runs events around the Berkshire area\, as well as playing solo sets or alongside her band “Fleece Lined”. Her open mic nights attract all levels of talent and she’s very welcoming for new acts! For more live music in Berkshire visit https://berkshireartistree.co.uk/live-music-events/ See the venue and organiser links below for more details. \nFor more live music in Berkshire visit BerkshireArtistree.co.uk/live-music-events
URL:https://berkshireartistree.co.uk/live-music-event/open-mic-at-the-dog-and-partridge-yately-6-2/2026-06-26/
LOCATION:The Dog And Partridge\, 105 Reading Rd\, Yateley\, GU46 7LR\, United Kingdom
CATEGORIES:Open mic
ATTACH;FMTTYPE=image/jpeg:https://berkshireartistree.co.uk/wp-content/uploads/2024/04/Abi-Powell-Music_Berkshire-Artistree-e1713476553489.jpeg
END:VEVENT
BEGIN:VEVENT
DTSTART;TZID=UTC:20260626T200000
DTEND;TZID=UTC:20260626T230000
DTSTAMP:20260423T204917
CREATED:20250422T065238Z
LAST-MODIFIED:20260210T082539Z
UID:10009804-1782504000-1782514800@berkshireartistree.co.uk
SUMMARY:Open Mic at The Butler\, Reading
DESCRIPTION:Open Mic at The Butler\, Reading \nhosted by Nicole Allan \n  \n• Every Friday \n  \nOne of Reading’s most popular open mic nights\, welcoming a range of acts from novice to expert. Run by Nicole Allan\, winner of the BA award 2022\, for her continuous efforts to encourage new artists to showcase their skills! See the venue and organiser links below for more details. The Butler hosts many live music nights\, both in the main bar and in the back room where bands play almost every weekend. The owners are huge supporters of live music in Reading and also allow Nicole to book her attendees at their annual music festival\, Marvellous. The Butler open mic night is situated on Chatham Street and is a short walk from Reading trains station. There is also 24 hour car parking directly opposite the pub.   Held every week\, the open mic at The Butler is super supportive and hosts a great community of musicians. \n  \nFor more live music in Berkshire visit BerkshireArtistree.co.uk/live-music-events
URL:https://berkshireartistree.co.uk/live-music-event/open-mic-at-the-butler-reading-25-2/2026-06-26/
LOCATION:The Butler\, Reading\, 85-91 Chatham St\, Reading\, RG1 7DS
CATEGORIES:Open mic
ATTACH;FMTTYPE=image/jpeg:https://berkshireartistree.co.uk/wp-content/uploads/2024/10/Open-Mic-Reading_The-Butler_Reading_Berkshire-Artistree-scaled.jpg
END:VEVENT
END:VCALENDAR