BEGIN:VCALENDAR
VERSION:2.0
PRODID:-//Berkshire Artistree - ECPv6.15.20//NONSGML v1.0//EN
CALSCALE:GREGORIAN
METHOD:PUBLISH
X-WR-CALNAME:Berkshire Artistree
X-ORIGINAL-URL:https://berkshireartistree.co.uk
X-WR-CALDESC:Events for Berkshire Artistree
REFRESH-INTERVAL;VALUE=DURATION:PT1H
X-Robots-Tag:noindex
X-PUBLISHED-TTL:PT1H
BEGIN:VTIMEZONE
TZID:UTC
BEGIN:STANDARD
TZOFFSETFROM:+0000
TZOFFSETTO:+0000
TZNAME:UTC
DTSTART:20250101T000000
END:STANDARD
END:VTIMEZONE
BEGIN:VEVENT
DTSTART;TZID=UTC:20260628T140000
DTEND;TZID=UTC:20260628T170000
DTSTAMP:20260423T204515
CREATED:20260221T154415Z
LAST-MODIFIED:20260228T134045Z
UID:10009817-1782655200-1782666000@berkshireartistree.co.uk
SUMMARY:Live music at MUSICA\, Bracknell
DESCRIPTION:Live Music at MUSICA\, Bracknell \nHead down to Bracknell every Sunday\, for soulful vibes and smooth keys with classics\, favourites and feel-good tunes. Guests can request songs and vote for what comes next\, shaping the set as the afternoon unfolds. See more information on the organiser link below\, or visit the venue link to see more about MUSICA\, Bracknell. \nFor more live music in Berkshire visit BerkshireArtistree.co.uk/live-music-events
URL:https://berkshireartistree.co.uk/live-music-event/live-music-at-musica-bracknell-pauly/2026-06-28/
LOCATION:Musica\, Bracknell\, 3 Eagle Ln\, Bracknell\, RG12 1BG
CATEGORIES:Live Music
ATTACH;FMTTYPE=image/jpeg:https://berkshireartistree.co.uk/wp-content/uploads/2026/02/Musica_HD_live-music_Bracknell.jpeg
END:VEVENT
BEGIN:VEVENT
DTSTART;TZID=UTC:20260628T200000
DTEND;TZID=UTC:20260628T220000
DTSTAMP:20260423T204515
CREATED:20260305T004824Z
LAST-MODIFIED:20260312T120201Z
UID:10009943-1782676800-1782684000@berkshireartistree.co.uk
SUMMARY:Live music in Henley\, The Old Bell | Steve Morano
DESCRIPTION:Live music in Henley with independent artist\n\n\n\n\n\n\n\n\n\n\n\n\n\n\nIndie folk singer-songwriter Steve Morano performing at The Old Bell Henley promises an intimate evening of thoughtful songwriting and warm live energy in one of Henley’s most characterful music-friendly pubs. \nKey Points \n➖ Acoustic folk and Americana-inspired performance from singer-songwriter Steve Morano➖ Intimate live setting inside The Old Bell Henley\, known for its welcoming atmosphere➖ Story-led songwriting with rich melodies and engaging stage presence➖ Ideal for fans of relaxed\, high-quality live music in a cosy pub venue \nWhy See Steve Morano at The Old Bell Henley\nWhen Steve Morano at The Old Bell Henley takes the stage\, audiences can expect heartfelt songwriting paired with an engaging acoustic performance style. Morano blends indie folk warmth with Americana storytelling\, creating songs that feel both personal and instantly relatable. His live shows focus on connection as much as music. Clear melodies\, reflective lyrics\, and relaxed humour between songs create a performance that feels welcoming from the first note. \nListeners who enjoy stripped-back performances often find Morano’s music especially rewarding. Each song reveals careful craftsmanship\, while his expressive delivery brings every lyric to life. As a result\, the audience becomes part of the experience rather than simply watching from the sidelines. \nThe Venue\nThe setting enhances the atmosphere perfectly. The Old Bell Henley is well known locally for hosting intimate live music nights in a classic pub environment. With its historic character\, comfortable layout\, and lively yet relaxed crowd\, the venue offers an ideal space for acoustic performances. Guests can enjoy a drink\, settle into the warm ambience\, and experience live music up close. \nAltogether\, Steve Morano at The Old Bell Henley offers a refreshing reminder of how powerful live acoustic music can be. For anyone seeking an evening of genuine songwriting and a welcoming venue atmosphere\, this performance delivers a memorable night of live music. \nFor more live music check out Berkshireartistree.co.uk/live-music-events/
URL:https://berkshireartistree.co.uk/live-music-event/live-music-in-henley-the-old-bell-steve-morano/2026-06-28/
LOCATION:The Old Bell\, Henley\, 20 Bell St\, Henley-on-Thames\, RG9 2BG\, United Kingdom
CATEGORIES:Live Music
ATTACH;FMTTYPE=image/jpeg:https://berkshireartistree.co.uk/wp-content/uploads/2026/03/Steve-Morano_live-music.jpg
END:VEVENT
END:VCALENDAR