BEGIN:VCALENDAR
VERSION:2.0
PRODID:-//Berkshire Artistree - ECPv6.15.20//NONSGML v1.0//EN
CALSCALE:GREGORIAN
METHOD:PUBLISH
X-ORIGINAL-URL:https://berkshireartistree.co.uk
X-WR-CALDESC:Events for Berkshire Artistree
REFRESH-INTERVAL;VALUE=DURATION:PT1H
X-Robots-Tag:noindex
X-PUBLISHED-TTL:PT1H
BEGIN:VTIMEZONE
TZID:UTC
BEGIN:STANDARD
TZOFFSETFROM:+0000
TZOFFSETTO:+0000
TZNAME:UTC
DTSTART:20250101T000000
END:STANDARD
END:VTIMEZONE
BEGIN:VEVENT
DTSTART;TZID=UTC:20260703T190000
DTEND;TZID=UTC:20260703T230000
DTSTAMP:20260423T204916
CREATED:20250604T150914Z
LAST-MODIFIED:20250604T150914Z
UID:10009839-1783105200-1783119600@berkshireartistree.co.uk
SUMMARY:Open Mic at Ace Space\, Newbury
DESCRIPTION:Open Mic at Ace Space\, Newbury\nhosted by Ace Space \n• Every 1st Friday \nLooking for a welcoming space to perform your music\, poetry\, comedy or spoken word in Newbury? Or just after a great night out with live\, local entertainment? Ace Space’s legendary Open Mic Night is the place to be.\n  \nPLEASE ARRIVE EARLY TO SIGN UP – Musicians entry is free \nHeld in the heart of Newbury\, this unplugged open mic night offers a relaxed\, intimate setting where both seasoned performers and first-timers are warmly welcomed. Whether you’re a singer-songwriter ready to share new material\, or a music lover looking for a laid-back\, friendly vibe\, Ace Space delivers a unique community-driven evening.  \nThis open mic happens only once a month\, however opens doors for more shows and great networking opportunities with the Newbury arts scene! \nWhat to Expect: \n• An unplugged\, acoustic-friendly setup \n• A supportive\, creative atmosphere \n• A diverse lineup of local talent – from folk and blues to spoken word \n• Affordable bar and refreshments \nDoors open 7pm\, performances begin 8pm \nWant to Perform?\nSign-ups are taken on the night – just bring your instrument\, your voice\, or your words. Slots are typically 10 minutes each\, with a full PA and sound support provided. \nWhether you’re performing or watching\, the Ace Space Open Mic is one of Newbury’s most loved grassroots music nights. Come along\, meet the community\, and support local talent! See the venue and organiser links below for more details. \nFor more live music in Berkshire visit BerkshireArtistree.co.uk/live-music-events
URL:https://berkshireartistree.co.uk/live-music-event/open-mic-at-ace-space-newbury/2026-07-03/
LOCATION:Ace Space\, Newbuy\, St Nicholas Rd\, Newbury\, RG14 5PR
CATEGORIES:Open mic
ATTACH;FMTTYPE=image/png:https://berkshireartistree.co.uk/wp-content/uploads/2025/06/Open-Mic_Ace-Space_Newbury.png
END:VEVENT
BEGIN:VEVENT
DTSTART;TZID=UTC:20260703T193000
DTEND;TZID=UTC:20260703T213000
DTSTAMP:20260423T204916
CREATED:20260129T161244Z
LAST-MODIFIED:20260214T173431Z
UID:10009266-1783107000-1783114200@berkshireartistree.co.uk
SUMMARY:Live music at The Swan\, Pangbourne | Shaun Twomey
DESCRIPTION:Live music at The Swan\, Pangbourne  \nWith performance from Shaun Twomey \nA warm\, intimate evening of live music is on the way as Shaun Twomey at The Swan Pangbourne brings heartfelt songwriting and accomplished musicianship to one of the Thames Valley’s most characterful venues. Known for his engaging acoustic style and expressive vocals\, Twomey creates performances that feel personal yet polished\, making this a live music experience that rewards close listening. From the first song\, the connection between artist and audience is clear\, setting the tone for an evening shaped by melody\, mood\, and atmosphere. \nMeanwhile\, Shaun Twomey’s live sets balance thoughtful originals with a confident sense of flow. His songs often unfold with subtle dynamics\, allowing emotion to build naturally in the room. Additionally\, his relaxed stage presence invites the audience in\, creating a shared experience rather than a distant performance. This makes Shaun Twomey at The Swan Pangbourne especially appealing for listeners who value authenticity and musical craft in a live setting. \nHowever\, the venue itself plays an equally important role. The Swan Pangbourne is celebrated for its welcoming ambience\, combining classic pub charm with a space that suits acoustic performance beautifully. The natural warmth of the room complements Twomey’s sound\, while the attentive crowd adds to the sense of occasion. Then\, as the night unfolds\, the balance between artist and venue becomes part of the appeal. \nFinally\, Shaun Twomey at The Swan Pangbourne promises a live music night defined by connection\, atmosphere\, and memorable songs. \nFor more Live music visit our full events calendar!
URL:https://berkshireartistree.co.uk/live-music-event/live-music-at-the-swan-pangbourne-shaun-twomey/2026-07-03/
LOCATION:The Swan\, Pangbourne\, Shooters Hill\, Pangbourne\, Reading\, RG8 7DU
CATEGORIES:Live Music
ATTACH;FMTTYPE=image/jpeg:https://berkshireartistree.co.uk/wp-content/uploads/2025/01/Shaun-Twomey_Berkshire-Artistree.jpg
END:VEVENT
BEGIN:VEVENT
DTSTART;TZID=UTC:20260703T200000
DTEND;TZID=UTC:20260703T230000
DTSTAMP:20260423T204916
CREATED:20250422T065238Z
LAST-MODIFIED:20260210T082539Z
UID:10009841-1783108800-1783119600@berkshireartistree.co.uk
SUMMARY:Open Mic at The Butler\, Reading
DESCRIPTION:Open Mic at The Butler\, Reading \nhosted by Nicole Allan \n  \n• Every Friday \n  \nOne of Reading’s most popular open mic nights\, welcoming a range of acts from novice to expert. Run by Nicole Allan\, winner of the BA award 2022\, for her continuous efforts to encourage new artists to showcase their skills! See the venue and organiser links below for more details. The Butler hosts many live music nights\, both in the main bar and in the back room where bands play almost every weekend. The owners are huge supporters of live music in Reading and also allow Nicole to book her attendees at their annual music festival\, Marvellous. The Butler open mic night is situated on Chatham Street and is a short walk from Reading trains station. There is also 24 hour car parking directly opposite the pub.   Held every week\, the open mic at The Butler is super supportive and hosts a great community of musicians. \n  \nFor more live music in Berkshire visit BerkshireArtistree.co.uk/live-music-events
URL:https://berkshireartistree.co.uk/live-music-event/open-mic-at-the-butler-reading-25-2/2026-07-03/
LOCATION:The Butler\, Reading\, 85-91 Chatham St\, Reading\, RG1 7DS
CATEGORIES:Open mic
ATTACH;FMTTYPE=image/jpeg:https://berkshireartistree.co.uk/wp-content/uploads/2024/10/Open-Mic-Reading_The-Butler_Reading_Berkshire-Artistree-scaled.jpg
END:VEVENT
BEGIN:VEVENT
DTSTART;TZID=UTC:20260703T200000
DTEND;TZID=UTC:20260703T230000
DTSTAMP:20260423T204916
CREATED:20260114T163502Z
LAST-MODIFIED:20260114T163917Z
UID:10009842-1783108800-1783119600@berkshireartistree.co.uk
SUMMARY:Open Mic at The Oakingham Belle\, Wokingham
DESCRIPTION:Open Mic at The Oakingham Belle\nhosted by Abi Powell Music \n• First Friday of the month \n\n\n\n\n\n\n\n\n\n\n\n\n\n\n\n\n\n\n\n\n\n\nOpen Mic Night at The Oakingham Belle offers a relaxed and rewarding live music experience in the centre of Wokingham\, hosted by Abi Powell Music. Designed to welcome performers of all levels\, this monthly event brings together singers\, songwriters\, and musicians for an evening focused on creativity and shared enjoyment. From the outset\, Open Mic Night at The Oakingham Belle sets a supportive tone that encourages both confidence and experimentation on stage. \nMeanwhile\, Abi Powell Music guides the night with warmth and professionalism. As host\, Abi creates an environment where artists feel comfortable performing original material or putting their own spin on familiar songs. Additionally\, advance booking helps the evening run smoothly\, giving each performer a clear slot and a genuinely attentive audience. This structure allows performers to focus on their music rather than logistics\, which adds to the night’s easygoing flow. \nThe venue itself plays an essential role in shaping the atmosphere. The Oakingham Belle is a characterful local pub known for its welcoming interior and engaged crowd. As a result\, Open Mic Night at The Oakingham Belle feels social without becoming distracting\, making it ideal for live acoustic sets and intimate performances. \n\n\n\n\n\n\n\n\nFor more live music in Berkshire visit BerkshireArtistree.co.uk/live-music-events
URL:https://berkshireartistree.co.uk/live-music-event/open-mic-at-the-oakingham-belle-wokingham/2026-07-03/
LOCATION:The Oakingham Belle\, Oak Ave\, Wokingham\, RG40 1LH
CATEGORIES:Open mic
ATTACH;FMTTYPE=image/jpeg:https://berkshireartistree.co.uk/wp-content/uploads/2026/01/Open-Mic-at-The-Oakingham-Belle_Wokingham.jpg
END:VEVENT
END:VCALENDAR