BEGIN:VCALENDAR
VERSION:2.0
PRODID:-//Berkshire Artistree - ECPv6.15.20//NONSGML v1.0//EN
CALSCALE:GREGORIAN
METHOD:PUBLISH
X-WR-CALNAME:Berkshire Artistree
X-ORIGINAL-URL:https://berkshireartistree.co.uk
X-WR-CALDESC:Events for Berkshire Artistree
REFRESH-INTERVAL;VALUE=DURATION:PT1H
X-Robots-Tag:noindex
X-PUBLISHED-TTL:PT1H
BEGIN:VTIMEZONE
TZID:UTC
BEGIN:STANDARD
TZOFFSETFROM:+0000
TZOFFSETTO:+0000
TZNAME:UTC
DTSTART:20250101T000000
END:STANDARD
END:VTIMEZONE
BEGIN:VEVENT
DTSTART;TZID=UTC:20261106T080000
DTEND;TZID=UTC:20261106T170000
DTSTAMP:20260424T044056
CREATED:20241016T215152Z
LAST-MODIFIED:20260121T143637Z
UID:10009231-1793952000-1793984400@berkshireartistree.co.uk
SUMMARY:Open Mic night at The Club Bar and Lounge\, Newbury
DESCRIPTION:Open Mic night at The Club Bar and Lounge\, Newbury\nhosted by Zoe Badman \n• Every 1st Friday \n\n\n\n\n\n\n\nA family-friendly open mic hosted by Zoe Badman at The Club Bar & Lounge creates an inviting space for creativity\, confidence\, and community. This Zoe Badman at The Club Bar & Lounge event is designed to welcome performers of all ages and abilities\, while keeping the atmosphere relaxed\, supportive\, and inclusive from start to finish. \nAs host\, Zoe Badman brings clarity and warmth to the evening. She guides the open mic with calm introductions and smooth transitions. As a result\, performers feel supported the moment they step on stage. Meanwhile\, her encouraging presence helps first-time artists settle quickly. More experienced performers also benefit from the clear structure and respectful pacing. Overall\, the night feels organised without losing its friendly\, open feel. \nThe setting strengthens that experience. The Club Bar & Lounge offers an intimate layout that encourages attentive listening. Additionally\, its comfortable atmosphere suits a family-friendly open mic\, where audiences can focus on the performers. The venue’s commitment to live culture ensures the emphasis stays on creativity\, participation\, and shared enjoyment. \nFor those interested in Zoe Badman at The Club Bar & Lounge\, this open mic stands out as a welcoming way to experience local talent. Finally\, it offers a chance to enjoy live performance in a space that values positivity and inclusion. \n\n\n\n\n\n\n\nFor more live music in Berkshire visit BerkshireArtistree.co.uk/live-music-events
URL:https://berkshireartistree.co.uk/live-music-event/open-mic-night-at-the-club-bar-and-lounge-newbury/2026-11-06/
LOCATION:Club Bar and Lounge\, Newbury\, 5 Cheap St\,\, Newbury\, RG14 5DD
CATEGORIES:live music newbury,Open mic
ATTACH;FMTTYPE=image/jpeg:https://berkshireartistree.co.uk/wp-content/uploads/2024/04/Club-Bar-and-lounge_-Newbury-Open-Mic_Berkshire-Artistree-e1769005946678.jpg
END:VEVENT
BEGIN:VEVENT
DTSTART;TZID=UTC:20261106T193000
DTEND;TZID=UTC:20261106T213000
DTSTAMP:20260424T044056
CREATED:20260129T161244Z
LAST-MODIFIED:20260214T173431Z
UID:10009269-1793993400-1794000600@berkshireartistree.co.uk
SUMMARY:Live music at The Swan\, Pangbourne | Shaun Twomey
DESCRIPTION:Live music at The Swan\, Pangbourne  \nWith performance from Shaun Twomey \nA warm\, intimate evening of live music is on the way as Shaun Twomey at The Swan Pangbourne brings heartfelt songwriting and accomplished musicianship to one of the Thames Valley’s most characterful venues. Known for his engaging acoustic style and expressive vocals\, Twomey creates performances that feel personal yet polished\, making this a live music experience that rewards close listening. From the first song\, the connection between artist and audience is clear\, setting the tone for an evening shaped by melody\, mood\, and atmosphere. \nMeanwhile\, Shaun Twomey’s live sets balance thoughtful originals with a confident sense of flow. His songs often unfold with subtle dynamics\, allowing emotion to build naturally in the room. Additionally\, his relaxed stage presence invites the audience in\, creating a shared experience rather than a distant performance. This makes Shaun Twomey at The Swan Pangbourne especially appealing for listeners who value authenticity and musical craft in a live setting. \nHowever\, the venue itself plays an equally important role. The Swan Pangbourne is celebrated for its welcoming ambience\, combining classic pub charm with a space that suits acoustic performance beautifully. The natural warmth of the room complements Twomey’s sound\, while the attentive crowd adds to the sense of occasion. Then\, as the night unfolds\, the balance between artist and venue becomes part of the appeal. \nFinally\, Shaun Twomey at The Swan Pangbourne promises a live music night defined by connection\, atmosphere\, and memorable songs. \nFor more Live music visit our full events calendar!
URL:https://berkshireartistree.co.uk/live-music-event/live-music-at-the-swan-pangbourne-shaun-twomey/2026-11-06/
LOCATION:The Swan\, Pangbourne\, Shooters Hill\, Pangbourne\, Reading\, RG8 7DU
CATEGORIES:Live Music
ATTACH;FMTTYPE=image/jpeg:https://berkshireartistree.co.uk/wp-content/uploads/2025/01/Shaun-Twomey_Berkshire-Artistree.jpg
END:VEVENT
END:VCALENDAR