BEGIN:VCALENDAR
VERSION:2.0
PRODID:-//Berkshire Artistree - ECPv6.15.20//NONSGML v1.0//EN
CALSCALE:GREGORIAN
METHOD:PUBLISH
X-ORIGINAL-URL:https://berkshireartistree.co.uk
X-WR-CALDESC:Events for Berkshire Artistree
REFRESH-INTERVAL;VALUE=DURATION:PT1H
X-Robots-Tag:noindex
X-PUBLISHED-TTL:PT1H
BEGIN:VTIMEZONE
TZID:UTC
BEGIN:STANDARD
TZOFFSETFROM:+0000
TZOFFSETTO:+0000
TZNAME:UTC
DTSTART:20250101T000000
END:STANDARD
END:VTIMEZONE
BEGIN:VEVENT
DTSTART;TZID=UTC:20260414T200000
DTEND;TZID=UTC:20260414T230000
DTSTAMP:20260423T224434
CREATED:20250126T122831Z
LAST-MODIFIED:20260127T175059Z
UID:10009237-1776196800-1776207600@berkshireartistree.co.uk
SUMMARY:Open mic at The Market House\, Reading
DESCRIPTION:Open mic at The Market House\, Reading\nhosted by Aj Acoustix and Nicole Allan \n• Every first Tuesday \nAn open mic night thrives on atmosphere\, and Nicole Allan & AJ Acoustix at Market House Reading delivers exactly that. Taking place every first Tuesday of the month\, this regular session invites performers and listeners alike into a relaxed\, music-first setting in the heart of Reading. Meanwhile\, the focus stays firmly on live creativity\, shared moments\, and new voices stepping into the spotlight. \nHosted collaboratively by Nicole Allan and AJ Acoustix\, the night blends warmth with professionalism. Together\, they create a welcoming space where acoustic performers\, singer-songwriters\, and spoken-word artists can try new material or refine familiar favourites. Additionally\, the hosts’ own musical sensibilities help shape a smooth-running evening that encourages confidence without pressure. \nMarket House Reading offers an intimate\, characterful environment that suits acoustic performance perfectly. As a result\, every lyric and melody carries clearly across the room. Moreover\, the venue’s central location makes it a natural meeting point for Reading’s local music community\, from first-time performers to seasoned regulars. Whether you are considering taking the mic or simply enjoying live music up close\, this monthly open mic offers a consistent\, friendly platform. Finally\, its regular rhythm and trusted hosts make it a standout fixture for anyone interested in grassroots live music in Reading. \nFor more live music in Berkshire visit BerkshireArtistree.co.uk/live-music-events
URL:https://berkshireartistree.co.uk/live-music-event/open-mic-at-the-market-house-reading-4/2026-04-14/
LOCATION:Market House\, Reading\, 1-2 Market PLce\, Reading\, RG1 2EQ\, United Kingdom
CATEGORIES:Live music Reading,Open mic
ATTACH;FMTTYPE=image/jpeg:https://berkshireartistree.co.uk/wp-content/uploads/2025/01/Open-Mic-at-Market-House_Reading_2.jpg
END:VEVENT
BEGIN:VEVENT
DTSTART;TZID=UTC:20260512T200000
DTEND;TZID=UTC:20260512T230000
DTSTAMP:20260423T224434
CREATED:20250126T122831Z
LAST-MODIFIED:20260127T175059Z
UID:10009668-1778616000-1778626800@berkshireartistree.co.uk
SUMMARY:Open mic at The Market House\, Reading
DESCRIPTION:Open mic at The Market House\, Reading\nhosted by Aj Acoustix and Nicole Allan \n• Every first Tuesday \nAn open mic night thrives on atmosphere\, and Nicole Allan & AJ Acoustix at Market House Reading delivers exactly that. Taking place every first Tuesday of the month\, this regular session invites performers and listeners alike into a relaxed\, music-first setting in the heart of Reading. Meanwhile\, the focus stays firmly on live creativity\, shared moments\, and new voices stepping into the spotlight. \nHosted collaboratively by Nicole Allan and AJ Acoustix\, the night blends warmth with professionalism. Together\, they create a welcoming space where acoustic performers\, singer-songwriters\, and spoken-word artists can try new material or refine familiar favourites. Additionally\, the hosts’ own musical sensibilities help shape a smooth-running evening that encourages confidence without pressure. \nMarket House Reading offers an intimate\, characterful environment that suits acoustic performance perfectly. As a result\, every lyric and melody carries clearly across the room. Moreover\, the venue’s central location makes it a natural meeting point for Reading’s local music community\, from first-time performers to seasoned regulars. Whether you are considering taking the mic or simply enjoying live music up close\, this monthly open mic offers a consistent\, friendly platform. Finally\, its regular rhythm and trusted hosts make it a standout fixture for anyone interested in grassroots live music in Reading. \nFor more live music in Berkshire visit BerkshireArtistree.co.uk/live-music-events
URL:https://berkshireartistree.co.uk/live-music-event/open-mic-at-the-market-house-reading-4/2026-05-12/
LOCATION:Market House\, Reading\, 1-2 Market PLce\, Reading\, RG1 2EQ\, United Kingdom
CATEGORIES:Live music Reading,Open mic
ATTACH;FMTTYPE=image/jpeg:https://berkshireartistree.co.uk/wp-content/uploads/2025/01/Open-Mic-at-Market-House_Reading_2.jpg
END:VEVENT
BEGIN:VEVENT
DTSTART;TZID=UTC:20260609T200000
DTEND;TZID=UTC:20260609T230000
DTSTAMP:20260423T224434
CREATED:20250126T122831Z
LAST-MODIFIED:20260127T175059Z
UID:10009669-1781035200-1781046000@berkshireartistree.co.uk
SUMMARY:Open mic at The Market House\, Reading
DESCRIPTION:Open mic at The Market House\, Reading\nhosted by Aj Acoustix and Nicole Allan \n• Every first Tuesday \nAn open mic night thrives on atmosphere\, and Nicole Allan & AJ Acoustix at Market House Reading delivers exactly that. Taking place every first Tuesday of the month\, this regular session invites performers and listeners alike into a relaxed\, music-first setting in the heart of Reading. Meanwhile\, the focus stays firmly on live creativity\, shared moments\, and new voices stepping into the spotlight. \nHosted collaboratively by Nicole Allan and AJ Acoustix\, the night blends warmth with professionalism. Together\, they create a welcoming space where acoustic performers\, singer-songwriters\, and spoken-word artists can try new material or refine familiar favourites. Additionally\, the hosts’ own musical sensibilities help shape a smooth-running evening that encourages confidence without pressure. \nMarket House Reading offers an intimate\, characterful environment that suits acoustic performance perfectly. As a result\, every lyric and melody carries clearly across the room. Moreover\, the venue’s central location makes it a natural meeting point for Reading’s local music community\, from first-time performers to seasoned regulars. Whether you are considering taking the mic or simply enjoying live music up close\, this monthly open mic offers a consistent\, friendly platform. Finally\, its regular rhythm and trusted hosts make it a standout fixture for anyone interested in grassroots live music in Reading. \nFor more live music in Berkshire visit BerkshireArtistree.co.uk/live-music-events
URL:https://berkshireartistree.co.uk/live-music-event/open-mic-at-the-market-house-reading-4/2026-06-09/
LOCATION:Market House\, Reading\, 1-2 Market PLce\, Reading\, RG1 2EQ\, United Kingdom
CATEGORIES:Live music Reading,Open mic
ATTACH;FMTTYPE=image/jpeg:https://berkshireartistree.co.uk/wp-content/uploads/2025/01/Open-Mic-at-Market-House_Reading_2.jpg
END:VEVENT
END:VCALENDAR