BEGIN:VCALENDAR
VERSION:2.0
PRODID:-//Berkshire Artistree - ECPv6.15.20//NONSGML v1.0//EN
CALSCALE:GREGORIAN
METHOD:PUBLISH
X-WR-CALNAME:Berkshire Artistree
X-ORIGINAL-URL:https://berkshireartistree.co.uk
X-WR-CALDESC:Events for Berkshire Artistree
REFRESH-INTERVAL;VALUE=DURATION:PT1H
X-Robots-Tag:noindex
X-PUBLISHED-TTL:PT1H
BEGIN:VTIMEZONE
TZID:UTC
BEGIN:STANDARD
TZOFFSETFROM:+0000
TZOFFSETTO:+0000
TZNAME:UTC
DTSTART:20250101T000000
END:STANDARD
END:VTIMEZONE
BEGIN:VEVENT
DTSTART;TZID=UTC:20260415T203000
DTEND;TZID=UTC:20260415T223000
DTSTAMP:20260423T213639
CREATED:20241016T215208Z
LAST-MODIFIED:20241120T180602Z
UID:10009208-1776285000-1776292200@berkshireartistree.co.uk
SUMMARY:Open Mic at The Golden Cross\, Twyford
DESCRIPTION:Open Mic at The Golden Cross\, Twyford\nhosted by Damian Delahunty \n• Every Wednesday \nOpen Mic down at the Golden Cross in Twyford\, run by seasoned musician Damian Delahunty. Nice intimate space with a listening audeince\, great to network with other musicians. The venue has parking and will lend his guitar if you ask nicely! See the venue and organiser links below for more details. \nFor more live music in Berkshire visit BerkshireArtistree.co.uk/live-music-events
URL:https://berkshireartistree.co.uk/live-music-event/open-mic-at-the-golden-cross-twyford-29/2026-04-15/
LOCATION:The Golden Cross\, Twyford\, 8 Waltham Rd\, Twyford\, Reading\, RG10 9EG\, United Kingdom
CATEGORIES:live music twyford,live music wokingham,Open mic
ATTACH;FMTTYPE=image/jpeg:https://berkshireartistree.co.uk/wp-content/uploads/2024/04/Golden-Cross_open-mic-night_Berkshire-Artistree.jpeg
END:VEVENT
BEGIN:VEVENT
DTSTART;TZID=UTC:20260422T203000
DTEND;TZID=UTC:20260422T223000
DTSTAMP:20260423T213639
CREATED:20241016T215208Z
LAST-MODIFIED:20241120T180602Z
UID:10009255-1776889800-1776897000@berkshireartistree.co.uk
SUMMARY:Open Mic at The Golden Cross\, Twyford
DESCRIPTION:Open Mic at The Golden Cross\, Twyford\nhosted by Damian Delahunty \n• Every Wednesday \nOpen Mic down at the Golden Cross in Twyford\, run by seasoned musician Damian Delahunty. Nice intimate space with a listening audeince\, great to network with other musicians. The venue has parking and will lend his guitar if you ask nicely! See the venue and organiser links below for more details. \nFor more live music in Berkshire visit BerkshireArtistree.co.uk/live-music-events
URL:https://berkshireartistree.co.uk/live-music-event/open-mic-at-the-golden-cross-twyford-29/2026-04-22/
LOCATION:The Golden Cross\, Twyford\, 8 Waltham Rd\, Twyford\, Reading\, RG10 9EG\, United Kingdom
CATEGORIES:live music twyford,live music wokingham,Open mic
ATTACH;FMTTYPE=image/jpeg:https://berkshireartistree.co.uk/wp-content/uploads/2024/04/Golden-Cross_open-mic-night_Berkshire-Artistree.jpeg
END:VEVENT
BEGIN:VEVENT
DTSTART;TZID=UTC:20260429T203000
DTEND;TZID=UTC:20260429T223000
DTSTAMP:20260423T213639
CREATED:20241016T215208Z
LAST-MODIFIED:20241120T180602Z
UID:10009296-1777494600-1777501800@berkshireartistree.co.uk
SUMMARY:Open Mic at The Golden Cross\, Twyford
DESCRIPTION:Open Mic at The Golden Cross\, Twyford\nhosted by Damian Delahunty \n• Every Wednesday \nOpen Mic down at the Golden Cross in Twyford\, run by seasoned musician Damian Delahunty. Nice intimate space with a listening audeince\, great to network with other musicians. The venue has parking and will lend his guitar if you ask nicely! See the venue and organiser links below for more details. \nFor more live music in Berkshire visit BerkshireArtistree.co.uk/live-music-events
URL:https://berkshireartistree.co.uk/live-music-event/open-mic-at-the-golden-cross-twyford-29/2026-04-29/
LOCATION:The Golden Cross\, Twyford\, 8 Waltham Rd\, Twyford\, Reading\, RG10 9EG\, United Kingdom
CATEGORIES:live music twyford,live music wokingham,Open mic
ATTACH;FMTTYPE=image/jpeg:https://berkshireartistree.co.uk/wp-content/uploads/2024/04/Golden-Cross_open-mic-night_Berkshire-Artistree.jpeg
END:VEVENT
BEGIN:VEVENT
DTSTART;TZID=UTC:20260506T203000
DTEND;TZID=UTC:20260506T223000
DTSTAMP:20260423T213639
CREATED:20241016T215208Z
LAST-MODIFIED:20241120T180602Z
UID:10009393-1778099400-1778106600@berkshireartistree.co.uk
SUMMARY:Open Mic at The Golden Cross\, Twyford
DESCRIPTION:Open Mic at The Golden Cross\, Twyford\nhosted by Damian Delahunty \n• Every Wednesday \nOpen Mic down at the Golden Cross in Twyford\, run by seasoned musician Damian Delahunty. Nice intimate space with a listening audeince\, great to network with other musicians. The venue has parking and will lend his guitar if you ask nicely! See the venue and organiser links below for more details. \nFor more live music in Berkshire visit BerkshireArtistree.co.uk/live-music-events
URL:https://berkshireartistree.co.uk/live-music-event/open-mic-at-the-golden-cross-twyford-29/2026-05-06/
LOCATION:The Golden Cross\, Twyford\, 8 Waltham Rd\, Twyford\, Reading\, RG10 9EG\, United Kingdom
CATEGORIES:live music twyford,live music wokingham,Open mic
ATTACH;FMTTYPE=image/jpeg:https://berkshireartistree.co.uk/wp-content/uploads/2024/04/Golden-Cross_open-mic-night_Berkshire-Artistree.jpeg
END:VEVENT
BEGIN:VEVENT
DTSTART;TZID=UTC:20260513T203000
DTEND;TZID=UTC:20260513T223000
DTSTAMP:20260423T213639
CREATED:20241016T215208Z
LAST-MODIFIED:20241120T180602Z
UID:10009448-1778704200-1778711400@berkshireartistree.co.uk
SUMMARY:Open Mic at The Golden Cross\, Twyford
DESCRIPTION:Open Mic at The Golden Cross\, Twyford\nhosted by Damian Delahunty \n• Every Wednesday \nOpen Mic down at the Golden Cross in Twyford\, run by seasoned musician Damian Delahunty. Nice intimate space with a listening audeince\, great to network with other musicians. The venue has parking and will lend his guitar if you ask nicely! See the venue and organiser links below for more details. \nFor more live music in Berkshire visit BerkshireArtistree.co.uk/live-music-events
URL:https://berkshireartistree.co.uk/live-music-event/open-mic-at-the-golden-cross-twyford-29/2026-05-13/
LOCATION:The Golden Cross\, Twyford\, 8 Waltham Rd\, Twyford\, Reading\, RG10 9EG\, United Kingdom
CATEGORIES:live music twyford,live music wokingham,Open mic
ATTACH;FMTTYPE=image/jpeg:https://berkshireartistree.co.uk/wp-content/uploads/2024/04/Golden-Cross_open-mic-night_Berkshire-Artistree.jpeg
END:VEVENT
BEGIN:VEVENT
DTSTART;TZID=UTC:20260520T203000
DTEND;TZID=UTC:20260520T223000
DTSTAMP:20260423T213639
CREATED:20241016T215208Z
LAST-MODIFIED:20241120T180602Z
UID:10009508-1779309000-1779316200@berkshireartistree.co.uk
SUMMARY:Open Mic at The Golden Cross\, Twyford
DESCRIPTION:Open Mic at The Golden Cross\, Twyford\nhosted by Damian Delahunty \n• Every Wednesday \nOpen Mic down at the Golden Cross in Twyford\, run by seasoned musician Damian Delahunty. Nice intimate space with a listening audeince\, great to network with other musicians. The venue has parking and will lend his guitar if you ask nicely! See the venue and organiser links below for more details. \nFor more live music in Berkshire visit BerkshireArtistree.co.uk/live-music-events
URL:https://berkshireartistree.co.uk/live-music-event/open-mic-at-the-golden-cross-twyford-29/2026-05-20/
LOCATION:The Golden Cross\, Twyford\, 8 Waltham Rd\, Twyford\, Reading\, RG10 9EG\, United Kingdom
CATEGORIES:live music twyford,live music wokingham,Open mic
ATTACH;FMTTYPE=image/jpeg:https://berkshireartistree.co.uk/wp-content/uploads/2024/04/Golden-Cross_open-mic-night_Berkshire-Artistree.jpeg
END:VEVENT
BEGIN:VEVENT
DTSTART;TZID=UTC:20260527T203000
DTEND;TZID=UTC:20260527T223000
DTSTAMP:20260423T213639
CREATED:20241016T215208Z
LAST-MODIFIED:20241120T180602Z
UID:10009604-1779913800-1779921000@berkshireartistree.co.uk
SUMMARY:Open Mic at The Golden Cross\, Twyford
DESCRIPTION:Open Mic at The Golden Cross\, Twyford\nhosted by Damian Delahunty \n• Every Wednesday \nOpen Mic down at the Golden Cross in Twyford\, run by seasoned musician Damian Delahunty. Nice intimate space with a listening audeince\, great to network with other musicians. The venue has parking and will lend his guitar if you ask nicely! See the venue and organiser links below for more details. \nFor more live music in Berkshire visit BerkshireArtistree.co.uk/live-music-events
URL:https://berkshireartistree.co.uk/live-music-event/open-mic-at-the-golden-cross-twyford-29/2026-05-27/
LOCATION:The Golden Cross\, Twyford\, 8 Waltham Rd\, Twyford\, Reading\, RG10 9EG\, United Kingdom
CATEGORIES:live music twyford,live music wokingham,Open mic
ATTACH;FMTTYPE=image/jpeg:https://berkshireartistree.co.uk/wp-content/uploads/2024/04/Golden-Cross_open-mic-night_Berkshire-Artistree.jpeg
END:VEVENT
BEGIN:VEVENT
DTSTART;TZID=UTC:20260603T203000
DTEND;TZID=UTC:20260603T223000
DTSTAMP:20260423T213639
CREATED:20241016T215208Z
LAST-MODIFIED:20241120T180602Z
UID:10009648-1780518600-1780525800@berkshireartistree.co.uk
SUMMARY:Open Mic at The Golden Cross\, Twyford
DESCRIPTION:Open Mic at The Golden Cross\, Twyford\nhosted by Damian Delahunty \n• Every Wednesday \nOpen Mic down at the Golden Cross in Twyford\, run by seasoned musician Damian Delahunty. Nice intimate space with a listening audeince\, great to network with other musicians. The venue has parking and will lend his guitar if you ask nicely! See the venue and organiser links below for more details. \nFor more live music in Berkshire visit BerkshireArtistree.co.uk/live-music-events
URL:https://berkshireartistree.co.uk/live-music-event/open-mic-at-the-golden-cross-twyford-29/2026-06-03/
LOCATION:The Golden Cross\, Twyford\, 8 Waltham Rd\, Twyford\, Reading\, RG10 9EG\, United Kingdom
CATEGORIES:live music twyford,live music wokingham,Open mic
ATTACH;FMTTYPE=image/jpeg:https://berkshireartistree.co.uk/wp-content/uploads/2024/04/Golden-Cross_open-mic-night_Berkshire-Artistree.jpeg
END:VEVENT
BEGIN:VEVENT
DTSTART;TZID=UTC:20260610T203000
DTEND;TZID=UTC:20260610T223000
DTSTAMP:20260423T213639
CREATED:20241016T215208Z
LAST-MODIFIED:20241120T180602Z
UID:10009688-1781123400-1781130600@berkshireartistree.co.uk
SUMMARY:Open Mic at The Golden Cross\, Twyford
DESCRIPTION:Open Mic at The Golden Cross\, Twyford\nhosted by Damian Delahunty \n• Every Wednesday \nOpen Mic down at the Golden Cross in Twyford\, run by seasoned musician Damian Delahunty. Nice intimate space with a listening audeince\, great to network with other musicians. The venue has parking and will lend his guitar if you ask nicely! See the venue and organiser links below for more details. \nFor more live music in Berkshire visit BerkshireArtistree.co.uk/live-music-events
URL:https://berkshireartistree.co.uk/live-music-event/open-mic-at-the-golden-cross-twyford-29/2026-06-10/
LOCATION:The Golden Cross\, Twyford\, 8 Waltham Rd\, Twyford\, Reading\, RG10 9EG\, United Kingdom
CATEGORIES:live music twyford,live music wokingham,Open mic
ATTACH;FMTTYPE=image/jpeg:https://berkshireartistree.co.uk/wp-content/uploads/2024/04/Golden-Cross_open-mic-night_Berkshire-Artistree.jpeg
END:VEVENT
BEGIN:VEVENT
DTSTART;TZID=UTC:20260617T203000
DTEND;TZID=UTC:20260617T223000
DTSTAMP:20260423T213639
CREATED:20241016T215208Z
LAST-MODIFIED:20241120T180602Z
UID:10009712-1781728200-1781735400@berkshireartistree.co.uk
SUMMARY:Open Mic at The Golden Cross\, Twyford
DESCRIPTION:Open Mic at The Golden Cross\, Twyford\nhosted by Damian Delahunty \n• Every Wednesday \nOpen Mic down at the Golden Cross in Twyford\, run by seasoned musician Damian Delahunty. Nice intimate space with a listening audeince\, great to network with other musicians. The venue has parking and will lend his guitar if you ask nicely! See the venue and organiser links below for more details. \nFor more live music in Berkshire visit BerkshireArtistree.co.uk/live-music-events
URL:https://berkshireartistree.co.uk/live-music-event/open-mic-at-the-golden-cross-twyford-29/2026-06-17/
LOCATION:The Golden Cross\, Twyford\, 8 Waltham Rd\, Twyford\, Reading\, RG10 9EG\, United Kingdom
CATEGORIES:live music twyford,live music wokingham,Open mic
ATTACH;FMTTYPE=image/jpeg:https://berkshireartistree.co.uk/wp-content/uploads/2024/04/Golden-Cross_open-mic-night_Berkshire-Artistree.jpeg
END:VEVENT
BEGIN:VEVENT
DTSTART;TZID=UTC:20260624T203000
DTEND;TZID=UTC:20260624T223000
DTSTAMP:20260423T213639
CREATED:20241016T215208Z
LAST-MODIFIED:20241120T180602Z
UID:10009765-1782333000-1782340200@berkshireartistree.co.uk
SUMMARY:Open Mic at The Golden Cross\, Twyford
DESCRIPTION:Open Mic at The Golden Cross\, Twyford\nhosted by Damian Delahunty \n• Every Wednesday \nOpen Mic down at the Golden Cross in Twyford\, run by seasoned musician Damian Delahunty. Nice intimate space with a listening audeince\, great to network with other musicians. The venue has parking and will lend his guitar if you ask nicely! See the venue and organiser links below for more details. \nFor more live music in Berkshire visit BerkshireArtistree.co.uk/live-music-events
URL:https://berkshireartistree.co.uk/live-music-event/open-mic-at-the-golden-cross-twyford-29/2026-06-24/
LOCATION:The Golden Cross\, Twyford\, 8 Waltham Rd\, Twyford\, Reading\, RG10 9EG\, United Kingdom
CATEGORIES:live music twyford,live music wokingham,Open mic
ATTACH;FMTTYPE=image/jpeg:https://berkshireartistree.co.uk/wp-content/uploads/2024/04/Golden-Cross_open-mic-night_Berkshire-Artistree.jpeg
END:VEVENT
BEGIN:VEVENT
DTSTART;TZID=UTC:20260701T203000
DTEND;TZID=UTC:20260701T223000
DTSTAMP:20260423T213639
CREATED:20241016T215208Z
LAST-MODIFIED:20241120T180602Z
UID:10009831-1782937800-1782945000@berkshireartistree.co.uk
SUMMARY:Open Mic at The Golden Cross\, Twyford
DESCRIPTION:Open Mic at The Golden Cross\, Twyford\nhosted by Damian Delahunty \n• Every Wednesday \nOpen Mic down at the Golden Cross in Twyford\, run by seasoned musician Damian Delahunty. Nice intimate space with a listening audeince\, great to network with other musicians. The venue has parking and will lend his guitar if you ask nicely! See the venue and organiser links below for more details. \nFor more live music in Berkshire visit BerkshireArtistree.co.uk/live-music-events
URL:https://berkshireartistree.co.uk/live-music-event/open-mic-at-the-golden-cross-twyford-29/2026-07-01/
LOCATION:The Golden Cross\, Twyford\, 8 Waltham Rd\, Twyford\, Reading\, RG10 9EG\, United Kingdom
CATEGORIES:live music twyford,live music wokingham,Open mic
ATTACH;FMTTYPE=image/jpeg:https://berkshireartistree.co.uk/wp-content/uploads/2024/04/Golden-Cross_open-mic-night_Berkshire-Artistree.jpeg
END:VEVENT
BEGIN:VEVENT
DTSTART;TZID=UTC:20260708T203000
DTEND;TZID=UTC:20260708T223000
DTSTAMP:20260423T213639
CREATED:20241016T215208Z
LAST-MODIFIED:20241120T180602Z
UID:10009868-1783542600-1783549800@berkshireartistree.co.uk
SUMMARY:Open Mic at The Golden Cross\, Twyford
DESCRIPTION:Open Mic at The Golden Cross\, Twyford\nhosted by Damian Delahunty \n• Every Wednesday \nOpen Mic down at the Golden Cross in Twyford\, run by seasoned musician Damian Delahunty. Nice intimate space with a listening audeince\, great to network with other musicians. The venue has parking and will lend his guitar if you ask nicely! See the venue and organiser links below for more details. \nFor more live music in Berkshire visit BerkshireArtistree.co.uk/live-music-events
URL:https://berkshireartistree.co.uk/live-music-event/open-mic-at-the-golden-cross-twyford-29/2026-07-08/
LOCATION:The Golden Cross\, Twyford\, 8 Waltham Rd\, Twyford\, Reading\, RG10 9EG\, United Kingdom
CATEGORIES:live music twyford,live music wokingham,Open mic
ATTACH;FMTTYPE=image/jpeg:https://berkshireartistree.co.uk/wp-content/uploads/2024/04/Golden-Cross_open-mic-night_Berkshire-Artistree.jpeg
END:VEVENT
BEGIN:VEVENT
DTSTART;TZID=UTC:20260715T203000
DTEND;TZID=UTC:20260715T223000
DTSTAMP:20260423T213639
CREATED:20241016T215208Z
LAST-MODIFIED:20241120T180602Z
UID:10009928-1784147400-1784154600@berkshireartistree.co.uk
SUMMARY:Open Mic at The Golden Cross\, Twyford
DESCRIPTION:Open Mic at The Golden Cross\, Twyford\nhosted by Damian Delahunty \n• Every Wednesday \nOpen Mic down at the Golden Cross in Twyford\, run by seasoned musician Damian Delahunty. Nice intimate space with a listening audeince\, great to network with other musicians. The venue has parking and will lend his guitar if you ask nicely! See the venue and organiser links below for more details. \nFor more live music in Berkshire visit BerkshireArtistree.co.uk/live-music-events
URL:https://berkshireartistree.co.uk/live-music-event/open-mic-at-the-golden-cross-twyford-29/2026-07-15/
LOCATION:The Golden Cross\, Twyford\, 8 Waltham Rd\, Twyford\, Reading\, RG10 9EG\, United Kingdom
CATEGORIES:live music twyford,live music wokingham,Open mic
ATTACH;FMTTYPE=image/jpeg:https://berkshireartistree.co.uk/wp-content/uploads/2024/04/Golden-Cross_open-mic-night_Berkshire-Artistree.jpeg
END:VEVENT
END:VCALENDAR