BEGIN:VCALENDAR
VERSION:2.0
PRODID:-//Berkshire Artistree - ECPv6.15.20//NONSGML v1.0//EN
CALSCALE:GREGORIAN
METHOD:PUBLISH
X-WR-CALNAME:Berkshire Artistree
X-ORIGINAL-URL:https://berkshireartistree.co.uk
X-WR-CALDESC:Events for Berkshire Artistree
REFRESH-INTERVAL;VALUE=DURATION:PT1H
X-Robots-Tag:noindex
X-PUBLISHED-TTL:PT1H
BEGIN:VTIMEZONE
TZID:UTC
BEGIN:STANDARD
TZOFFSETFROM:+0000
TZOFFSETTO:+0000
TZNAME:UTC
DTSTART:20250101T000000
END:STANDARD
END:VTIMEZONE
BEGIN:VEVENT
DTSTART;TZID=UTC:20260504T203000
DTEND;TZID=UTC:20260504T230000
DTSTAMP:20260423T194849
CREATED:20241122T165053Z
LAST-MODIFIED:20250201T133250Z
UID:10009373-1777926600-1777935600@berkshireartistree.co.uk
SUMMARY:Open Mic night at GOGOS\, Windsor
DESCRIPTION:Open Mic night at GOGOS\, Windsor \nHosted by Damian Delahunty \n• Every Monday \nGOGOs Waterfront bar hosts their weekly open mic in Windsor\, led by the fantastic Damian. They have a superb spot down by the marina\, welcoming talent of all levels and have a great supportive environment! Damian runs a whole host open open mics\, for more live music in Berkshire visit BerkshireArtistree.co.uk/live-music-events
URL:https://berkshireartistree.co.uk/live-music-event/open-mic-night-at-gogos-windsor/2026-05-04/
LOCATION:GOGOS Waterfront Bar\, Racecourse Marina\, Maidenhead Rd\, Windsor\, SL4 5HT\, United Kingdom
CATEGORIES:Live music Windsor,Open mic
ATTACH;FMTTYPE=image/jpeg:https://berkshireartistree.co.uk/wp-content/uploads/2024/11/open-mic-windsor_Gogos_live-music_windsor_Berkshire-Artistree.jpg
END:VEVENT
BEGIN:VEVENT
DTSTART;TZID=UTC:20260507T203000
DTEND;TZID=UTC:20260507T230000
DTSTAMP:20260423T194849
CREATED:20250310T090745Z
LAST-MODIFIED:20251124T135140Z
UID:10009401-1778185800-1778194800@berkshireartistree.co.uk
SUMMARY:Open Mic at The Acre\, Windsor
DESCRIPTION:Open Mic at The Acre\, Windsor\nhosted by Damian Delahunty \n• Every Thursday \nDamian is a seasoned musician who will welcome all types of act to the stage and creates a very supportive environment. He actively encourages new acts to perform and will happily lend his guitar to you if you ask nicely! See Damian Delahunty for more details. \nFor more live music in Berkshire visit our events page.
URL:https://berkshireartistree.co.uk/live-music-event/open-mic-at-the-acre-windsor/2026-05-07/
LOCATION:The Acre\, Windsor\, Victoria St\, Windsor\, SL4 1EN\, United Kingdom
CATEGORIES:Live music Windsor,Open mic
ATTACH;FMTTYPE=image/jpeg:https://berkshireartistree.co.uk/wp-content/uploads/2025/03/Open-Mic_The-Acre_Windsor.jpg
END:VEVENT
BEGIN:VEVENT
DTSTART;TZID=UTC:20260511T203000
DTEND;TZID=UTC:20260511T230000
DTSTAMP:20260423T194849
CREATED:20241122T165053Z
LAST-MODIFIED:20250201T133250Z
UID:10009424-1778531400-1778540400@berkshireartistree.co.uk
SUMMARY:Open Mic night at GOGOS\, Windsor
DESCRIPTION:Open Mic night at GOGOS\, Windsor \nHosted by Damian Delahunty \n• Every Monday \nGOGOs Waterfront bar hosts their weekly open mic in Windsor\, led by the fantastic Damian. They have a superb spot down by the marina\, welcoming talent of all levels and have a great supportive environment! Damian runs a whole host open open mics\, for more live music in Berkshire visit BerkshireArtistree.co.uk/live-music-events
URL:https://berkshireartistree.co.uk/live-music-event/open-mic-night-at-gogos-windsor/2026-05-11/
LOCATION:GOGOS Waterfront Bar\, Racecourse Marina\, Maidenhead Rd\, Windsor\, SL4 5HT\, United Kingdom
CATEGORIES:Live music Windsor,Open mic
ATTACH;FMTTYPE=image/jpeg:https://berkshireartistree.co.uk/wp-content/uploads/2024/11/open-mic-windsor_Gogos_live-music_windsor_Berkshire-Artistree.jpg
END:VEVENT
BEGIN:VEVENT
DTSTART;TZID=UTC:20260514T203000
DTEND;TZID=UTC:20260514T230000
DTSTAMP:20260423T194849
CREATED:20250310T090745Z
LAST-MODIFIED:20251124T135140Z
UID:10009453-1778790600-1778799600@berkshireartistree.co.uk
SUMMARY:Open Mic at The Acre\, Windsor
DESCRIPTION:Open Mic at The Acre\, Windsor\nhosted by Damian Delahunty \n• Every Thursday \nDamian is a seasoned musician who will welcome all types of act to the stage and creates a very supportive environment. He actively encourages new acts to perform and will happily lend his guitar to you if you ask nicely! See Damian Delahunty for more details. \nFor more live music in Berkshire visit our events page.
URL:https://berkshireartistree.co.uk/live-music-event/open-mic-at-the-acre-windsor/2026-05-14/
LOCATION:The Acre\, Windsor\, Victoria St\, Windsor\, SL4 1EN\, United Kingdom
CATEGORIES:Live music Windsor,Open mic
ATTACH;FMTTYPE=image/jpeg:https://berkshireartistree.co.uk/wp-content/uploads/2025/03/Open-Mic_The-Acre_Windsor.jpg
END:VEVENT
BEGIN:VEVENT
DTSTART;TZID=UTC:20260518T203000
DTEND;TZID=UTC:20260518T230000
DTSTAMP:20260423T194849
CREATED:20241122T165053Z
LAST-MODIFIED:20250201T133250Z
UID:10009486-1779136200-1779145200@berkshireartistree.co.uk
SUMMARY:Open Mic night at GOGOS\, Windsor
DESCRIPTION:Open Mic night at GOGOS\, Windsor \nHosted by Damian Delahunty \n• Every Monday \nGOGOs Waterfront bar hosts their weekly open mic in Windsor\, led by the fantastic Damian. They have a superb spot down by the marina\, welcoming talent of all levels and have a great supportive environment! Damian runs a whole host open open mics\, for more live music in Berkshire visit BerkshireArtistree.co.uk/live-music-events
URL:https://berkshireartistree.co.uk/live-music-event/open-mic-night-at-gogos-windsor/2026-05-18/
LOCATION:GOGOS Waterfront Bar\, Racecourse Marina\, Maidenhead Rd\, Windsor\, SL4 5HT\, United Kingdom
CATEGORIES:Live music Windsor,Open mic
ATTACH;FMTTYPE=image/jpeg:https://berkshireartistree.co.uk/wp-content/uploads/2024/11/open-mic-windsor_Gogos_live-music_windsor_Berkshire-Artistree.jpg
END:VEVENT
BEGIN:VEVENT
DTSTART;TZID=UTC:20260521T203000
DTEND;TZID=UTC:20260521T230000
DTSTAMP:20260423T194849
CREATED:20250310T090745Z
LAST-MODIFIED:20251124T135140Z
UID:10009513-1779395400-1779404400@berkshireartistree.co.uk
SUMMARY:Open Mic at The Acre\, Windsor
DESCRIPTION:Open Mic at The Acre\, Windsor\nhosted by Damian Delahunty \n• Every Thursday \nDamian is a seasoned musician who will welcome all types of act to the stage and creates a very supportive environment. He actively encourages new acts to perform and will happily lend his guitar to you if you ask nicely! See Damian Delahunty for more details. \nFor more live music in Berkshire visit our events page.
URL:https://berkshireartistree.co.uk/live-music-event/open-mic-at-the-acre-windsor/2026-05-21/
LOCATION:The Acre\, Windsor\, Victoria St\, Windsor\, SL4 1EN\, United Kingdom
CATEGORIES:Live music Windsor,Open mic
ATTACH;FMTTYPE=image/jpeg:https://berkshireartistree.co.uk/wp-content/uploads/2025/03/Open-Mic_The-Acre_Windsor.jpg
END:VEVENT
BEGIN:VEVENT
DTSTART;TZID=UTC:20260525T203000
DTEND;TZID=UTC:20260525T230000
DTSTAMP:20260423T194849
CREATED:20241122T165053Z
LAST-MODIFIED:20250201T133250Z
UID:10009583-1779741000-1779750000@berkshireartistree.co.uk
SUMMARY:Open Mic night at GOGOS\, Windsor
DESCRIPTION:Open Mic night at GOGOS\, Windsor \nHosted by Damian Delahunty \n• Every Monday \nGOGOs Waterfront bar hosts their weekly open mic in Windsor\, led by the fantastic Damian. They have a superb spot down by the marina\, welcoming talent of all levels and have a great supportive environment! Damian runs a whole host open open mics\, for more live music in Berkshire visit BerkshireArtistree.co.uk/live-music-events
URL:https://berkshireartistree.co.uk/live-music-event/open-mic-night-at-gogos-windsor/2026-05-25/
LOCATION:GOGOS Waterfront Bar\, Racecourse Marina\, Maidenhead Rd\, Windsor\, SL4 5HT\, United Kingdom
CATEGORIES:Live music Windsor,Open mic
ATTACH;FMTTYPE=image/jpeg:https://berkshireartistree.co.uk/wp-content/uploads/2024/11/open-mic-windsor_Gogos_live-music_windsor_Berkshire-Artistree.jpg
END:VEVENT
BEGIN:VEVENT
DTSTART;TZID=UTC:20260528T203000
DTEND;TZID=UTC:20260528T230000
DTSTAMP:20260423T194849
CREATED:20250310T090745Z
LAST-MODIFIED:20251124T135140Z
UID:10009608-1780000200-1780009200@berkshireartistree.co.uk
SUMMARY:Open Mic at The Acre\, Windsor
DESCRIPTION:Open Mic at The Acre\, Windsor\nhosted by Damian Delahunty \n• Every Thursday \nDamian is a seasoned musician who will welcome all types of act to the stage and creates a very supportive environment. He actively encourages new acts to perform and will happily lend his guitar to you if you ask nicely! See Damian Delahunty for more details. \nFor more live music in Berkshire visit our events page.
URL:https://berkshireartistree.co.uk/live-music-event/open-mic-at-the-acre-windsor/2026-05-28/
LOCATION:The Acre\, Windsor\, Victoria St\, Windsor\, SL4 1EN\, United Kingdom
CATEGORIES:Live music Windsor,Open mic
ATTACH;FMTTYPE=image/jpeg:https://berkshireartistree.co.uk/wp-content/uploads/2025/03/Open-Mic_The-Acre_Windsor.jpg
END:VEVENT
BEGIN:VEVENT
DTSTART;TZID=UTC:20260601T203000
DTEND;TZID=UTC:20260601T230000
DTSTAMP:20260423T194849
CREATED:20241122T165053Z
LAST-MODIFIED:20250201T133250Z
UID:10009631-1780345800-1780354800@berkshireartistree.co.uk
SUMMARY:Open Mic night at GOGOS\, Windsor
DESCRIPTION:Open Mic night at GOGOS\, Windsor \nHosted by Damian Delahunty \n• Every Monday \nGOGOs Waterfront bar hosts their weekly open mic in Windsor\, led by the fantastic Damian. They have a superb spot down by the marina\, welcoming talent of all levels and have a great supportive environment! Damian runs a whole host open open mics\, for more live music in Berkshire visit BerkshireArtistree.co.uk/live-music-events
URL:https://berkshireartistree.co.uk/live-music-event/open-mic-night-at-gogos-windsor/2026-06-01/
LOCATION:GOGOS Waterfront Bar\, Racecourse Marina\, Maidenhead Rd\, Windsor\, SL4 5HT\, United Kingdom
CATEGORIES:Live music Windsor,Open mic
ATTACH;FMTTYPE=image/jpeg:https://berkshireartistree.co.uk/wp-content/uploads/2024/11/open-mic-windsor_Gogos_live-music_windsor_Berkshire-Artistree.jpg
END:VEVENT
BEGIN:VEVENT
DTSTART;TZID=UTC:20260604T203000
DTEND;TZID=UTC:20260604T230000
DTSTAMP:20260423T194849
CREATED:20250310T090745Z
LAST-MODIFIED:20251124T135140Z
UID:10009656-1780605000-1780614000@berkshireartistree.co.uk
SUMMARY:Open Mic at The Acre\, Windsor
DESCRIPTION:Open Mic at The Acre\, Windsor\nhosted by Damian Delahunty \n• Every Thursday \nDamian is a seasoned musician who will welcome all types of act to the stage and creates a very supportive environment. He actively encourages new acts to perform and will happily lend his guitar to you if you ask nicely! See Damian Delahunty for more details. \nFor more live music in Berkshire visit our events page.
URL:https://berkshireartistree.co.uk/live-music-event/open-mic-at-the-acre-windsor/2026-06-04/
LOCATION:The Acre\, Windsor\, Victoria St\, Windsor\, SL4 1EN\, United Kingdom
CATEGORIES:Live music Windsor,Open mic
ATTACH;FMTTYPE=image/jpeg:https://berkshireartistree.co.uk/wp-content/uploads/2025/03/Open-Mic_The-Acre_Windsor.jpg
END:VEVENT
BEGIN:VEVENT
DTSTART;TZID=UTC:20260608T203000
DTEND;TZID=UTC:20260608T230000
DTSTAMP:20260423T194849
CREATED:20241122T165053Z
LAST-MODIFIED:20250201T133250Z
UID:10009666-1780950600-1780959600@berkshireartistree.co.uk
SUMMARY:Open Mic night at GOGOS\, Windsor
DESCRIPTION:Open Mic night at GOGOS\, Windsor \nHosted by Damian Delahunty \n• Every Monday \nGOGOs Waterfront bar hosts their weekly open mic in Windsor\, led by the fantastic Damian. They have a superb spot down by the marina\, welcoming talent of all levels and have a great supportive environment! Damian runs a whole host open open mics\, for more live music in Berkshire visit BerkshireArtistree.co.uk/live-music-events
URL:https://berkshireartistree.co.uk/live-music-event/open-mic-night-at-gogos-windsor/2026-06-08/
LOCATION:GOGOS Waterfront Bar\, Racecourse Marina\, Maidenhead Rd\, Windsor\, SL4 5HT\, United Kingdom
CATEGORIES:Live music Windsor,Open mic
ATTACH;FMTTYPE=image/jpeg:https://berkshireartistree.co.uk/wp-content/uploads/2024/11/open-mic-windsor_Gogos_live-music_windsor_Berkshire-Artistree.jpg
END:VEVENT
BEGIN:VEVENT
DTSTART;TZID=UTC:20260611T203000
DTEND;TZID=UTC:20260611T230000
DTSTAMP:20260423T194849
CREATED:20250310T090745Z
LAST-MODIFIED:20251124T135140Z
UID:10009695-1781209800-1781218800@berkshireartistree.co.uk
SUMMARY:Open Mic at The Acre\, Windsor
DESCRIPTION:Open Mic at The Acre\, Windsor\nhosted by Damian Delahunty \n• Every Thursday \nDamian is a seasoned musician who will welcome all types of act to the stage and creates a very supportive environment. He actively encourages new acts to perform and will happily lend his guitar to you if you ask nicely! See Damian Delahunty for more details. \nFor more live music in Berkshire visit our events page.
URL:https://berkshireartistree.co.uk/live-music-event/open-mic-at-the-acre-windsor/2026-06-11/
LOCATION:The Acre\, Windsor\, Victoria St\, Windsor\, SL4 1EN\, United Kingdom
CATEGORIES:Live music Windsor,Open mic
ATTACH;FMTTYPE=image/jpeg:https://berkshireartistree.co.uk/wp-content/uploads/2025/03/Open-Mic_The-Acre_Windsor.jpg
END:VEVENT
BEGIN:VEVENT
DTSTART;TZID=UTC:20260615T203000
DTEND;TZID=UTC:20260615T230000
DTSTAMP:20260423T194849
CREATED:20241122T165053Z
LAST-MODIFIED:20250201T133250Z
UID:10009702-1781555400-1781564400@berkshireartistree.co.uk
SUMMARY:Open Mic night at GOGOS\, Windsor
DESCRIPTION:Open Mic night at GOGOS\, Windsor \nHosted by Damian Delahunty \n• Every Monday \nGOGOs Waterfront bar hosts their weekly open mic in Windsor\, led by the fantastic Damian. They have a superb spot down by the marina\, welcoming talent of all levels and have a great supportive environment! Damian runs a whole host open open mics\, for more live music in Berkshire visit BerkshireArtistree.co.uk/live-music-events
URL:https://berkshireartistree.co.uk/live-music-event/open-mic-night-at-gogos-windsor/2026-06-15/
LOCATION:GOGOS Waterfront Bar\, Racecourse Marina\, Maidenhead Rd\, Windsor\, SL4 5HT\, United Kingdom
CATEGORIES:Live music Windsor,Open mic
ATTACH;FMTTYPE=image/jpeg:https://berkshireartistree.co.uk/wp-content/uploads/2024/11/open-mic-windsor_Gogos_live-music_windsor_Berkshire-Artistree.jpg
END:VEVENT
BEGIN:VEVENT
DTSTART;TZID=UTC:20260618T203000
DTEND;TZID=UTC:20260618T230000
DTSTAMP:20260423T194849
CREATED:20250310T090745Z
LAST-MODIFIED:20251124T135140Z
UID:10009729-1781814600-1781823600@berkshireartistree.co.uk
SUMMARY:Open Mic at The Acre\, Windsor
DESCRIPTION:Open Mic at The Acre\, Windsor\nhosted by Damian Delahunty \n• Every Thursday \nDamian is a seasoned musician who will welcome all types of act to the stage and creates a very supportive environment. He actively encourages new acts to perform and will happily lend his guitar to you if you ask nicely! See Damian Delahunty for more details. \nFor more live music in Berkshire visit our events page.
URL:https://berkshireartistree.co.uk/live-music-event/open-mic-at-the-acre-windsor/2026-06-18/
LOCATION:The Acre\, Windsor\, Victoria St\, Windsor\, SL4 1EN\, United Kingdom
CATEGORIES:Live music Windsor,Open mic
ATTACH;FMTTYPE=image/jpeg:https://berkshireartistree.co.uk/wp-content/uploads/2025/03/Open-Mic_The-Acre_Windsor.jpg
END:VEVENT
BEGIN:VEVENT
DTSTART;TZID=UTC:20260622T203000
DTEND;TZID=UTC:20260622T230000
DTSTAMP:20260423T194849
CREATED:20241122T165053Z
LAST-MODIFIED:20250201T133250Z
UID:10009736-1782160200-1782169200@berkshireartistree.co.uk
SUMMARY:Open Mic night at GOGOS\, Windsor
DESCRIPTION:Open Mic night at GOGOS\, Windsor \nHosted by Damian Delahunty \n• Every Monday \nGOGOs Waterfront bar hosts their weekly open mic in Windsor\, led by the fantastic Damian. They have a superb spot down by the marina\, welcoming talent of all levels and have a great supportive environment! Damian runs a whole host open open mics\, for more live music in Berkshire visit BerkshireArtistree.co.uk/live-music-events
URL:https://berkshireartistree.co.uk/live-music-event/open-mic-night-at-gogos-windsor/2026-06-22/
LOCATION:GOGOS Waterfront Bar\, Racecourse Marina\, Maidenhead Rd\, Windsor\, SL4 5HT\, United Kingdom
CATEGORIES:Live music Windsor,Open mic
ATTACH;FMTTYPE=image/jpeg:https://berkshireartistree.co.uk/wp-content/uploads/2024/11/open-mic-windsor_Gogos_live-music_windsor_Berkshire-Artistree.jpg
END:VEVENT
BEGIN:VEVENT
DTSTART;TZID=UTC:20260625T203000
DTEND;TZID=UTC:20260625T230000
DTSTAMP:20260423T194849
CREATED:20250310T090745Z
LAST-MODIFIED:20251124T135140Z
UID:10009795-1782419400-1782428400@berkshireartistree.co.uk
SUMMARY:Open Mic at The Acre\, Windsor
DESCRIPTION:Open Mic at The Acre\, Windsor\nhosted by Damian Delahunty \n• Every Thursday \nDamian is a seasoned musician who will welcome all types of act to the stage and creates a very supportive environment. He actively encourages new acts to perform and will happily lend his guitar to you if you ask nicely! See Damian Delahunty for more details. \nFor more live music in Berkshire visit our events page.
URL:https://berkshireartistree.co.uk/live-music-event/open-mic-at-the-acre-windsor/2026-06-25/
LOCATION:The Acre\, Windsor\, Victoria St\, Windsor\, SL4 1EN\, United Kingdom
CATEGORIES:Live music Windsor,Open mic
ATTACH;FMTTYPE=image/jpeg:https://berkshireartistree.co.uk/wp-content/uploads/2025/03/Open-Mic_The-Acre_Windsor.jpg
END:VEVENT
BEGIN:VEVENT
DTSTART;TZID=UTC:20260629T203000
DTEND;TZID=UTC:20260629T230000
DTSTAMP:20260423T194849
CREATED:20241122T165053Z
LAST-MODIFIED:20250201T133250Z
UID:10009824-1782765000-1782774000@berkshireartistree.co.uk
SUMMARY:Open Mic night at GOGOS\, Windsor
DESCRIPTION:Open Mic night at GOGOS\, Windsor \nHosted by Damian Delahunty \n• Every Monday \nGOGOs Waterfront bar hosts their weekly open mic in Windsor\, led by the fantastic Damian. They have a superb spot down by the marina\, welcoming talent of all levels and have a great supportive environment! Damian runs a whole host open open mics\, for more live music in Berkshire visit BerkshireArtistree.co.uk/live-music-events
URL:https://berkshireartistree.co.uk/live-music-event/open-mic-night-at-gogos-windsor/2026-06-29/
LOCATION:GOGOS Waterfront Bar\, Racecourse Marina\, Maidenhead Rd\, Windsor\, SL4 5HT\, United Kingdom
CATEGORIES:Live music Windsor,Open mic
ATTACH;FMTTYPE=image/jpeg:https://berkshireartistree.co.uk/wp-content/uploads/2024/11/open-mic-windsor_Gogos_live-music_windsor_Berkshire-Artistree.jpg
END:VEVENT
BEGIN:VEVENT
DTSTART;TZID=UTC:20260702T203000
DTEND;TZID=UTC:20260702T230000
DTSTAMP:20260423T194849
CREATED:20250310T090745Z
LAST-MODIFIED:20251124T135140Z
UID:10009838-1783024200-1783033200@berkshireartistree.co.uk
SUMMARY:Open Mic at The Acre\, Windsor
DESCRIPTION:Open Mic at The Acre\, Windsor\nhosted by Damian Delahunty \n• Every Thursday \nDamian is a seasoned musician who will welcome all types of act to the stage and creates a very supportive environment. He actively encourages new acts to perform and will happily lend his guitar to you if you ask nicely! See Damian Delahunty for more details. \nFor more live music in Berkshire visit our events page.
URL:https://berkshireartistree.co.uk/live-music-event/open-mic-at-the-acre-windsor/2026-07-02/
LOCATION:The Acre\, Windsor\, Victoria St\, Windsor\, SL4 1EN\, United Kingdom
CATEGORIES:Live music Windsor,Open mic
ATTACH;FMTTYPE=image/jpeg:https://berkshireartistree.co.uk/wp-content/uploads/2025/03/Open-Mic_The-Acre_Windsor.jpg
END:VEVENT
BEGIN:VEVENT
DTSTART;TZID=UTC:20260706T203000
DTEND;TZID=UTC:20260706T230000
DTSTAMP:20260423T194849
CREATED:20241122T165053Z
LAST-MODIFIED:20250201T133250Z
UID:10009858-1783369800-1783378800@berkshireartistree.co.uk
SUMMARY:Open Mic night at GOGOS\, Windsor
DESCRIPTION:Open Mic night at GOGOS\, Windsor \nHosted by Damian Delahunty \n• Every Monday \nGOGOs Waterfront bar hosts their weekly open mic in Windsor\, led by the fantastic Damian. They have a superb spot down by the marina\, welcoming talent of all levels and have a great supportive environment! Damian runs a whole host open open mics\, for more live music in Berkshire visit BerkshireArtistree.co.uk/live-music-events
URL:https://berkshireartistree.co.uk/live-music-event/open-mic-night-at-gogos-windsor/2026-07-06/
LOCATION:GOGOS Waterfront Bar\, Racecourse Marina\, Maidenhead Rd\, Windsor\, SL4 5HT\, United Kingdom
CATEGORIES:Live music Windsor,Open mic
ATTACH;FMTTYPE=image/jpeg:https://berkshireartistree.co.uk/wp-content/uploads/2024/11/open-mic-windsor_Gogos_live-music_windsor_Berkshire-Artistree.jpg
END:VEVENT
BEGIN:VEVENT
DTSTART;TZID=UTC:20260709T203000
DTEND;TZID=UTC:20260709T230000
DTSTAMP:20260423T194849
CREATED:20250310T090745Z
LAST-MODIFIED:20251124T135140Z
UID:10009875-1783629000-1783638000@berkshireartistree.co.uk
SUMMARY:Open Mic at The Acre\, Windsor
DESCRIPTION:Open Mic at The Acre\, Windsor\nhosted by Damian Delahunty \n• Every Thursday \nDamian is a seasoned musician who will welcome all types of act to the stage and creates a very supportive environment. He actively encourages new acts to perform and will happily lend his guitar to you if you ask nicely! See Damian Delahunty for more details. \nFor more live music in Berkshire visit our events page.
URL:https://berkshireartistree.co.uk/live-music-event/open-mic-at-the-acre-windsor/2026-07-09/
LOCATION:The Acre\, Windsor\, Victoria St\, Windsor\, SL4 1EN\, United Kingdom
CATEGORIES:Live music Windsor,Open mic
ATTACH;FMTTYPE=image/jpeg:https://berkshireartistree.co.uk/wp-content/uploads/2025/03/Open-Mic_The-Acre_Windsor.jpg
END:VEVENT
BEGIN:VEVENT
DTSTART;TZID=UTC:20260713T203000
DTEND;TZID=UTC:20260713T230000
DTSTAMP:20260423T194849
CREATED:20241122T165053Z
LAST-MODIFIED:20250201T133250Z
UID:10009914-1783974600-1783983600@berkshireartistree.co.uk
SUMMARY:Open Mic night at GOGOS\, Windsor
DESCRIPTION:Open Mic night at GOGOS\, Windsor \nHosted by Damian Delahunty \n• Every Monday \nGOGOs Waterfront bar hosts their weekly open mic in Windsor\, led by the fantastic Damian. They have a superb spot down by the marina\, welcoming talent of all levels and have a great supportive environment! Damian runs a whole host open open mics\, for more live music in Berkshire visit BerkshireArtistree.co.uk/live-music-events
URL:https://berkshireartistree.co.uk/live-music-event/open-mic-night-at-gogos-windsor/2026-07-13/
LOCATION:GOGOS Waterfront Bar\, Racecourse Marina\, Maidenhead Rd\, Windsor\, SL4 5HT\, United Kingdom
CATEGORIES:Live music Windsor,Open mic
ATTACH;FMTTYPE=image/jpeg:https://berkshireartistree.co.uk/wp-content/uploads/2024/11/open-mic-windsor_Gogos_live-music_windsor_Berkshire-Artistree.jpg
END:VEVENT
BEGIN:VEVENT
DTSTART;TZID=UTC:20260716T203000
DTEND;TZID=UTC:20260716T230000
DTSTAMP:20260423T194849
CREATED:20250310T090745Z
LAST-MODIFIED:20251124T135140Z
UID:10009938-1784233800-1784242800@berkshireartistree.co.uk
SUMMARY:Open Mic at The Acre\, Windsor
DESCRIPTION:Open Mic at The Acre\, Windsor\nhosted by Damian Delahunty \n• Every Thursday \nDamian is a seasoned musician who will welcome all types of act to the stage and creates a very supportive environment. He actively encourages new acts to perform and will happily lend his guitar to you if you ask nicely! See Damian Delahunty for more details. \nFor more live music in Berkshire visit our events page.
URL:https://berkshireartistree.co.uk/live-music-event/open-mic-at-the-acre-windsor/2026-07-16/
LOCATION:The Acre\, Windsor\, Victoria St\, Windsor\, SL4 1EN\, United Kingdom
CATEGORIES:Live music Windsor,Open mic
ATTACH;FMTTYPE=image/jpeg:https://berkshireartistree.co.uk/wp-content/uploads/2025/03/Open-Mic_The-Acre_Windsor.jpg
END:VEVENT
END:VCALENDAR