BEGIN:VCALENDAR
VERSION:2.0
PRODID:-//Berkshire Artistree - ECPv6.15.20//NONSGML v1.0//EN
CALSCALE:GREGORIAN
METHOD:PUBLISH
X-ORIGINAL-URL:https://berkshireartistree.co.uk
X-WR-CALDESC:Events for Berkshire Artistree
REFRESH-INTERVAL;VALUE=DURATION:PT1H
X-Robots-Tag:noindex
X-PUBLISHED-TTL:PT1H
BEGIN:VTIMEZONE
TZID:UTC
BEGIN:STANDARD
TZOFFSETFROM:+0000
TZOFFSETTO:+0000
TZNAME:UTC
DTSTART:20250101T000000
END:STANDARD
END:VTIMEZONE
BEGIN:VEVENT
DTSTART;TZID=UTC:20260326T190000
DTEND;TZID=UTC:20260326T210000
DTSTAMP:20260423T174741
CREATED:20260221T154432Z
LAST-MODIFIED:20260225T160930Z
UID:10009496-1774551600-1774558800@berkshireartistree.co.uk
SUMMARY:Live music at MUSICA\, Bracknell | Isobel Thatcher
DESCRIPTION:Live Music at MUSICA\, Bracknell\nWith Isobel Thatcher performing live \nIsobel brings blues-tinged country Americana with warm\, soulful vocals. Mixing originals with carefully chosen covers (inspired by artists like Bonnie Raitt\, Eva Cassidy\, Sheryl Crow and Brad Paisley)\, she creates a laid-back\, heartfelt acoustic atmosphere. See more information on the organiser link below\, or visit the venue link to see more about MUSICA\, Bracknell. \nFor more live music in Berkshire visit BerkshireArtistree.co.uk/live-music-events
URL:https://berkshireartistree.co.uk/live-music-event/live-music-at-musica-bracknell-isobel-thatcher/
LOCATION:Live music in Bracknell | MUSICA\, 3 Eagle Ln\, Bracknell\, RG12 1BG
CATEGORIES:Live Music
ATTACH;FMTTYPE=image/jpeg:https://berkshireartistree.co.uk/wp-content/uploads/2026/02/Isobelle-Thatcher_live-music_singer.jpeg
END:VEVENT
BEGIN:VEVENT
DTSTART;TZID=UTC:20260327T193000
DTEND;TZID=UTC:20260327T213000
DTSTAMP:20260423T174741
CREATED:20260129T161244Z
LAST-MODIFIED:20260214T173431Z
UID:10009264-1774639800-1774647000@berkshireartistree.co.uk
SUMMARY:Live music at The Swan\, Pangbourne | Shaun Twomey
DESCRIPTION:Live music at The Swan\, Pangbourne  \nWith performance from Shaun Twomey \nA warm\, intimate evening of live music is on the way as Shaun Twomey at The Swan Pangbourne brings heartfelt songwriting and accomplished musicianship to one of the Thames Valley’s most characterful venues. Known for his engaging acoustic style and expressive vocals\, Twomey creates performances that feel personal yet polished\, making this a live music experience that rewards close listening. From the first song\, the connection between artist and audience is clear\, setting the tone for an evening shaped by melody\, mood\, and atmosphere. \nMeanwhile\, Shaun Twomey’s live sets balance thoughtful originals with a confident sense of flow. His songs often unfold with subtle dynamics\, allowing emotion to build naturally in the room. Additionally\, his relaxed stage presence invites the audience in\, creating a shared experience rather than a distant performance. This makes Shaun Twomey at The Swan Pangbourne especially appealing for listeners who value authenticity and musical craft in a live setting. \nHowever\, the venue itself plays an equally important role. The Swan Pangbourne is celebrated for its welcoming ambience\, combining classic pub charm with a space that suits acoustic performance beautifully. The natural warmth of the room complements Twomey’s sound\, while the attentive crowd adds to the sense of occasion. Then\, as the night unfolds\, the balance between artist and venue becomes part of the appeal. \nFinally\, Shaun Twomey at The Swan Pangbourne promises a live music night defined by connection\, atmosphere\, and memorable songs. \nFor more Live music visit our full events calendar!
URL:https://berkshireartistree.co.uk/live-music-event/live-music-at-the-swan-pangbourne-shaun-twomey/2026-03-27/
LOCATION:The Swan\, Pangbourne\, Shooters Hill\, Pangbourne\, Reading\, RG8 7DU
CATEGORIES:Live Music
ATTACH;FMTTYPE=image/jpeg:https://berkshireartistree.co.uk/wp-content/uploads/2025/01/Shaun-Twomey_Berkshire-Artistree.jpg
END:VEVENT
BEGIN:VEVENT
DTSTART;TZID=UTC:20260327T193000
DTEND;TZID=UTC:20260327T213000
DTSTAMP:20260423T174741
CREATED:20260227T123929Z
LAST-MODIFIED:20260227T124034Z
UID:10009578-1774639800-1774647000@berkshireartistree.co.uk
SUMMARY:Live Music in Abindgon\, Hotel Garden Inn | Omari
DESCRIPTION:Live music in Abingdon\, Hotel Garden Inn\nwith performance from Omari\nSoulful vocalist Omari performing at the Hilton Hotel Abingdon promises an evening of smooth grooves and refined live energy in an elegant setting. \nKey Points➖ Soul\, R&B and contemporary classics delivered with warmth and charisma➖ Stylish hotel venue with bar service and relaxed ambience➖ Ideal for couples\, groups\, and lovers of polished live music \nOmari Johnson-Daley at Hilton Hotel Abingdon\nOmari Johnson-Daley at Hilton Hotel Abingdon brings together silky vocals\, heartfelt delivery\, and effortless stage presence. Known for his rich tone and engaging performance style\, Omari blends soul\, R&B\, and popular favourites into a set that feels both intimate and uplifting. As a result\, audiences can expect smooth transitions\, confident musicianship\, and a connection that carries from the first note to the final encore. His live shows feel personal yet polished\, making them perfect for those who appreciate authentic vocal talent. \nMeanwhile\, the Hilton Hotel Abingdon provides a sophisticated backdrop for the evening. The venue pairs contemporary comfort with a welcoming atmosphere\, creating the ideal environment for live entertainment. Guests can enjoy crafted drinks from the bar\, comfortable seating\, and excellent acoustics\, all within a stylish hotel setting. Because of its spacious layout and attentive service\, every performance here feels relaxed yet special. \nUltimately\, Omari Johnson-Daley at Hilton Hotel Abingdon is more than a night out; it’s a chance to experience accomplished live music in a refined space. Whether you are planning a social evening or simply want to unwind with quality entertainment\, this upcoming performance delivers atmosphere\, talent\, and memorable moments in equal measure. \nFor more live music check out Berkshireartistree.co.uk/live-music-events/
URL:https://berkshireartistree.co.uk/live-music-event/live-music-in-abindgon-hotel-garden-inn-omari/2026-03-27/
LOCATION:Hilton Hotel\, Abingdon\, Marcham Rd\, Abingdon\, OX14 1TZ
CATEGORIES:Live Music
ATTACH;FMTTYPE=image/jpeg:https://berkshireartistree.co.uk/wp-content/uploads/2025/04/how-tp-present-yourself-as-a-musician_Omari-Johnson-Daley_presentation-is-everything.jpg
END:VEVENT
BEGIN:VEVENT
DTSTART;TZID=UTC:20260327T200000
DTEND;TZID=UTC:20260327T220000
DTSTAMP:20260423T174741
CREATED:20260203T174046Z
LAST-MODIFIED:20260203T174046Z
UID:10009348-1774641600-1774648800@berkshireartistree.co.uk
SUMMARY:Live Music at Foundry Bell\, Wokingham | One Eyed Man
DESCRIPTION:Live Music at Foundry Bell\, Wokingham\nWith One Eyed Man performing live \n  \nOne Eyed Man at The Foundry Bell Wokingham delivers a live music experience built on warmth\, groove\, and real audience connection. Known across Berkshire for his engaging acoustic style\, One Eyed Man blends guitar\, vocals\, and light percussion into performances that feel personal and inviting. From the opening song\, his husky and expressive voice sets the mood. The room quickly settles into an atmosphere that feels relaxed yet attentive. As a result\, One Eyed Man at The Foundry Bell Wokingham appeals to listeners who value feeling as much as melody. You can explore more about the artist at www.OneEyedmanofficial.com. \nA dynamic live set at The Foundry Bell Wokingham\nRooted in modern folk\, One Eyed Man’s live set moves with ease and variety. He shifts smoothly between thoughtful moments and upbeat crowd favourites. Meanwhile\, songs by Mumford & Sons\, George Ezra\, Noah Kahan\, and Tracy Chapman sit comfortably alongside familiar tracks from Bon Jovi\, Bill Withers\, Jason Mraz\, and Teddy Swims. Because of this balance\, the performance stays engaging without feeling rushed. Additionally\, subtle percussion adds lift and momentum while keeping the acoustic core front and centre. \nThe venue itself enhances the experience. The Foundry Bell Wokingham is known for its welcoming atmosphere and close-up live music feel. Consequently\, every vocal detail and rhythmic accent lands clearly. The setting encourages attention\, but it never feels formal. Instead\, it supports the natural flow of the performance. \nFinally\, One Eyed Man at The Foundry Bell Wokingham offers an evening shaped by strong songs\, honest delivery\, and genuine connection. It’s a live music experience designed to be shared and remembered – book a table now via their website! \n\nFor more live music in Berkshire visit BerkshireArtistree.co.uk/live-music-events
URL:https://berkshireartistree.co.uk/live-music-event/live-music-at-foundry-bell-wokingham-one-eyed-man/
LOCATION:Foundry Bell\, Wokingham\, London Rd\, Wokingham\, RG40 1RD
CATEGORIES:Live Music
ATTACH;FMTTYPE=image/jpeg:https://berkshireartistree.co.uk/wp-content/uploads/2026/02/One-Eyed-Man_live-music.jpg
END:VEVENT
BEGIN:VEVENT
DTSTART;TZID=UTC:20260329T140000
DTEND;TZID=UTC:20260329T170000
DTSTAMP:20260423T174741
CREATED:20260221T154415Z
LAST-MODIFIED:20260228T134045Z
UID:10009589-1774792800-1774803600@berkshireartistree.co.uk
SUMMARY:Live music at MUSICA\, Bracknell
DESCRIPTION:Live Music at MUSICA\, Bracknell \nHead down to Bracknell every Sunday\, for soulful vibes and smooth keys with classics\, favourites and feel-good tunes. Guests can request songs and vote for what comes next\, shaping the set as the afternoon unfolds. See more information on the organiser link below\, or visit the venue link to see more about MUSICA\, Bracknell. \nFor more live music in Berkshire visit BerkshireArtistree.co.uk/live-music-events
URL:https://berkshireartistree.co.uk/live-music-event/live-music-at-musica-bracknell-pauly/2026-03-29/
LOCATION:Musica\, Bracknell\, 3 Eagle Ln\, Bracknell\, RG12 1BG
CATEGORIES:Live Music
ATTACH;FMTTYPE=image/jpeg:https://berkshireartistree.co.uk/wp-content/uploads/2026/02/Musica_HD_live-music_Bracknell.jpeg
END:VEVENT
BEGIN:VEVENT
DTSTART;TZID=UTC:20260329T170000
DTEND;TZID=UTC:20260329T190000
DTSTAMP:20260423T174741
CREATED:20260203T175709Z
LAST-MODIFIED:20260330T103143Z
UID:10009350-1774803600-1774810800@berkshireartistree.co.uk
SUMMARY:Live music at The Dolphin\, Wallingford | One Eyed Man
DESCRIPTION:Live Music at The Dolphin\, Wallingford\nWith One Eyed Man performing live \n  \nA standout live music night is on the way as One Eyed Man at The Dolphin Wallingford brings a distinctive\, emotionally charged performance into one of Oxfordshire’s most respected grassroots venues. Known for vivid storytelling and a sound that balances intensity with melody\, One Eyed Man delivers songs that feel immediate and deeply human. From the first note\, this show promises connection\, nuance\, and a sense of occasion that rewards close listening. \nThe project\, led by One Eyed Man\, blends alternative rock textures with lyrical focus and dynamic shifts that translate powerfully on stage. Live\, the songs expand with urgency and precision\, drawing the audience into moments that feel both personal and expansive. Meanwhile\, the setting matters. The Dolphin Wallingford is celebrated for its warm acoustics and attentive crowd\, making it an ideal home for performances where detail and atmosphere matter. As a result\, the music lands with clarity and emotional weight rather than getting lost in the room. \nWhy One Eyed Man at The Dolphin Wallingford Works So Well\nAdditionally\, the venue’s intimate layout encourages genuine interaction between artist and audience. There’s space here for quieter passages to breathe\, then room for bigger moments to hit with impact. However the set unfolds\, the focus remains firmly on the live experience\, not distractions. That balance keeps the performance engaging from start to finish. \nFinally\, for fans of thoughtful\, modern alternative music\, One Eyed Man at The Dolphin Wallingford is a compelling reason to step out and support live music. Expect a performance shaped by honesty\, control\, and the rare feeling that you’re part of something unfolding in real time. \n\n\n\n\n\n\n\n\nOne Eyed Man at The Dolphin Wallingford brings an intimate live music performance\, combining modern alternative rock with sharp songwriting and atmosphere. \n\n\n\n\n\n\n\n\nFor more live music in Berkshire visit BerkshireArtistree.co.uk/live-music-events
URL:https://berkshireartistree.co.uk/live-music-event/live-music-at-the-dolphin-wallingford-one-eyed-man/2026-03-29/
LOCATION:The Dolphin\, Wallingford\, St Mary's St\, Wallingford\, OX10 0ET
CATEGORIES:Live Music
ATTACH;FMTTYPE=image/webp:https://berkshireartistree.co.uk/wp-content/uploads/2025/04/One-Eyed-Man_berkshire-artistree_Poster.webp
END:VEVENT
BEGIN:VEVENT
DTSTART;TZID=UTC:20260329T180000
DTEND;TZID=UTC:20260329T210000
DTSTAMP:20260423T174741
CREATED:20260227T121253Z
LAST-MODIFIED:20260227T122604Z
UID:10009575-1774807200-1774818000@berkshireartistree.co.uk
SUMMARY:Live music in Windsor\, Duke Of Connaught | Siobhan and Omari
DESCRIPTION:Live music in Windsor\, Duke Of Connaught\nWith live performance from Siobhan and Omari\nSultry soul artist Siobhan Wall performing at The Duke of Connaught Windsor promises an intimate evening of rich vocals and genre-blending style. \nKey Points➖ R&B and jazz-infused live duo performance➖ Original music inspired by Amy Winehouse and Alt-J➖ Soulful vocals with rich musical backing➖ Up-close setting in the heart of Windsor \nLive: Siobhan Wall and Omari Johnson-Daley at The Duke of Connaught Windsor\nSiobhan and Omari at The Duke of Connaught Windsor blend smoky\, expressive vocals with warm\, rhythmic musicianship. Together\, they shape a sound rooted in R&B and jazz. At the same time\, subtle alternative influences add a modern twist. Inspired by artists such as Amy Winehouse and Alt-J\, their set feels both timeless and current. \nOn stage\, Siobhan’s sultry tone leads with clarity and control. Meanwhile\, Omari builds texture and groove\, giving each track depth and movement. As a result\, the duo create a performance that feels tight yet relaxed. Expect heartfelt original songs alongside carefully reworked favourites\, all delivered with confidence and style. Because of their natural chemistry\, the energy flows effortlessly from song to song. \n– \nThe venue\nThe Duke of Connaught Windsor provides the perfect backdrop for this live show. The venue pairs a welcoming pub atmosphere with a stylish interior. In addition\, its intimate layout keeps the audience close to the music. Whether you are enjoying a drink with friends or discovering new original music\, the setting enhances every note. \nUltimately\, Siobhan and Omari at The Duke of Connaught Windsor promise an evening of soulful vocals\, rich grooves and engaging live energy. For fans of contemporary R&B with a jazz edge\, this upcoming performance offers a memorable night out in Windsor. \nFor more live music check out Berkshireartistree.co.uk/live-music-events/
URL:https://berkshireartistree.co.uk/live-music-event/live-music-in-windsor-duke-of-connaught-siobhan-and-omari/
LOCATION:Duke Of Connaught\, Windsor\, 165 Arthur Rd\, Windsor\, SL4 1RZ
CATEGORIES:Live Music
ATTACH;FMTTYPE=image/jpeg:https://berkshireartistree.co.uk/wp-content/uploads/2026/02/Siobhanomari_live-music.jpg
END:VEVENT
BEGIN:VEVENT
DTSTART;TZID=UTC:20260329T200000
DTEND;TZID=UTC:20260329T220000
DTSTAMP:20260423T174741
CREATED:20260304T090150Z
LAST-MODIFIED:20260328T093100Z
UID:10009632-1774814400-1774821600@berkshireartistree.co.uk
SUMMARY:Live music in Henley\, The Old Bell | Harry J
DESCRIPTION:Live music at The Old Bell\, Henley\nLive loop artist Harry J performing at The Old Bell Henley delivers an intimate set where warm vocals\, expert guitar work\, and a relaxed pub atmosphere combine for a memorable night—Harry J at The Old Bell Henley is set to impress. \nKey Points\n➖ Classic hits from all eras\, built with clever guitar looping➖ Relaxed pub setting ideal for close-up live music➖ Perfect for fans of 60’s\, 70’s\, and 80’s favourites➖ A great night out blending quality live music with classic pub hospitality \nHarry J at The Old Bell Henley\nHailing from Reading\, Harry J went full time as a musician last year. From humble beginnings as a busker\, Harry is steadily working his way into venues and events around Berkshire. One thing that makes Harry stand out is his vast knowledge of music from all eras. He was brought up on hall of famers such as Lynyrd Skynyrd\, Queen\, The Beatles\, Fleetwood Mac\, The Eagles\, Elvis\, ACDC and many many more. \nThese artists makes his way into his set\, creating a tidal wave of nostalgia for his audiences to enjoy. Harry is continuously working on his craft\, learning songs and developing his musicianship to create incredible soundscapes on his loop station. His passion for music is unbounded and undeniably infectious\, as he establishes himself amongst Berkshire’s top talent! \nThe Old Bell Henley Atmosphere\nEqually important\, the venue enhances the experience. The Old Bell Henley offers a welcoming character\, classic pub charm\, and a comfortable live music setting. Guests can enjoy quality drinks and friendly service\, while the cosy layout keeps the audience close to the performance. Consequently\, the connection between artist and crowd feels natural and immersive. \nOverall\, this promises a relaxed yet captivating live music experience\, ideal for those seeking great songs in an authentic pub setting. \nFor more live music check out Berkshireartistree.co.uk/live-music-events/
URL:https://berkshireartistree.co.uk/live-music-event/live-music-in-henley-the-old-bell-harry-j/2026-03-29/
LOCATION:The Old Bell\, Henley\, 20 Bell St\, Henley-on-Thames\, RG9 2BG\, United Kingdom
CATEGORIES:Live Music
ATTACH;FMTTYPE=image/jpeg:https://berkshireartistree.co.uk/wp-content/uploads/2025/06/Harry-jones_guitarist-and-singer_2.jpg
END:VEVENT
END:VCALENDAR