BEGIN:VCALENDAR
VERSION:2.0
PRODID:-//Berkshire Artistree - ECPv6.15.20//NONSGML v1.0//EN
CALSCALE:GREGORIAN
METHOD:PUBLISH
X-WR-CALNAME:Berkshire Artistree
X-ORIGINAL-URL:https://berkshireartistree.co.uk
X-WR-CALDESC:Events for Berkshire Artistree
REFRESH-INTERVAL;VALUE=DURATION:PT1H
X-Robots-Tag:noindex
X-PUBLISHED-TTL:PT1H
BEGIN:VTIMEZONE
TZID:UTC
BEGIN:STANDARD
TZOFFSETFROM:+0000
TZOFFSETTO:+0000
TZNAME:UTC
DTSTART:20250101T000000
END:STANDARD
END:VTIMEZONE
BEGIN:VEVENT
DTSTART;TZID=UTC:20260403T150000
DTEND;TZID=UTC:20260403T170000
DTSTAMP:20260423T175851
CREATED:20260330T104329Z
LAST-MODIFIED:20260330T104400Z
UID:10009807-1775228400-1775235600@berkshireartistree.co.uk
SUMMARY:Live music on Good Friday | The Dolphin\, Wallingford
DESCRIPTION:Live music for the Easter Bank holiday\n\n\n\n\n\n\n\n\n\n\n\n\n\n\nOne Eyed Man at The Dolphin Wallingford marks a family-friendly Good Friday live music event that warmly opens the Easter holidays with an engaging\, all-ages atmosphere. \n➖ Family-friendly Good Friday performance welcoming all ages➖ A perfect start to the Easter holidays in Wallingford➖ Alternative rock with strong storytelling and melodic depth➖ Intimate venue known for clear sound and attentive audiences➖ Relaxed\, inclusive setting ideal for families and music lovers alike \nAs the Easter break begins\, One Eyed Man at The Dolphin Wallingford offers a refreshing way to bring people together through live music. The project’s sound blends modern alternative rock with expressive\, narrative-driven songwriting\, creating a performance style that feels both accessible and emotionally rich. Live\, the music carries a natural energy that draws listeners in without overwhelming younger audiences\, making it especially suited to a family-friendly setting. \nMeanwhile\, The Dolphin Wallingford provides the perfect backdrop for a Good Friday gathering. Known for its welcoming atmosphere and balanced acoustics\, the venue allows every lyric and musical shift to come through with clarity. Its intimate layout encourages connection\, helping families and friends share the experience in a relaxed and comfortable space. As a result\, the performance feels close\, engaging\, and inclusive from start to finish. \nA Feel-Good Start to Easter at The Dolphin Wallingford\nAdditionally\, the timing makes this event stand out. Good Friday naturally brings people together\, and this show offers a thoughtful yet uplifting way to begin the Easter holidays. Whether you’re introducing younger listeners to live music or simply enjoying a laid-back evening\, the experience strikes the right balance. \nUltimately\, One Eyed Man at The Dolphin Wallingford delivers a memorable\, family-friendly live music moment—ideal for easing into the Easter weekend with warmth\, atmosphere\, and genuine musical connection. \n\n\n\n\n\n\n\n\n\nFor more live music check out Berkshireartistree.co.uk/live-music-events/
URL:https://berkshireartistree.co.uk/live-music-event/live-music-on-good-friday-the-dolphin-wallingford/
LOCATION:The Dolphin\, Wallingford\, St Mary's St\, Wallingford\, OX10 0ET
CATEGORIES:Live Music
ATTACH;FMTTYPE=image/png:https://berkshireartistree.co.uk/wp-content/uploads/2026/03/Live-music_Easter_wallingford.png
END:VEVENT
BEGIN:VEVENT
DTSTART;TZID=UTC:20260403T190000
DTEND;TZID=UTC:20260403T210000
DTSTAMP:20260423T175851
CREATED:20260305T175410Z
LAST-MODIFIED:20260330T105326Z
UID:10009649-1775242800-1775250000@berkshireartistree.co.uk
SUMMARY:Live music in Reading\, The Rowbarge | Good Friday Easter Bank Holiday
DESCRIPTION:Easter Live music with One Eyed Man playing acoustic covers of all your favourites!\nAcoustic cover artist One Eyed Man performing at The Rowbarge sets the tone for a warm and welcoming Good Friday live music evening\, perfectly marking the start of the Easter holidays with a family-friendly feel. \nKey Points \n➖ Family-friendly Good Friday event to begin the Easter holidays➖ Popular acoustic covers from Mumford & Sons\, Noah Kahan\, and Myles Smith➖ Classic favourites from Bill Withers\, Don McLean\, and John Denver➖ Relaxed riverside pub setting ideal for all ages \nA Feel-Good Start to the Easter Weekend\nOne Eyed Man at The Rowbarge brings together uplifting acoustic favourites and recognisable singalong classics\, making it an ideal Good Friday outing for families and mixed-age groups. The set blends modern folk-inspired tracks from artists like Mumford & Sons and Noah Kahan with timeless songs that span generations. As a result\, both younger listeners and long-time music fans can enjoy the performance together. \nThe familiar melodies and easy-going rhythms create a welcoming\, inclusive atmosphere\, while the acoustic style keeps the sound accessible and relaxed. This balance makes the evening especially suited to those looking for a gentle\, enjoyable way to begin the Easter break. \nBeautiful Riverside Setting\nThe Rowbarge enhances the experience with its cosy riverside charm. Guests can settle in comfortably\, whether enjoying a quiet drink\, a family meal\, or simply soaking up the live music. The laid-back setting allows the performance to feel close and engaging without being overwhelming. \nIn the end\, One Eyed Man at The Rowbarge offers a perfect Good Friday live music experience. With its friendly atmosphere\, familiar songs\, and broad appeal\, it’s a great way to start the Easter holidays on a high note. \nFor more live music check out Berkshireartistree.co.uk/live-music-events/
URL:https://berkshireartistree.co.uk/live-music-event/live-music-in-reading-the-rowbarge-one-eyed-man/
LOCATION:The Rowbarge\, Reading\, Station Rd\, Woolhampton\, Reading\, RG7 5SH
CATEGORIES:Live Music
ATTACH;FMTTYPE=image/png:https://berkshireartistree.co.uk/wp-content/uploads/2026/03/live-music-reading_easter_the-rowbarge.png
END:VEVENT
BEGIN:VEVENT
DTSTART;TZID=UTC:20260403T190000
DTEND;TZID=UTC:20260403T210000
DTSTAMP:20260423T175851
CREATED:20260327T175108Z
LAST-MODIFIED:20260327T183025Z
UID:10009796-1775242800-1775250000@berkshireartistree.co.uk
SUMMARY:Live music in Pangbourne\, The Swan | Easter Bank Holiday
DESCRIPTION:Dance hits from local sensation Robbie Culley\nRobbie Culley at The Swan Pangbourne delivers a standout Good Friday Easter Bank Holiday live show built on powerful vocals and crowd-favourite hits. \nKey Points➖ Special Good Friday / Easter Bank Holiday performance➖ Vocal-led set featuring powerful ballads and upbeat dance hits➖ Music spanning multiple eras and well-known favourites➖ Engaging live presence with strong audience connection➖ Intimate\, riverside setting at The Swan in Pangbourne \nRobbie Culley at The Swan Pangbourne – Easter Bank Holiday Special\nRobbie Culley at The Swan Pangbourne sets the tone for the Easter Bank Holiday with a high-impact live performance centred on impressive\, expressive vocals. This special Good Friday show blends powerful ballads with upbeat dance hits from across the decades\, creating a setlist that feels both nostalgic and energising. As a result\, the night moves effortlessly between emotional singalong moments and feel-good tracks that lift the entire room. \nCulley’s vocal delivery sits at the heart of the performance. He brings depth\, control\, and clarity to every song\, allowing the quieter ballads to truly resonate. Then\, as the tempo rises\, his energy builds\, drawing the audience into lively\, danceable favourites that keep the atmosphere buzzing. Consequently\, the set offers something for everyone—whether you prefer reflective listening or getting up and moving! \nRiverside Gastro Pub\nThe Swan Pangbourne provides the perfect backdrop for this Bank Holiday celebration. Its cosy\, relaxed pub environment creates an inviting space where guests can enjoy both the nuance of live vocals and the shared excitement of upbeat tracks. In addition\, the close-up setting enhances the connection between performer and audience. \nUltimately\, this Good Friday event delivers a well-rounded\, feel-good live music experience—combining standout vocals\, timeless songs\, and the vibrant spirit of a Bank Holiday evening. \nFor more live music check out Berkshireartistree.co.uk/live-music-events/
URL:https://berkshireartistree.co.uk/live-music-event/live-music-in-pangbourne-the-swan-easter-bank-holiday/
LOCATION:The Swan\, Pangbourne\, Shooters Hill\, Pangbourne\, Reading\, RG8 7DU
CATEGORIES:Live Music
ATTACH;FMTTYPE=image/png:https://berkshireartistree.co.uk/wp-content/uploads/2026/03/live-music_pangbourne_reading_the-swan_robbie-culley.png
END:VEVENT
BEGIN:VEVENT
DTSTART;TZID=UTC:20260403T190000
DTEND;TZID=UTC:20260403T210000
DTSTAMP:20260423T175851
CREATED:20260331T180434Z
LAST-MODIFIED:20260331T180434Z
UID:10009809-1775242800-1775250000@berkshireartistree.co.uk
SUMMARY:Live music in Maidenhead\, The Beehive | Good Friday
DESCRIPTION:Acoustic performer Josh Roberts at The Beehive Maidenhead brings a special Good Friday Easter performance filled with warmth\, melody\, and intimate live energy. \n\n\n\n\n\n\n\n\n\n\n\n\n\n\n\n\nKey Points➖ Acoustic set from Josh Roberts➖ Soulful vocals and heartfelt songwriting➖ Relaxed pub setting with food and drinks➖ Ideal for a laid-back Easter weekend outing \nJosh Roberts at The Beehive White Waltham – Good Friday Special\nJosh Roberts at The Beehive creates a stripped-back live music experience that suits a Good Friday setting. His sound blends classic covers with acoustic pop clarity\, giving each song a warm and natural feel. As the set unfolds\, listeners hear clear vocals\, memorable melodies\, and honest lyrics. This style keeps the audience engaged while maintaining a calm and reflective tone. \nIt offers a chance to slow down and enjoy live music in a more relaxed way. The performance feels personal and immersive\, making it easy to connect with both the songs and the setting. As a result\, the event appeals to fans of acoustic music and those seeking a gentle start to the Easter weekend. \nThe Beehive Maidenhead enhances the experience with its cosy and welcoming pub atmosphere. Guests can enjoy quality food and a well-chosen drinks selection while the music plays. The space feels comfortable and intimate\, which suits acoustic performances perfectly. In addition\, the friendly layout allows guests to settle in and enjoy the full evening without distraction. \nUltimately\, this Good Friday event offers authentic live music in a relaxed setting. Josh Roberts at The Beehive delivers a thoughtful and enjoyable Easter performance that stands out for its simplicity and charm.  \n\n\n\n\n\n\n\n\n\n\n\n\n\n\n\n\nFor more live music check out Berkshireartistree.co.uk/live-music-events/
URL:https://berkshireartistree.co.uk/live-music-event/live-music-in-maidenhead-the-beehive-good-friday/
LOCATION:The Beehive\, Maidenhead\, Waltham Rd\, White Waltham\, Maidenhead\, SL6 3SH
CATEGORIES:Live Music
ATTACH;FMTTYPE=image/png:https://berkshireartistree.co.uk/wp-content/uploads/2026/03/Easter_live-music_maidenhead.png
END:VEVENT
BEGIN:VEVENT
DTSTART;TZID=UTC:20260403T200000
DTEND;TZID=UTC:20260403T220000
DTSTAMP:20260423T175851
CREATED:20260402T085313Z
LAST-MODIFIED:20260403T113058Z
UID:10009818-1775246400-1775253600@berkshireartistree.co.uk
SUMMARY:Good Friday in Thatcham | The Crickets
DESCRIPTION:With live music from Shaun Twomey\nAcoustic live music host Shaun Twomey at Crickets Thatcham delivers a special Good Friday Easter performance filled with energy\, warmth\, and crowd-pleasing favourites. \n\n\n\n\n\n\n\n\n\nKey Points\n➖ Special Good Friday Easter live music event➖ Acoustic set performed by Shaun Twomey➖ Covers of artists like Teddy Swims\, Queen\, George Michael\, James Arthur\, Sam Fender\, and The Killers➖ Relaxed pub setting with a friendly\, social atmosphere➖ Interactive performance style with strong audience engagement \nGood Friday Easter Special with Shaun Twomey at Crickets Thatcham\nCelebrate the Easter weekend with Shaun Twomey at Crickets Thatcham\, where live music meets a lively Good Friday crowd. His acoustic style blends smooth vocals with confident guitar rhythms\, creating a sound that feels both polished and easygoing. In addition\, his setlist features recognisable hits from Teddy Swims\, Queen\, George Michael\, James Arthur\, Sam Fender\, and The Killers\, so there is something for everyone to enjoy. \nThe performance feels personal from the first song. Shaun keeps the energy steady while encouraging singalongs and interaction. As a result\, the atmosphere quickly becomes warm and inclusive. Guests can relax\, yet still feel part of the show throughout the night. \nLively Market Town Pub\nCrickets Thatcham offers the ideal setting for this Easter event. The venue provides a comfortable and sociable layout\, which keeps you close to the music. Meanwhile\, the bar serves a wide range of drinks\, helping you settle in and enjoy the evening at your own pace. The informal environment makes it easy to enjoy live music without distractions. \nThis Good Friday event is a great way to start the Easter weekend. With a strong mix of familiar songs and engaging performance\, Shaun Twomey at Crickets Thatcham promises a night that feels uplifting\, relaxed\, and memorable. \nFor more live music check out Berkshireartistree.co.uk/live-music-events/
URL:https://berkshireartistree.co.uk/live-music-event/good-friday-in-thatcham-the-crickets/
LOCATION:The Crickets\, Thatcham\, 24 High St\, Thatcham\, RG19 3JD
CATEGORIES:Live Music
ATTACH;FMTTYPE=image/png:https://berkshireartistree.co.uk/wp-content/uploads/2026/04/live-music_thatcham_good-friday_easter_shaun-twomey-e1775215843234.png
END:VEVENT
END:VCALENDAR