BEGIN:VCALENDAR
VERSION:2.0
PRODID:-//Berkshire Artistree - ECPv6.15.20//NONSGML v1.0//EN
CALSCALE:GREGORIAN
METHOD:PUBLISH
X-WR-CALNAME:Berkshire Artistree
X-ORIGINAL-URL:https://berkshireartistree.co.uk
X-WR-CALDESC:Events for Berkshire Artistree
REFRESH-INTERVAL;VALUE=DURATION:PT1H
X-Robots-Tag:noindex
X-PUBLISHED-TTL:PT1H
BEGIN:VTIMEZONE
TZID:UTC
BEGIN:STANDARD
TZOFFSETFROM:+0000
TZOFFSETTO:+0000
TZNAME:UTC
DTSTART:20250101T000000
END:STANDARD
END:VTIMEZONE
BEGIN:VEVENT
DTSTART;TZID=UTC:20260410T190000
DTEND;TZID=UTC:20260410T210000
DTSTAMP:20260423T175824
CREATED:20260408T090206Z
LAST-MODIFIED:20260408T090349Z
UID:10009843-1775847600-1775854800@berkshireartistree.co.uk
SUMMARY:Live music in Arborfield\, The Bull Inn | AJ Acoustix
DESCRIPTION:Upbeat classics with live singer\nAcoustic live act AJ Acoustix performing at The Bull Inn Arborfield Cross promises an intimate and engaging evening of stripped-back music and crowd-pleasing energy. \nKey Points➖ Live acoustic set from AJ Acoustix➖ Hosted at The Bull Inn Arborfield Cross➖ Up-close and intimate performance style➖ Ideal for a laid-back social evening with live music \nExperience AJ Acoustix at The Bull Inn Arborfield Cross\nLive music at The Bull Inn Arborfield Cross creates a warm and immersive live music atmosphere. His acoustic style feels natural and expressive. As a result\, each song connects easily with the audience. The set moves smoothly between familiar favourites and melodic interpretations. Therefore\, it appeals to listeners who enjoy authentic\, stripped-back performances. \nIn addition\, AJ Acoustix brings a strong sense of presence to the room. He engages the crowd without overwhelming the space. This balance keeps the energy consistent throughout the performance. Moreover\, the acoustic format allows every detail to shine clearly. \nThe Bull Inn Arborfield Cross enhances the experience with its cosy and inviting pub environment. Guests can relax with a drink while enjoying the music. The layout keeps the performer close to the audience\, which strengthens the connection. Because of this\, the venue suits acoustic sets perfectly. \nOverall\, AJ Acoustix at The Bull Inn Arborfield Cross offers a memorable and easy-going live music night. Whether you’re meeting friends or discovering live acoustic music\, the setting delivers. So\, if you want quality music in a comfortable space\, this event is well worth attending. \nFor more live music check out Berkshireartistree.co.uk/live-music-events/
URL:https://berkshireartistree.co.uk/live-music-event/live-music-in-arborfield-the-bull-inn-aj-acoustix/
LOCATION:The Bull Inn\, Arborfield Cross\, Arborfield Cross\, Reading\, RG2 9QD\, United Kingdom
CATEGORIES:Live Music
ATTACH;FMTTYPE=image/jpeg:https://berkshireartistree.co.uk/wp-content/uploads/2026/04/Live-music-arborfield_AJ-e1775664427951.jpg
END:VEVENT
BEGIN:VEVENT
DTSTART;TZID=UTC:20260410T193000
DTEND;TZID=UTC:20260410T213000
DTSTAMP:20260423T175824
CREATED:20260408T160533Z
LAST-MODIFIED:20260410T082737Z
UID:10009844-1775849400-1775856600@berkshireartistree.co.uk
SUMMARY:Live Music at the Pangbourne\, The Swan | Kirsty Fuller
DESCRIPTION:Acclaimed live music curator Kirsty Fuller brings an engaging performance to The Swan Pangbourne\, promising an intimate and characterful evening of live sound. \nKey Points\n➖ Live performance curated and led by Kirsty Fuller➖ Hosted at The Swan Pangbourne\, a welcoming riverside venue➖ Focus on intimate\, high-quality live music experiences➖ Ideal setting for relaxed yet engaging evening entertainment \nKirsty Fuller at The Swan Pangbourne\nKirsty Fuller at The Swan Pangbourne delivers a carefully crafted live music experience that blends authenticity with warmth. Known for her strong connection to audiences\, Kirsty curates performances that feel both personal and polished. Her approach to live music highlights expressive vocals\, thoughtful arrangements\, and a genuine stage presence\, making each set feel immersive rather than routine. As a result\, audiences can expect an evening that flows naturally\, keeping attention from the first note to the last. \nThe Venue\nEqually important\, The Swan Pangbourne provides the perfect backdrop. This well-loved venue offers a cosy\, relaxed atmosphere that complements live performances beautifully. სტუმers can enjoy the ambience while soaking in the music\, with the venue’s layout encouraging close engagement between artist and audience. Its reputation for comfort and hospitality enhances the overall experience\, making it more than just a gig—it becomes a full evening out. \nUltimately\, this event stands out for its balance of quality music and inviting surroundings. Whether you’re a dedicated live music follower or simply looking for a memorable night out\, Kirsty Fuller at The Swan Pangbourne offers a rewarding experience that feels both special and accessible. \nFor more live music check out Berkshireartistree.co.uk/live-music-events/
URL:https://berkshireartistree.co.uk/live-music-event/live-music-at-the-pangbourne-the-swan-kirsty-fuller/
LOCATION:The Swan\, Pangbourne\, Shooters Hill\, Pangbourne\, Reading\, RG8 7DU
CATEGORIES:Live Music
ATTACH;FMTTYPE=image/png:https://berkshireartistree.co.uk/wp-content/uploads/2026/02/Kirsty-Fuller_live-music_singer.png
END:VEVENT
BEGIN:VEVENT
DTSTART;TZID=UTC:20260410T210000
DTEND;TZID=UTC:20260410T230000
DTSTAMP:20260423T175824
CREATED:20260409T133830Z
LAST-MODIFIED:20260409T135930Z
UID:10009854-1775854800-1775862000@berkshireartistree.co.uk
SUMMARY:Live music in Thatcham\, Bella Luna | Robbie Culley
DESCRIPTION:Live singing and dancing at luxury Italian restaurant\nSinger-songwriter Robbie Culley performing at Bella Luna promises an intimate live set that pairs original music with the warm\, social feel of one of Thatcham’s popular dining spots. \n➖ Robbie Culley at Bella Luna brings a singer-songwriter performance to a restaurant known for regular live music nights.➖ Bella Luna is a spacious Italian restaurant in Thatcham with a warm welcome\, wines\, beers\, spirits\, and a broad menu of pizza\, pasta\, meat\, and fish dishes. ➖ Robbie Culley is an active independent artist with released singles including Better Off Alone and Just For Now. \nWhy Robbie Culley at Bella Luna stands out\nRobbie Culley’s live appeal comes from the directness that good singer-songwriters bring to a room. His growing profile and released material suggest a set built for close attention\, easy connection\, and a relaxed crowd that wants live music with real personality. As a result\, Robbie Culley at Bella Luna should suit anyone who enjoys contemporary acoustic-led performances in a more personal setting. \nBella Luna adds plenty to that atmosphere. The restaurant is described as a 50-cover Italian venue in the heart of Thatcham\, with fresh pasta\, traditional Italian-style pizza\, meats\, fish\, and a good drinks selection\, while live entertainment is already part of its regular offer. Therefore\, the night has the ingredients for dinner\, drinks\, and music to flow together naturally. \nFor anyone looking for an upcoming night out with live music\, strong ambience\, and a welcoming local venue\, this is a smart pick with clear crossover appeal for diners and music fans alike. \nFor more live music check out Berkshireartistree.co.uk/live-music-events/
URL:https://berkshireartistree.co.uk/live-music-event/live-music-in-thatcham-bella-luna-robbie-culley/
LOCATION:Bella Luna\, Thatcham\, Bella Luna Restaurant\, 23 High St\, Thatcham\, RG19 3JG
CATEGORIES:Live Music
ATTACH;FMTTYPE=image/jpeg:https://berkshireartistree.co.uk/wp-content/uploads/2026/03/Robbie-Culley_Singer.jpg
END:VEVENT
END:VCALENDAR