BEGIN:VCALENDAR
VERSION:2.0
PRODID:-//Berkshire Artistree - ECPv6.15.20//NONSGML v1.0//EN
CALSCALE:GREGORIAN
METHOD:PUBLISH
X-WR-CALNAME:Berkshire Artistree
X-ORIGINAL-URL:https://berkshireartistree.co.uk
X-WR-CALDESC:Events for Berkshire Artistree
REFRESH-INTERVAL;VALUE=DURATION:PT1H
X-Robots-Tag:noindex
X-PUBLISHED-TTL:PT1H
BEGIN:VTIMEZONE
TZID:UTC
BEGIN:STANDARD
TZOFFSETFROM:+0000
TZOFFSETTO:+0000
TZNAME:UTC
DTSTART:20250101T000000
END:STANDARD
END:VTIMEZONE
BEGIN:VEVENT
DTSTART;TZID=UTC:20260416T200000
DTEND;TZID=UTC:20260416T220000
DTSTAMP:20260423T175823
CREATED:20260221T154434Z
LAST-MODIFIED:20260225T155434Z
UID:10009498-1776369600-1776376800@berkshireartistree.co.uk
SUMMARY:Live music at MUSICA\, Bracknell | Nicole Allan
DESCRIPTION:Live Music at MUSICA\, Bracknell\nWith Nicole Allan performing live\nKey Points\n➖ Nicole Allan brings country\, blues and soul influences together in one compelling live set➖ Rich\, expressive vocals paired with accomplished live guitar➖ A blend of well-loved classics and original favourites➖ Relaxed yet engaging atmosphere\, ideal for a sociable night out➖ Hosted at MUSICA\, Bracknell – a dedicated live music venue with a welcoming vibe \nNicole Allan at MUSICA\, Bracknell – Live Country\, Blues and Soul\nNicole Allan at MUSICA\, Bracknell offers a performance shaped by authentic storytelling and soulful delivery. Her voice carries warmth and depth\, moving effortlessly from tender ballads to upbeat\, groove-led favourites. As she accompanies herself on guitar\, each song feels personal and immediate. Moreover\, her carefully curated mix of classic songs and original material keeps audiences both comfortable and curious. \nThe live setting allows Nicole’s expressive style to shine. Between songs\, she connects naturally with the crowd\, creating a relaxed mood without losing momentum. As a result\, the evening feels both polished and intimate. Fans of country roots\, smoky blues tones and classic soul phrasing will find plenty to enjoy. \nMUSICA\, Bracknell provides the perfect backdrop. Known for its dedicated focus on live performance\, the venue combines great sound\, close-up viewing and a friendly atmosphere. Guests can settle in\, enjoy refreshments\, and experience live music the way it should be heard — up close and personal. \nUltimately\, Nicole Allan at MUSICA\, Bracknell is more than just a gig; it’s a chance to unwind with quality live music delivered with heart\, skill and sincerity. \nFor more live music check out Berkshireartistree.co.uk/live-music-events/
URL:https://berkshireartistree.co.uk/live-music-event/live-music-at-musica-bracknell-nicole-allan/
LOCATION:Live music in Bracknell | MUSICA\, 3 Eagle Ln\, Bracknell\, RG12 1BG
CATEGORIES:Live Music
ATTACH;FMTTYPE=image/jpeg:https://berkshireartistree.co.uk/wp-content/uploads/2026/02/Nicole-Allan_live-music_singer.jpeg
END:VEVENT
END:VCALENDAR