BEGIN:VCALENDAR
VERSION:2.0
PRODID:-//Berkshire Artistree - ECPv6.15.20//NONSGML v1.0//EN
CALSCALE:GREGORIAN
METHOD:PUBLISH
X-WR-CALNAME:Berkshire Artistree
X-ORIGINAL-URL:https://berkshireartistree.co.uk
X-WR-CALDESC:Events for Berkshire Artistree
REFRESH-INTERVAL;VALUE=DURATION:PT1H
X-Robots-Tag:noindex
X-PUBLISHED-TTL:PT1H
BEGIN:VTIMEZONE
TZID:UTC
BEGIN:STANDARD
TZOFFSETFROM:+0000
TZOFFSETTO:+0000
TZNAME:UTC
DTSTART:20250101T000000
END:STANDARD
END:VTIMEZONE
BEGIN:VEVENT
DTSTART;TZID=UTC:20260503T140000
DTEND;TZID=UTC:20260503T170000
DTSTAMP:20260423T175922
CREATED:20260221T154415Z
LAST-MODIFIED:20260228T134045Z
UID:10009594-1777816800-1777827600@berkshireartistree.co.uk
SUMMARY:Live music at MUSICA\, Bracknell
DESCRIPTION:Live Music at MUSICA\, Bracknell \nHead down to Bracknell every Sunday\, for soulful vibes and smooth keys with classics\, favourites and feel-good tunes. Guests can request songs and vote for what comes next\, shaping the set as the afternoon unfolds. See more information on the organiser link below\, or visit the venue link to see more about MUSICA\, Bracknell. \nFor more live music in Berkshire visit BerkshireArtistree.co.uk/live-music-events
URL:https://berkshireartistree.co.uk/live-music-event/live-music-at-musica-bracknell-pauly/2026-05-03/
LOCATION:Musica\, Bracknell\, 3 Eagle Ln\, Bracknell\, RG12 1BG
CATEGORIES:Live Music
ATTACH;FMTTYPE=image/jpeg:https://berkshireartistree.co.uk/wp-content/uploads/2026/02/Musica_HD_live-music_Bracknell.jpeg
END:VEVENT
BEGIN:VEVENT
DTSTART;TZID=UTC:20260503T140000
DTEND;TZID=UTC:20260503T210000
DTSTAMP:20260423T175922
CREATED:20260416T102526Z
LAST-MODIFIED:20260416T103255Z
UID:10009888-1777816800-1777842000@berkshireartistree.co.uk
SUMMARY:Live music in Arborfield | Bank Holiday Family Fun Day
DESCRIPTION:Live singers all day with BBQ\, Pizza and bouncy castle\nCelebrate Bank Holiday Sunday at The Bull Inn Arborfield Cross bring a lively bank holiday celebration filled with live music\, food and family-friendly fun. \n➖ Live music runs from 2pm to 9pm at this Bull Bank Holiday Family Fun Day➖ local acts include Heart Shaped Everything\, One Eyed Man\, Shaun Twomey and AJ Acoustix➖ Family attractions include a kids bouncy castle\, face painting station and ice cream station➖ Food highlights include BBQ & pizzas➖ Relaxed community atmosphere with outdoor entertainment \nLive music at The Bull Inn Arborfield Cross\nThis bank holiday event showcases a strong mix of live music at The Bull Inn Arborfield Cross. The day creates a warm and welcoming soundtrack from afternoon into evening\, with local Berkshire acts taking the stage throughout. Witness some of Berkshire’s top talent perform from 2pm\, beginning with light afternoon entertainment and building up to party into the evening! \nThe Bull Bank Holiday Family Fun Day also offers an open BBQ & pizzas and classic treats. Families can enjoy the bouncy castle\, face painting and an ice cream station. The event is accessible and inclusive for all ages and guests can relax\, eat and enjoy the entertainment at their own pace. \nA welcoming outdoor venue experience\nFollowing last year’s success\, The Bull Inn Arborfield Cross returns with another vibrant celebration. The event takes place in their spacious beer garden\, equipped with a play park for children and plenty of seating. In addition\, the open layout creates a comfortable and social setting for guests\, whether playing with the little ones or catching up with your nearest and dearest. \nFor those seeking live music at The Bull Inn Arborfield Cross\, this event offers a full day of entertainment. It blends strong performances\, great food and a friendly atmosphere. Altogether\, it stands out as a perfect way to enjoy the bank holiday with friends and family. \nFor more live music check out Berkshireartistree.co.uk/live-music-events/
URL:https://berkshireartistree.co.uk/live-music-event/live-music-in-arborfield-bank-holiday-family-fun-day/
LOCATION:The Bull Inn\, Arborfield Cross\, Arborfield Cross\, Reading\, RG2 9QD\, United Kingdom
CATEGORIES:Live Music
ATTACH;FMTTYPE=image/webp:https://berkshireartistree.co.uk/wp-content/uploads/2026/04/live-music_-Bank-Holiday_The-Bull_Arborfield.webp
END:VEVENT
BEGIN:VEVENT
DTSTART;TZID=UTC:20260503T180000
DTEND;TZID=UTC:20260503T210000
DTSTAMP:20260423T175922
CREATED:20260322T130150Z
LAST-MODIFIED:20260322T130457Z
UID:10009734-1777831200-1777842000@berkshireartistree.co.uk
SUMMARY:Live music in Windsor | Bank Holiday Special
DESCRIPTION: with JPR Music at the Duke Of Connaught\nJPR Music performing at the  Duke of Connaught Windsor delivers a high-energy Bank Holiday special packed with lively\, feel-good live music in a buzzing pub atmosphere. \n➖ Bank Holiday special set to bring a vibrant\, high-spirited crowd➖ JPR Music delivers a dynamic\, crowd-focused live performance➖ Duke of Connaught Windsor known for its warm\, lively pub setting➖ Ideal for those seeking a big atmosphere and great live music in Windsor \nJPR Music at Duke of Connaught Windsor\nJPR Music at Duke of Connaught Windsor is shaping up to be a properly lively Bank Holiday event\, built for those who want more than just background music. Expect a set that lifts the room from the first note\, blending upbeat energy\, familiar favourites\, and a performance style that keeps the crowd engaged throughout. Whether you arrive early or join mid-flow\, the momentum of the night will be hard to resist. \nThe Duke of Connaught Windsor is the perfect setting for this kind of occasion. Known for its welcoming charm\, the venue naturally fills with energy when live music takes centre stage. On a Bank Holiday\, that atmosphere only intensifies\, creating a space that feels busy\, social\, and full of movement. Guests can enjoy a drink\, connect with friends\, and still feel completely part of the action as the music carries across the room. \nAll things considered\, JPR Music at Duke of Connaught Windsor promises a buzzing night of live entertainment. With a packed atmosphere\, strong crowd interaction\, and a soundtrack designed to keep spirits high\, this is exactly the kind of event that defines a great Bank Holiday night out in Windsor. \nFor more live music check out Berkshireartistree.co.uk/live-music-events/
URL:https://berkshireartistree.co.uk/live-music-event/live-music-in-windsor-bank-holiday/
LOCATION:Duke Of Connaught\, Windsor\, 165 Arthur Rd\, Windsor\, SL4 1RZ
CATEGORIES:Live Music
ATTACH;FMTTYPE=image/png:https://berkshireartistree.co.uk/wp-content/uploads/2026/03/bank-holiday-windsor_live-music.png
END:VEVENT
BEGIN:VEVENT
DTSTART;TZID=UTC:20260503T200000
DTEND;TZID=UTC:20260503T220000
DTSTAMP:20260423T175922
CREATED:20260301T150112Z
LAST-MODIFIED:20260301T150439Z
UID:10009611-1777838400-1777845600@berkshireartistree.co.uk
SUMMARY:Live music in Henley\, The Old Bell | Tom Martin
DESCRIPTION:Acclaimed singer-songwriter Tom Martin performing at The Old Bell Henley promises an intimate evening of finely crafted acoustic music in one of the town’s most characterful settings. \nKey Points➖ Soulful acoustic folk with melodic warmth➖ Engaging\, intimate live performance style➖ Characterful pub setting in the heart of Henley \nExperience live music at The Old Bell Henley\nTom Martin at The Old Bell Henley offers a compelling blend of heartfelt lyrics and melodic acoustic craftsmanship. His songs move effortlessly between folk and acoustic pop\, while subtle country tones add warmth and texture. As a result\, each performance feels both personal and uplifting. Tom connects quickly with his audience\, and he delivers every line with clarity and confidence. Because of this\, listeners feel fully involved from the very first song. \nMoreover\, his live sets balance reflective moments with upbeat rhythms. This contrast keeps the energy flowing throughout the evening. Rather than overwhelming the room\, he builds atmosphere with dynamic control and genuine stage presence. Fans of authentic\, stripped-back arrangements will appreciate the honesty at the core of his music. \nThe Old Bell Henley provides the perfect backdrop. The venue combines historic character with a relaxed pub ambience\, creating a setting that enhances acoustic performance. Guests can enjoy well-kept drinks while settling into a cosy layout designed for close listening. Consequently\, every chord and lyric carries beautifully across the room. \nAltogether\, Tom Martin at The Old Bell Henley promises a memorable live music experience. If you value thoughtful songwriting\, warm musicianship\, and an inviting atmosphere\, this upcoming performance deserves a place in your plans. \nFor more live music check out Berkshireartistree.co.uk/live-music-events/
URL:https://berkshireartistree.co.uk/live-music-event/live-music-in-henley-the-old-bell-tom-martin/2026-05-03/
LOCATION:The Old Bell\, Henley\, 20 Bell St\, Henley-on-Thames\, RG9 2BG\, United Kingdom
CATEGORIES:Live Music
ATTACH;FMTTYPE=image/jpeg:https://berkshireartistree.co.uk/wp-content/uploads/2025/06/Tom-Martin_guitarist-and-singer.jpg
END:VEVENT
END:VCALENDAR