BEGIN:VCALENDAR
VERSION:2.0
PRODID:-//Berkshire Artistree - ECPv6.15.20//NONSGML v1.0//EN
CALSCALE:GREGORIAN
METHOD:PUBLISH
X-ORIGINAL-URL:https://berkshireartistree.co.uk
X-WR-CALDESC:Events for Berkshire Artistree
REFRESH-INTERVAL;VALUE=DURATION:PT1H
X-Robots-Tag:noindex
X-PUBLISHED-TTL:PT1H
BEGIN:VTIMEZONE
TZID:UTC
BEGIN:STANDARD
TZOFFSETFROM:+0000
TZOFFSETTO:+0000
TZNAME:UTC
DTSTART:20250101T000000
END:STANDARD
END:VTIMEZONE
BEGIN:VEVENT
DTSTART;TZID=UTC:20260627T190000
DTEND;TZID=UTC:20260627T210000
DTSTAMP:20260423T211316
CREATED:20260324T170610Z
LAST-MODIFIED:20260324T171301Z
UID:10009740-1782586800-1782594000@berkshireartistree.co.uk
SUMMARY:Live music in Pangbourne\, Ada Meyhane | One Eyed Man
DESCRIPTION:Authentic Turkish cuisine with live music\nIndie Folk artist One Eyed Man performing at Ada Meyhane Pangbourne delivers a vibrant\, genre-blending night rich in rhythm and atmosphere. \nKey Points➖ Dynamic live set from One Eyed Man\, known for classic covers with rustic vocals➖ Intimate performance setting at Ada Meyhane Pangbourne➖ Lively\, social ambience ideal for music lovers and groups➖ Distinctive blend of global influences and contemporary sounds \nOne Eyed Man at Ada Meyhane Pangbourne\nOne Eyed Man at Ada Meyhane Pangbourne promises a captivating live experience driven by musical diversity and spontaneous energy. The collective’s sound draws from multiple traditions\, creating a set that feels fresh\, expressive\, and deeply engaging. As a result\, audiences can expect tight musicianship paired with moments of improvisation\, giving each performance a unique edge. Their ability to shift between moods keeps listeners hooked from the opening note to the final encore. \nMeanwhile\, Ada Meyhane Pangbourne provides the perfect backdrop. Known for its warm\, welcoming atmosphere and stylish interior\, the venue enhances the connection between performers and audience. Guests can enjoy the performance in a setting that encourages both relaxation and lively interaction. The layout allows for an up-close musical experience\, making every detail of the performance feel immediate and immersive. \n Your visit is an opportunity to enjoy live music in Pangbourne\, a setting that blends culture\, cuisine\, and sound seamlessly. For those seeking an engaging night out with character and quality\, this performance offers exceptional value and atmosphere. \nFor more live music check out Berkshireartistree.co.uk/live-music-events/
URL:https://berkshireartistree.co.uk/live-music-event/live-music-in-pangbourne-ada-meyhane-one-eyed-man/2026-06-27/
LOCATION:Ada Meyhane\, Pangbourne\, 3-5 Reading Rd\, Pangbourne\,\, Reading\,\, RG8 7LR\, United Kingdom
CATEGORIES:Live Music
ATTACH;FMTTYPE=image/jpeg:https://berkshireartistree.co.uk/wp-content/uploads/2026/03/One-Eyed-Man_singer-scaled.jpg
END:VEVENT
END:VCALENDAR