BEGIN:VCALENDAR
VERSION:2.0
PRODID:-//Berkshire Artistree - ECPv6.15.20//NONSGML v1.0//EN
CALSCALE:GREGORIAN
METHOD:PUBLISH
X-WR-CALNAME:Berkshire Artistree
X-ORIGINAL-URL:https://berkshireartistree.co.uk
X-WR-CALDESC:Events for Berkshire Artistree
REFRESH-INTERVAL;VALUE=DURATION:PT1H
X-Robots-Tag:noindex
X-PUBLISHED-TTL:PT1H
BEGIN:VTIMEZONE
TZID:UTC
BEGIN:STANDARD
TZOFFSETFROM:+0000
TZOFFSETTO:+0000
TZNAME:UTC
DTSTART:20250101T000000
END:STANDARD
END:VTIMEZONE
BEGIN:VEVENT
DTSTART;TZID=UTC:20260415T193000
DTEND;TZID=UTC:20260415T220000
DTSTAMP:20260423T222213
CREATED:20251213T095154Z
LAST-MODIFIED:20260124T105018Z
UID:10009246-1776281400-1776290400@berkshireartistree.co.uk
SUMMARY:So You Think You Know Music quiz at Bosco Lounge\, Woodley
DESCRIPTION:So You Think You Know Music quiz at Bosco Lounge\, Woodley \nhosted by Abi Powell Music and Nicole Allan \n• Every 3rd Wednesday \nJoin local musicians Abi Powell and Nicole Allan for So You Think You Know Music? — a fun-filled\, live music quiz night held at Bosco Lounge in Woodley. Celebrate songs from every era — from classic rock to modern pop hits — in this interactive\, high-energy music quiz night designed to test your knowledge and entertain music lovers of all ages. \nWhether you’re joining solo or bringing a team of friends\, this Woodley music quiz night is the perfect night out for anyone who loves music and wants to compete\, laugh and have fun. The event features: \n\n\nA mix of quiz rounds\, including picture rounds\, film & music trivia\, and audio-based questions. \n\n\nLive performances by talented local artists\, making this more than just a quiz — it’s a full interactive music experience. \n\n\nQuestions covering all music genres and decades — a genuine challenge for both casual fans and music buffs alike. \n\n\nExciting picture and audio rounds that keep the energy high and the competition friendly. \n\n\nPrizes and fun surprises throughout the evening\, adding an extra layer of excitement to your night. \n\n\n  \nDon’t miss out on this unique interactive music quiz evening in Woodley — bring your friends\, hone your recall of your favourite tracks\, and enjoy a night of sound\, nostalgia and friendly competition! \nTickets are £3.00 on the door\, or you can reserve a spot for your team on the Bsoco Lounge Website \nFor more live music in Berkshire visit BerkshireArtistree.co.uk/live-music-events
URL:https://berkshireartistree.co.uk/live-music-event/so-you-think-you-know-music-quiz-at-bosco-lounge-woodley/2026-04-15/
LOCATION:Bosco Lounge\, 55 Crockhamwell Rd\, Woodley\, Reading\, RG5 3JP\, United Kingdom
CATEGORIES:Music Quiz
ATTACH;FMTTYPE=image/jpeg:https://berkshireartistree.co.uk/wp-content/uploads/2025/01/SO-YOU-THINK-YOU-KNOW-MUSIC_live-music_quiz_Woodley_Bosco-Lounge.jpeg
END:VEVENT
BEGIN:VEVENT
DTSTART;TZID=UTC:20260331T200000
DTEND;TZID=UTC:20260331T220000
DTSTAMP:20260423T222213
CREATED:20260124T105303Z
LAST-MODIFIED:20260124T105310Z
UID:10009200-1774987200-1774994400@berkshireartistree.co.uk
SUMMARY:So You Think You Know Music Quiz at Other Space Arts\, Windsor
DESCRIPTION:So You Think You Know Music quiz at Other Space Arts\, Windsor\nhosted by Abi Powell Music and Nicole Allan \n• Every last Tuesday \n  \nJoin local musicians Abi Powell and Nicole Allan for So You Think You Know Music? — a fun-filled\, live music quiz night held at Other Space Arts in Windsor. Celebrate songs from every era — from classic rock to modern pop hits — in this interactive\, high-energy music quiz night designed to test your knowledge and entertain music lovers of all ages. \nWhether you’re joining solo or bringing a team of friends\, this Windsor music quiz night is the perfect night out for anyone who loves music and wants to compete\, laugh and have fun. The event features: \n\n\nA mix of quiz rounds\, including picture rounds\, film & music trivia\, and audio-based questions. \n\n\nLive performances by talented local artists\, making this more than just a quiz — it’s a full interactive music experience. \n\n\nQuestions covering all music genres and decades — a genuine challenge for both casual fans and music buffs alike. \n\n\nExciting picture and audio rounds that keep the energy high and the competition friendly. \n\n\nPrizes and fun surprises throughout the evening\, adding an extra layer of excitement to your night. \n\n\n  \nDon’t miss out on this unique interactive music quiz evening in Windsor — bring your friends\, hone your recall of your favourite tracks\, and enjoy a night of sound\, nostalgia and friendly competition! \nTickets are £3.00 on the door\, or you can reserve a spot for your team on the Other Space Arts website. \nFor more live music in Berkshire visit BerkshireArtistree.co.uk/live-music-events
URL:https://berkshireartistree.co.uk/live-music-event/so-you-think-you-know-music-quiz-at-other-space-arts-windsor-2-2/
LOCATION:Other Space Arts\, Windsor\, Kardelton House\, Vansittart Estate\, Windsor\, SL4 1SE
CATEGORIES:Music Quiz
ATTACH;FMTTYPE=image/jpeg:https://berkshireartistree.co.uk/wp-content/uploads/2025/08/SO-YOU-THINK-YOU-KNOW-MUSIC_poster.jpeg
END:VEVENT
END:VCALENDAR