BEGIN:VCALENDAR
VERSION:2.0
PRODID:-//Berkshire Artistree - ECPv6.15.20//NONSGML v1.0//EN
CALSCALE:GREGORIAN
METHOD:PUBLISH
X-ORIGINAL-URL:https://berkshireartistree.co.uk
X-WR-CALDESC:Events for Berkshire Artistree
REFRESH-INTERVAL;VALUE=DURATION:PT1H
X-Robots-Tag:noindex
X-PUBLISHED-TTL:PT1H
BEGIN:VTIMEZONE
TZID:UTC
BEGIN:STANDARD
TZOFFSETFROM:+0000
TZOFFSETTO:+0000
TZNAME:UTC
DTSTART:20250101T000000
END:STANDARD
END:VTIMEZONE
BEGIN:VEVENT
DTSTART;TZID=UTC:20260408T190000
DTEND;TZID=UTC:20260408T220000
DTSTAMP:20260423T174311
CREATED:20250730T073239Z
LAST-MODIFIED:20250903T130239Z
UID:10009172-1775674800-1775685600@berkshireartistree.co.uk
SUMMARY:Open Mic at the Anchor Inn\, Henley
DESCRIPTION:Open Mic at the Anchor Inn\, Henley\nhosted by The Anchor Inn \n• Every 2nd Wednesday \nLooking to perform at an open mic near Wokingham? The Anchor Inn in Henley hosts a vibrant open mic night on the first Thursday of each month. Whether you’re a seasoned performer or trying the stage for the first time\, this is your moment to shine! \nLocated just a short drive from Wokingham\, The Anchor Inn is a cosy riverside pub with a warm\, welcoming vibe. The open mic night takes place in its stylish bar area\, where locals and visitors gather to enjoy live music\, spoken word\, and comedy. \nEach event kicks off at 7PM. Performers get professional sound support and a respectful\, enthusiastic audience. It’s free to attend and perform. Bring your guitar\, your poetry\, or your voice – all talents are welcome. \nEnjoy a great night out with delicious pub food\, local ales\, and a buzzing creative crowd. The team at The Anchor makes sure every performer feels right at home. No pressure\, just passion and performance. \nPerfect for local artists seeking new audiences or locals looking for a pleasant Wednesday night. \nJoin the open mic at The Anchor Inn\, Henley – where local talent takes the spotlight. See The Anchor Inn for more details. \nFor more live music in Berkshire visit our events page.
URL:https://berkshireartistree.co.uk/live-music-event/open-mic-at-the-anchor-inn-henley/2026-04-08/
LOCATION:The Anchor Inn\, Henley\, 58 Friday Street\, Henley-on-Thames\, RG9 1AH
CATEGORIES:Open mic
ATTACH;FMTTYPE=image/png:https://berkshireartistree.co.uk/wp-content/uploads/2025/07/Open-Mic_The-Anchor_Henley.png
END:VEVENT
BEGIN:VEVENT
DTSTART;TZID=UTC:20260408T200000
DTEND;TZID=UTC:20260408T220000
DTSTAMP:20260423T174311
CREATED:20241016T215123Z
LAST-MODIFIED:20251012T122558Z
UID:10009178-1775678400-1775685600@berkshireartistree.co.uk
SUMMARY:Bohemian night at The Fisherman's cottage\, Reading
DESCRIPTION:Bohemian night at The Fisherman’s cottage\, Reading\nhosted by Rob Sowden \n• Every Wednesday \nEvery Wednesday down at the Fisherman’s Cottage in Reading\, Rob Sowden runs his famous bohemian open mic night. Situated down by the river\, boho night has a great reputation amongst the local musicians to welcome new acts and a great opportunity to network with other artists\, poets\, comedians and other diverse acts. Rob himself is an excellent musician\, who plays regularly and runs a number of open mic night around Reading. See the venue and organiser links below for more details. \nFor more live music in Berkshire visit BerkshireArtistree.co.uk/live-music-events
URL:https://berkshireartistree.co.uk/live-music-event/bohemian-night-at-the-fishermans-cottage-reading/2026-04-08/
LOCATION:The Fisherman’s Cottage\, Kennet Side\, Reading\, RG1 3DW\, United Kingdom
CATEGORIES:Open mic
ATTACH;FMTTYPE=image/png:https://berkshireartistree.co.uk/wp-content/uploads/2024/04/Fishermans-cottage_open-mic_boho-night_Berkshire-Artistree.png
END:VEVENT
BEGIN:VEVENT
DTSTART;TZID=UTC:20260408T200000
DTEND;TZID=UTC:20260408T220000
DTSTAMP:20260423T174311
CREATED:20260113T061156Z
LAST-MODIFIED:20260221T155428Z
UID:10009188-1775678400-1775685600@berkshireartistree.co.uk
SUMMARY:Open Mic at The Miller of Mansfield\, Goring | The Soundbar
DESCRIPTION:Open Mic at The Miller of Mansfield\, Goring \n  \n• Every Second Wednesday \n  \nOpen Mic Night at The Miller of Mansfield is a lively and welcoming live music event for anyone searching for an open mic in Mansfield Woodhouse. Held every second Wednesday at the venue’s Sound Bar\, it brings together local performers\, music lovers\, and curious newcomers for an evening of relaxed\, grassroots entertainment. \nThis open mic near me celebrates live music in all its forms. Acoustic sets\, original songs\, and familiar favourites all feature\, creating a varied and enjoyable listening experience. Performers of all levels are encouraged to take part\, while audiences can settle in and enjoy the creativity unfolding on stage. As a result\, each night feels fresh\, personal\, and full of character. \nThe Sound Bar offers an intimate setting that makes performances feel close and engaging. Performers can connect easily with the audience\, and guests can enjoy live music without the formality of a traditional gig. The atmosphere remains friendly and supportive throughout the evening. \nThe Miller of Mansfield enhances the experience with its warm hospitality and classic pub charm. Importantly\, it has become a trusted spot for live music in the area\, drawing a regular crowd alongside first-time visitors. Drinks flow\, conversations spark\, and the music sets the tone for a memorable night out! \nFor anyone regularly searching for an open mic near me\, this event delivers consistency\, quality\, and community spirit. It’s a rewarding midweek choice for discovering local talent and enjoying live music in a relaxed pub setting. \nFor more live music in Berkshire visit BerkshireArtistree.co.uk/live-music-events
URL:https://berkshireartistree.co.uk/live-music-event/open-mic-at-the-miller-of-mansfield-goring-the-soundbar/2026-04-08/
LOCATION:The Miller of Mansfield\, High St\,\, Goring\,\, Reading\,\, RG8 9AW
CATEGORIES:Open mic
ATTACH;FMTTYPE=image/jpeg:https://berkshireartistree.co.uk/wp-content/uploads/2026/01/Open-Mic-at-The-Miller-of-Mansfield_Sound-Bar_-Goring-e1768284379583.jpg
END:VEVENT
BEGIN:VEVENT
DTSTART;TZID=UTC:20260408T200000
DTEND;TZID=UTC:20260408T230000
DTSTAMP:20260423T174311
CREATED:20260204T131501Z
LAST-MODIFIED:20260207T235126Z
UID:10009384-1775678400-1775689200@berkshireartistree.co.uk
SUMMARY:Open Mic night at The Old Court Arts Centre\, Windsor
DESCRIPTION:Open Mic night at The Old Court Arts Centre\, Windsor \n• Every Wednesday \nAn inviting midweek tradition returns with Open Mic at Old Court Arts Centre\, offering a welcoming stage for musicians\, poets\, storytellers\, and spoken-word performers in the heart of Windsor. Set within this much-loved local venue\, the night creates space for creativity to unfold naturally. Whether you are sharing new material or discovering emerging local talent\, the atmosphere feels open\, relaxed\, and supportive from the start. \nFrom the moment the doors open\, the room carries a sense of possibility. Meanwhile\, performers of all experience levels are encouraged to step forward and take part. An attentive audience supports each act\, while the venue’s long-standing commitment to artistic expression sets the tone. The evening moves at an easy pace\, giving every performer time to connect with the room. As a result\, each session feels unique\, shaped by the voices\, sounds\, and stories that appear on the night. \nOpen Mic at Old Court Arts Centre is as much about listening as it is about performing. Additionally\, the venue’s warm acoustics and informal layout help remove barriers between stage and audience. Creative risks feel welcome here\, and performers often respond directly to the energy in the room. Acoustic songs\, thoughtful monologues\, and moments of improvisation all find a natural home\, with live expression always at the centre. \nFinally\, for anyone seeking a genuine\, community-led music and performance experience\, Open Mic at Old Court Arts Centre remains a consistent highlight. Come to perform\, come to support others\, or simply come to be surprised by what unfolds live on stage. \nFor more live music in Berkshire visit our events page.
URL:https://berkshireartistree.co.uk/live-music-event/open-mic-night-at-the-old-court-arts-centre-windsor/2026-04-08/
LOCATION:Old Courts Arts Centre\, Windsor\, The Old Court\, St Leonard's Road\,\,\, Windsor\, SL4 3BL
CATEGORIES:Open mic
ATTACH;FMTTYPE=image/png:https://berkshireartistree.co.uk/wp-content/uploads/2026/02/Screenshot-2026-02-04-at-12.49.16-e1770210956574.png
END:VEVENT
BEGIN:VEVENT
DTSTART;TZID=UTC:20260408T203000
DTEND;TZID=UTC:20260408T223000
DTSTAMP:20260423T174311
CREATED:20241016T215208Z
LAST-MODIFIED:20241120T180602Z
UID:10009179-1775680200-1775687400@berkshireartistree.co.uk
SUMMARY:Open Mic at The Golden Cross\, Twyford
DESCRIPTION:Open Mic at The Golden Cross\, Twyford\nhosted by Damian Delahunty \n• Every Wednesday \nOpen Mic down at the Golden Cross in Twyford\, run by seasoned musician Damian Delahunty. Nice intimate space with a listening audeince\, great to network with other musicians. The venue has parking and will lend his guitar if you ask nicely! See the venue and organiser links below for more details. \nFor more live music in Berkshire visit BerkshireArtistree.co.uk/live-music-events
URL:https://berkshireartistree.co.uk/live-music-event/open-mic-at-the-golden-cross-twyford-29/2026-04-08/
LOCATION:The Golden Cross\, Twyford\, 8 Waltham Rd\, Twyford\, Reading\, RG10 9EG\, United Kingdom
CATEGORIES:live music twyford,live music wokingham,Open mic
ATTACH;FMTTYPE=image/jpeg:https://berkshireartistree.co.uk/wp-content/uploads/2024/04/Golden-Cross_open-mic-night_Berkshire-Artistree.jpeg
END:VEVENT
END:VCALENDAR