BEGIN:VCALENDAR
VERSION:2.0
PRODID:-//Berkshire Artistree - ECPv6.15.20//NONSGML v1.0//EN
CALSCALE:GREGORIAN
METHOD:PUBLISH
X-ORIGINAL-URL:https://berkshireartistree.co.uk
X-WR-CALDESC:Events for Berkshire Artistree
REFRESH-INTERVAL;VALUE=DURATION:PT1H
X-Robots-Tag:noindex
X-PUBLISHED-TTL:PT1H
BEGIN:VTIMEZONE
TZID:UTC
BEGIN:STANDARD
TZOFFSETFROM:+0000
TZOFFSETTO:+0000
TZNAME:UTC
DTSTART:20250101T000000
END:STANDARD
END:VTIMEZONE
BEGIN:VEVENT
DTSTART;TZID=UTC:20260625T200000
DTEND;TZID=UTC:20260625T223000
DTSTAMP:20260423T193516
CREATED:20250328T080543Z
LAST-MODIFIED:20260206T121124Z
UID:10008100-1782417600-1782426600@berkshireartistree.co.uk
SUMMARY:Original Live Music at The Butler\, Reading
DESCRIPTION:Original Live Music at The Butler\, Reading \nhosted by Nicole Allan \n• Every Last Thursday \n\nOriginal Live Music Night\, run by Nicole Allan\, is a welcoming open mic that celebrates original music and creative expression. This free-entry live music night invites songwriters and performers to step on stage\, share their original material\, and connect with a supportive live audience. From the very first note\, the focus is on authenticity\, creativity\, and community. \nDue to growing demand\, the format has evolved into a relaxed\, unplanned open mic where anyone can arrive on the night and perform. As a result\, artists are encouraged to try new songs\, workshop fresh ideas\, and test material in front of fellow musicians and music lovers. Meanwhile\, audiences are invited to support the performers directly\, with tipping encouraged for each set. \nAdditionally\, this original live music night has become a valuable networking space. Emerging artists can meet peers\, discover new talent\, and learn by watching experienced songwriters perform their craft live. However\, the atmosphere remains inclusive and low-pressure\, making it an ideal setting for first-time performers as well as seasoned musicians. \nFinally\, whether you’re an artist looking to share your music or a listener eager to hear something new\, this open mic offers a genuine live music experience rooted in creativity and connection. For further details\, including venue information and organiser updates\, see the venue and organiser pages below! \n\nFor more live music in Berkshire visit our events page.
URL:https://berkshireartistree.co.uk/live-music-event/original-live-music-at-the-butler-reading/2026-06-25/
LOCATION:The Butler\, Reading\, 85-91 Chatham St\, Reading\, RG1 7DS
CATEGORIES:Original Music
ATTACH;FMTTYPE=image/jpeg:https://berkshireartistree.co.uk/wp-content/uploads/2025/03/The-Butler_Reading_Original-live-music-.jpg
END:VEVENT
BEGIN:VEVENT
DTSTART;TZID=UTC:20260627T193000
DTEND;TZID=UTC:20260627T230000
DTSTAMP:20260423T193516
CREATED:20260415T145636Z
LAST-MODIFIED:20260415T145715Z
UID:10009883-1782588600-1782601200@berkshireartistree.co.uk
SUMMARY:Variety night at The Rising Sun Arts Centre | Reading
DESCRIPTION:Local artists showcasing original music\n• APPLY TO PLAY \nVariety Night at The Rising Sun Arts Centre is an inclusive upcoming live showcase that brings a broad mix of performers into one of Reading’s most characterful grassroots venues. \n➖ Monthly live music showcase in Reading ➖ Welcomes musicians\, magicians\, drag acts\, poets\, rappers\, singers\, and songwriters ➖ Set in an independent community arts venue known for supporting live music and local artists ➖ Suits audiences who enjoy variety\, discovery\, and a creative grassroots atmosphere \nVariety Night at The Rising Sun Arts Centre\nVariety Night stands out because it is built around live performance in many forms\, not just one scene or sound. That gives the evening a lively\, unpredictable edge. You might catch a strong singer-songwriter set\, then a poet\, then a comic or drag performer. As a result\, the event feels open\, social\, and full of discovery. For anyone searching for Variety Night at The Rising Sun Arts Centre\, the appeal is clear: fresh acts\, different styles\, and a crowd that is there to engage. \nThe venue adds even more value. The Rising Sun Arts Centre is an independent Reading space with a real grassroots identity\, regular live music programming\, and a reputation for backing local and emerging talent. Its historic setting and community-led energy create the right balance of intimacy and buzz\, so performances can feel both relaxed and memorable. \nAltogether\, this is the kind of event that rewards curiosity. Whether you go to support performers\, find new favourites\, or simply enjoy a more varied night out\, Variety Night at The Rising Sun Arts Centre offers a creative experience with genuine local character. \nCalling all artists\nIf you’re looking to make your way into paid performances\, this is your chance to play! You can apply here to be considered for future showcases. \nFor more live music check out Berkshireartistree.co.uk/live-music-events/
URL:https://berkshireartistree.co.uk/live-music-event/variety-night-at-the-rising-sun-arts-centre-reading/2026-06-27/
LOCATION:The Rising Sun Arts Centre\, Reading\, 30 Silver St\, Reading\, RG1 2ST\, United Kingdom
CATEGORIES:Original Music
ATTACH;FMTTYPE=image/jpeg:https://berkshireartistree.co.uk/wp-content/uploads/2026/04/rising-sun-arts-centre_variety-night_live-music.jpeg
END:VEVENT
END:VCALENDAR