BEGIN:VCALENDAR
VERSION:2.0
PRODID:-//Berkshire Artistree - ECPv6.15.20//NONSGML v1.0//EN
CALSCALE:GREGORIAN
METHOD:PUBLISH
X-WR-CALNAME:Berkshire Artistree
X-ORIGINAL-URL:https://berkshireartistree.co.uk
X-WR-CALDESC:Events for Berkshire Artistree
REFRESH-INTERVAL;VALUE=DURATION:PT1H
X-Robots-Tag:noindex
X-PUBLISHED-TTL:PT1H
BEGIN:VTIMEZONE
TZID:UTC
BEGIN:STANDARD
TZOFFSETFROM:+0000
TZOFFSETTO:+0000
TZNAME:UTC
DTSTART:20250101T000000
END:STANDARD
END:VTIMEZONE
BEGIN:VEVENT
DTSTART;TZID=UTC:20260416T193000
DTEND;TZID=UTC:20260416T233000
DTSTAMP:20260423T193647
CREATED:20260415T094534Z
LAST-MODIFIED:20260415T094534Z
UID:10009878-1776367800-1776382200@berkshireartistree.co.uk
SUMMARY:GSMC Presents: 3rd Thursdays
DESCRIPTION:Live Music at Other Space Arts\, Windsor\nWith GSMC Presents: 3rd Thursdays \nA regular live music showcase hosted by GSMC featuring emerging artists and performers in an intimate setting. See more information on the organiser link below\, or visit the venue link to see more about Other Space Arts\, Windsor. \nFor more live music in Berkshire visit BerkshireArtistree.co.uk/live-music-events
URL:https://berkshireartistree.co.uk/live-music-event/gsmc-presents-3rd-thursdays/
LOCATION:Other Space Arts\, Windsor\, Kardelton House\, Vansittart Estate\, Windsor\, SL4 1SE
CATEGORIES:Original Music
ATTACH;FMTTYPE=image/jpeg:https://berkshireartistree.co.uk/wp-content/uploads/2025/04/Other-Space-Arts_Windsor_live-music.jpg
END:VEVENT
END:VCALENDAR