BEGIN:VCALENDAR
VERSION:2.0
PRODID:-//Berkshire Artistree - ECPv6.15.20//NONSGML v1.0//EN
CALSCALE:GREGORIAN
METHOD:PUBLISH
X-WR-CALNAME:Berkshire Artistree
X-ORIGINAL-URL:https://berkshireartistree.co.uk
X-WR-CALDESC:Events for Berkshire Artistree
REFRESH-INTERVAL;VALUE=DURATION:PT1H
X-Robots-Tag:noindex
X-PUBLISHED-TTL:PT1H
BEGIN:VTIMEZONE
TZID:UTC
BEGIN:STANDARD
TZOFFSETFROM:+0000
TZOFFSETTO:+0000
TZNAME:UTC
DTSTART:20250101T000000
END:STANDARD
END:VTIMEZONE
BEGIN:VEVENT
DTSTART;TZID=UTC:20260424T200000
DTEND;TZID=UTC:20260424T230000
DTSTAMP:20260423T175654
CREATED:20260225T140419Z
LAST-MODIFIED:20260225T142349Z
UID:10009516-1777060800-1777071600@berkshireartistree.co.uk
SUMMARY:Live music at The Rising Sun Arts Centre\, Reading | Future Transmissions Presents- Ben Marwood & Matt Stockl
DESCRIPTION:Live Music at The Rising Sun Arts Centre\, Reading\nWith Future Transmissions Presents- Ben Marwood & Matt Stockl performing live \nSee more information on Future Transmissions Presents- Ben Marwood & Matt Stockl visit the organiser link below\, or visit the venue link to see more about The Rising Sun Arts Centre\, Reading. \nFor more live music in Berkshire visit BerkshireArtistree.co.uk/live-music-events
URL:https://berkshireartistree.co.uk/live-music-event/live-music-at-the-rising-sun-arts-centre-reading-future-transmissions-presents-ben-marwood-matt-stockl/
LOCATION:The Rising Sun Arts Centre\, Reading\, 30 Silver St\, Reading\, RG1 2ST\, United Kingdom
CATEGORIES:Original Music
ATTACH;FMTTYPE=image/png:https://berkshireartistree.co.uk/wp-content/uploads/2025/02/Rising-Sun-Arts-Centre_Open-mic.png
END:VEVENT
END:VCALENDAR