BEGIN:VCALENDAR
VERSION:2.0
PRODID:-//Berkshire Artistree - ECPv6.15.20//NONSGML v1.0//EN
CALSCALE:GREGORIAN
METHOD:PUBLISH
X-WR-CALNAME:Berkshire Artistree
X-ORIGINAL-URL:https://berkshireartistree.co.uk
X-WR-CALDESC:Events for Berkshire Artistree
REFRESH-INTERVAL;VALUE=DURATION:PT1H
X-Robots-Tag:noindex
X-PUBLISHED-TTL:PT1H
BEGIN:VTIMEZONE
TZID:UTC
BEGIN:STANDARD
TZOFFSETFROM:+0000
TZOFFSETTO:+0000
TZNAME:UTC
DTSTART:20250101T000000
END:STANDARD
END:VTIMEZONE
BEGIN:VEVENT
DTSTART;TZID=UTC:20260418T203000
DTEND;TZID=UTC:20260418T230000
DTSTAMP:20260423T224745
CREATED:20260227T095807Z
LAST-MODIFIED:20260328T095145Z
UID:10009209-1776544200-1776553200@berkshireartistree.co.uk
SUMMARY:Open Mic at the Craufurd Arms\, Maidenhead
DESCRIPTION:Open Mic at the Craufurd Arms\, Maidenhead\nhosted by Sarah and Alex\n• Every 2 months \n\n\n\n\n\n\n\n\n\n\n\n\n\n\n\n\nOpen mic night at The Craufurd Arms in Maidenhead gives local artists a welcoming platform to perform live at one of Maidenhead’s most active grassroots venues. \nKey Points➖ Open mic at The Craufurd Arms in Maidenhead➖ Bi-monthly night hosted by Sarah Traut➖ Open to solo artists\, duos and bands➖ Part of a busy calendar of live music events➖ Black Card pass available for all shows➖ Just a 10-minute walk from Furze Platt station \nTop venue in Maiden head\nThe open mic at The Craufurd Arms creates an inviting space for musicians and music fans. Sarah Traut runs the night with warmth and structure. As a result\, performers feel supported and audiences stay engaged. You can expect acoustic originals\, fresh covers and occasional full-band sets. Each act brings a different sound\, so the evening never feels predictable. \nMoreover\, The Craufurd Arms hosts regular live music nights throughout the month. Touring bands and solo acts appear on the same stage\, which strengthens its reputation as a serious music venue. The intimate room keeps the crowd close to the performers. Consequently\, every set feels direct and personal. The lively bar adds atmosphere\, yet the focus always stays on the music. \nIn addition\, regular gig-goers can invest in the Black Card pass for entry to every show\, making it excellent value across the venue’s packed programme. With Furze Platt station only a short walk away\, travel is simple and convenient. \nWhether you want to perform or discover new talent\, the open mic at The Craufurd Arms in Maidenhead offers authentic live music in a venue that actively champions its local scene. \nFor more live music check out Berkshireartistree.co.uk/live-music-events/ \n\n\n\n\n\n\n\n\n\n\n\n\n\n\n\n\n\nFor more live music in Berkshire visit our events page.
URL:https://berkshireartistree.co.uk/live-music-event/open-mic-at-the-craufurd-arms-maidenhead-3/
LOCATION:The Craufurd Arms\, Maidenhead\, 15 Gringer Hill\, Maidenhead\, SL6 7LY
CATEGORIES:Open mic,Open mic maidenhead
ATTACH;FMTTYPE=image/jpeg:https://berkshireartistree.co.uk/wp-content/uploads/2024/10/Open-Mic-at-The-Craufurd-Arms_Maidenhead_Berkshire-Artistree.jpg
END:VEVENT
BEGIN:VEVENT
DTSTART;TZID=UTC:20260430T193000
DTEND;TZID=UTC:20260430T230000
DTSTAMP:20260423T224745
CREATED:20260212T194945Z
LAST-MODIFIED:20260213T114152Z
UID:10009423-1777577400-1777590000@berkshireartistree.co.uk
SUMMARY:Open Mic at Off The Tap\, Maidenhead
DESCRIPTION:Open Mic at Off The Tap\, Maidenhead\nhosted by Tara Deane \n• Every 2nd Thursday \nExperience Off The Tap Open Mic Night for an evening built around live performance\, creativity\, and community spirit. Hosted every other Thursday\, this welcoming showcase is led by the hugely talented Tara Deane\, whose passion for live music sets the tone from the first note. Meanwhile\, the vibrant setting of Off The Tap provides the perfect backdrop for emerging and established performers alike. \nLive Music Energy at Off The Tap Open Mic Night\nAt the heart of Off The Tap Open Mic Night at Off The Tap is Tara Deane’s commitment to creating a supportive stage. She ensures every act has a chance to shine\, whether you’re performing original material\, acoustic covers\, spoken word\, or something entirely unexpected. As a result\, the night feels dynamic yet inclusive. First-timers gain confidence\, while seasoned performers refine their craft in front of an engaged audience. \nTara Deane was the winner of the Berkshire Artistree Award 2025\, for her incredible work in placing artists at local events and running her podcast\, Inside The Music Scene. She interviews local acts and industry professionals to educate people on how to make it it in music and is an absolute diamond of the Maidenhead scene! \nAdditionally\, the atmosphere inside Off The Tap elevates the entire experience. The intimate layout brings performers and audience closer together\, which creates genuine connection and strong crowd energy. Each set flows seamlessly into the next\, keeping the momentum high throughout the evening. \nUltimately\, Off The Tap Open Mic Night at Off The Tap is more than an open mic. It’s a live music gathering where talent thrives\, community grows\, and unforgettable performances unfold in a space designed to celebrate them. \nFor more live music in Berkshire visit BerkshireArtistree.co.uk/live-music-events
URL:https://berkshireartistree.co.uk/live-music-event/open-mic-at-off-the-tap-maidenhead-2/2026-04-30/
LOCATION:Off The Tap\, 105 High St\, Maidenhead\, United Kingdom
CATEGORIES:Open mic,Open mic maidenhead
ATTACH;FMTTYPE=image/jpeg:https://berkshireartistree.co.uk/wp-content/uploads/2024/06/Off-The-Tap-Maidenhead_Berkshire-Artistree.jpeg
END:VEVENT
BEGIN:VEVENT
DTSTART;TZID=UTC:20260514T193000
DTEND;TZID=UTC:20260514T230000
DTSTAMP:20260423T224745
CREATED:20260212T194945Z
LAST-MODIFIED:20260213T114152Z
UID:10009718-1778787000-1778799600@berkshireartistree.co.uk
SUMMARY:Open Mic at Off The Tap\, Maidenhead
DESCRIPTION:Open Mic at Off The Tap\, Maidenhead\nhosted by Tara Deane \n• Every 2nd Thursday \nExperience Off The Tap Open Mic Night for an evening built around live performance\, creativity\, and community spirit. Hosted every other Thursday\, this welcoming showcase is led by the hugely talented Tara Deane\, whose passion for live music sets the tone from the first note. Meanwhile\, the vibrant setting of Off The Tap provides the perfect backdrop for emerging and established performers alike. \nLive Music Energy at Off The Tap Open Mic Night\nAt the heart of Off The Tap Open Mic Night at Off The Tap is Tara Deane’s commitment to creating a supportive stage. She ensures every act has a chance to shine\, whether you’re performing original material\, acoustic covers\, spoken word\, or something entirely unexpected. As a result\, the night feels dynamic yet inclusive. First-timers gain confidence\, while seasoned performers refine their craft in front of an engaged audience. \nTara Deane was the winner of the Berkshire Artistree Award 2025\, for her incredible work in placing artists at local events and running her podcast\, Inside The Music Scene. She interviews local acts and industry professionals to educate people on how to make it it in music and is an absolute diamond of the Maidenhead scene! \nAdditionally\, the atmosphere inside Off The Tap elevates the entire experience. The intimate layout brings performers and audience closer together\, which creates genuine connection and strong crowd energy. Each set flows seamlessly into the next\, keeping the momentum high throughout the evening. \nUltimately\, Off The Tap Open Mic Night at Off The Tap is more than an open mic. It’s a live music gathering where talent thrives\, community grows\, and unforgettable performances unfold in a space designed to celebrate them. \nFor more live music in Berkshire visit BerkshireArtistree.co.uk/live-music-events
URL:https://berkshireartistree.co.uk/live-music-event/open-mic-at-off-the-tap-maidenhead-2/2026-05-14/
LOCATION:Off The Tap\, 105 High St\, Maidenhead\, United Kingdom
CATEGORIES:Open mic,Open mic maidenhead
ATTACH;FMTTYPE=image/jpeg:https://berkshireartistree.co.uk/wp-content/uploads/2024/06/Off-The-Tap-Maidenhead_Berkshire-Artistree.jpeg
END:VEVENT
BEGIN:VEVENT
DTSTART;TZID=UTC:20260528T193000
DTEND;TZID=UTC:20260528T230000
DTSTAMP:20260423T224745
CREATED:20260212T194945Z
LAST-MODIFIED:20260213T114152Z
UID:10009719-1779996600-1780009200@berkshireartistree.co.uk
SUMMARY:Open Mic at Off The Tap\, Maidenhead
DESCRIPTION:Open Mic at Off The Tap\, Maidenhead\nhosted by Tara Deane \n• Every 2nd Thursday \nExperience Off The Tap Open Mic Night for an evening built around live performance\, creativity\, and community spirit. Hosted every other Thursday\, this welcoming showcase is led by the hugely talented Tara Deane\, whose passion for live music sets the tone from the first note. Meanwhile\, the vibrant setting of Off The Tap provides the perfect backdrop for emerging and established performers alike. \nLive Music Energy at Off The Tap Open Mic Night\nAt the heart of Off The Tap Open Mic Night at Off The Tap is Tara Deane’s commitment to creating a supportive stage. She ensures every act has a chance to shine\, whether you’re performing original material\, acoustic covers\, spoken word\, or something entirely unexpected. As a result\, the night feels dynamic yet inclusive. First-timers gain confidence\, while seasoned performers refine their craft in front of an engaged audience. \nTara Deane was the winner of the Berkshire Artistree Award 2025\, for her incredible work in placing artists at local events and running her podcast\, Inside The Music Scene. She interviews local acts and industry professionals to educate people on how to make it it in music and is an absolute diamond of the Maidenhead scene! \nAdditionally\, the atmosphere inside Off The Tap elevates the entire experience. The intimate layout brings performers and audience closer together\, which creates genuine connection and strong crowd energy. Each set flows seamlessly into the next\, keeping the momentum high throughout the evening. \nUltimately\, Off The Tap Open Mic Night at Off The Tap is more than an open mic. It’s a live music gathering where talent thrives\, community grows\, and unforgettable performances unfold in a space designed to celebrate them. \nFor more live music in Berkshire visit BerkshireArtistree.co.uk/live-music-events
URL:https://berkshireartistree.co.uk/live-music-event/open-mic-at-off-the-tap-maidenhead-2/2026-05-28/
LOCATION:Off The Tap\, 105 High St\, Maidenhead\, United Kingdom
CATEGORIES:Open mic,Open mic maidenhead
ATTACH;FMTTYPE=image/jpeg:https://berkshireartistree.co.uk/wp-content/uploads/2024/06/Off-The-Tap-Maidenhead_Berkshire-Artistree.jpeg
END:VEVENT
BEGIN:VEVENT
DTSTART;TZID=UTC:20260611T193000
DTEND;TZID=UTC:20260611T230000
DTSTAMP:20260423T224745
CREATED:20260212T194945Z
LAST-MODIFIED:20260213T114152Z
UID:10009720-1781206200-1781218800@berkshireartistree.co.uk
SUMMARY:Open Mic at Off The Tap\, Maidenhead
DESCRIPTION:Open Mic at Off The Tap\, Maidenhead\nhosted by Tara Deane \n• Every 2nd Thursday \nExperience Off The Tap Open Mic Night for an evening built around live performance\, creativity\, and community spirit. Hosted every other Thursday\, this welcoming showcase is led by the hugely talented Tara Deane\, whose passion for live music sets the tone from the first note. Meanwhile\, the vibrant setting of Off The Tap provides the perfect backdrop for emerging and established performers alike. \nLive Music Energy at Off The Tap Open Mic Night\nAt the heart of Off The Tap Open Mic Night at Off The Tap is Tara Deane’s commitment to creating a supportive stage. She ensures every act has a chance to shine\, whether you’re performing original material\, acoustic covers\, spoken word\, or something entirely unexpected. As a result\, the night feels dynamic yet inclusive. First-timers gain confidence\, while seasoned performers refine their craft in front of an engaged audience. \nTara Deane was the winner of the Berkshire Artistree Award 2025\, for her incredible work in placing artists at local events and running her podcast\, Inside The Music Scene. She interviews local acts and industry professionals to educate people on how to make it it in music and is an absolute diamond of the Maidenhead scene! \nAdditionally\, the atmosphere inside Off The Tap elevates the entire experience. The intimate layout brings performers and audience closer together\, which creates genuine connection and strong crowd energy. Each set flows seamlessly into the next\, keeping the momentum high throughout the evening. \nUltimately\, Off The Tap Open Mic Night at Off The Tap is more than an open mic. It’s a live music gathering where talent thrives\, community grows\, and unforgettable performances unfold in a space designed to celebrate them. \nFor more live music in Berkshire visit BerkshireArtistree.co.uk/live-music-events
URL:https://berkshireartistree.co.uk/live-music-event/open-mic-at-off-the-tap-maidenhead-2/2026-06-11/
LOCATION:Off The Tap\, 105 High St\, Maidenhead\, United Kingdom
CATEGORIES:Open mic,Open mic maidenhead
ATTACH;FMTTYPE=image/jpeg:https://berkshireartistree.co.uk/wp-content/uploads/2024/06/Off-The-Tap-Maidenhead_Berkshire-Artistree.jpeg
END:VEVENT
BEGIN:VEVENT
DTSTART;TZID=UTC:20260625T193000
DTEND;TZID=UTC:20260625T230000
DTSTAMP:20260423T224745
CREATED:20260212T194945Z
LAST-MODIFIED:20260213T114152Z
UID:10009835-1782415800-1782428400@berkshireartistree.co.uk
SUMMARY:Open Mic at Off The Tap\, Maidenhead
DESCRIPTION:Open Mic at Off The Tap\, Maidenhead\nhosted by Tara Deane \n• Every 2nd Thursday \nExperience Off The Tap Open Mic Night for an evening built around live performance\, creativity\, and community spirit. Hosted every other Thursday\, this welcoming showcase is led by the hugely talented Tara Deane\, whose passion for live music sets the tone from the first note. Meanwhile\, the vibrant setting of Off The Tap provides the perfect backdrop for emerging and established performers alike. \nLive Music Energy at Off The Tap Open Mic Night\nAt the heart of Off The Tap Open Mic Night at Off The Tap is Tara Deane’s commitment to creating a supportive stage. She ensures every act has a chance to shine\, whether you’re performing original material\, acoustic covers\, spoken word\, or something entirely unexpected. As a result\, the night feels dynamic yet inclusive. First-timers gain confidence\, while seasoned performers refine their craft in front of an engaged audience. \nTara Deane was the winner of the Berkshire Artistree Award 2025\, for her incredible work in placing artists at local events and running her podcast\, Inside The Music Scene. She interviews local acts and industry professionals to educate people on how to make it it in music and is an absolute diamond of the Maidenhead scene! \nAdditionally\, the atmosphere inside Off The Tap elevates the entire experience. The intimate layout brings performers and audience closer together\, which creates genuine connection and strong crowd energy. Each set flows seamlessly into the next\, keeping the momentum high throughout the evening. \nUltimately\, Off The Tap Open Mic Night at Off The Tap is more than an open mic. It’s a live music gathering where talent thrives\, community grows\, and unforgettable performances unfold in a space designed to celebrate them. \nFor more live music in Berkshire visit BerkshireArtistree.co.uk/live-music-events
URL:https://berkshireartistree.co.uk/live-music-event/open-mic-at-off-the-tap-maidenhead-2/2026-06-25/
LOCATION:Off The Tap\, 105 High St\, Maidenhead\, United Kingdom
CATEGORIES:Open mic,Open mic maidenhead
ATTACH;FMTTYPE=image/jpeg:https://berkshireartistree.co.uk/wp-content/uploads/2024/06/Off-The-Tap-Maidenhead_Berkshire-Artistree.jpeg
END:VEVENT
BEGIN:VEVENT
DTSTART;TZID=UTC:20260709T193000
DTEND;TZID=UTC:20260709T230000
DTSTAMP:20260423T224745
CREATED:20260212T194945Z
LAST-MODIFIED:20260213T114152Z
UID:10009932-1783625400-1783638000@berkshireartistree.co.uk
SUMMARY:Open Mic at Off The Tap\, Maidenhead
DESCRIPTION:Open Mic at Off The Tap\, Maidenhead\nhosted by Tara Deane \n• Every 2nd Thursday \nExperience Off The Tap Open Mic Night for an evening built around live performance\, creativity\, and community spirit. Hosted every other Thursday\, this welcoming showcase is led by the hugely talented Tara Deane\, whose passion for live music sets the tone from the first note. Meanwhile\, the vibrant setting of Off The Tap provides the perfect backdrop for emerging and established performers alike. \nLive Music Energy at Off The Tap Open Mic Night\nAt the heart of Off The Tap Open Mic Night at Off The Tap is Tara Deane’s commitment to creating a supportive stage. She ensures every act has a chance to shine\, whether you’re performing original material\, acoustic covers\, spoken word\, or something entirely unexpected. As a result\, the night feels dynamic yet inclusive. First-timers gain confidence\, while seasoned performers refine their craft in front of an engaged audience. \nTara Deane was the winner of the Berkshire Artistree Award 2025\, for her incredible work in placing artists at local events and running her podcast\, Inside The Music Scene. She interviews local acts and industry professionals to educate people on how to make it it in music and is an absolute diamond of the Maidenhead scene! \nAdditionally\, the atmosphere inside Off The Tap elevates the entire experience. The intimate layout brings performers and audience closer together\, which creates genuine connection and strong crowd energy. Each set flows seamlessly into the next\, keeping the momentum high throughout the evening. \nUltimately\, Off The Tap Open Mic Night at Off The Tap is more than an open mic. It’s a live music gathering where talent thrives\, community grows\, and unforgettable performances unfold in a space designed to celebrate them. \nFor more live music in Berkshire visit BerkshireArtistree.co.uk/live-music-events
URL:https://berkshireartistree.co.uk/live-music-event/open-mic-at-off-the-tap-maidenhead-2/2026-07-09/
LOCATION:Off The Tap\, 105 High St\, Maidenhead\, United Kingdom
CATEGORIES:Open mic,Open mic maidenhead
ATTACH;FMTTYPE=image/jpeg:https://berkshireartistree.co.uk/wp-content/uploads/2024/06/Off-The-Tap-Maidenhead_Berkshire-Artistree.jpeg
END:VEVENT
END:VCALENDAR