BEGIN:VCALENDAR
VERSION:2.0
PRODID:-//Berkshire Artistree - ECPv6.15.20//NONSGML v1.0//EN
CALSCALE:GREGORIAN
METHOD:PUBLISH
X-ORIGINAL-URL:https://berkshireartistree.co.uk
X-WR-CALDESC:Events for Berkshire Artistree
REFRESH-INTERVAL;VALUE=DURATION:PT1H
X-Robots-Tag:noindex
X-PUBLISHED-TTL:PT1H
BEGIN:VTIMEZONE
TZID:UTC
BEGIN:STANDARD
TZOFFSETFROM:+0000
TZOFFSETTO:+0000
TZNAME:UTC
DTSTART:20250101T000000
END:STANDARD
END:VTIMEZONE
BEGIN:VEVENT
DTSTART;TZID=UTC:20260423T200000
DTEND;TZID=UTC:20260423T233000
DTSTAMP:20260423T194053
CREATED:20251124T135108Z
LAST-MODIFIED:20251124T135108Z
UID:10009323-1776974400-1776987000@berkshireartistree.co.uk
SUMMARY:Open Mic at The Newbury Pub & Terrace\, Newbury
DESCRIPTION:Open Mic at The Newbury Pub & Terrace\, Newbury\nhosted by Sion Whiley \n• Every Thursday \nOpen Mic at The Newbury Inn\, Newbury. Celebrating over 100 weekly open mic’s in Newbury hotspot\, the Newbury Pub & Terrace. Hosted by the fantastic Sion Whiley\, a local talent who fosters acts onto stage and is very welcoming to new talent! The open mic is held upstairs and in the summer months it moves outside to their tidy outdoor terrace to enjoy some sunshine! Sion is available for contact on the link below. See the venue and organiser links below for more details. \nFor more live music in Berkshire visit BerkshireArtistree.co.uk/live-music-events
URL:https://berkshireartistree.co.uk/live-music-event/open-mic-at-the-newbury-pub-terrace-newbury-2/2026-04-23/
LOCATION:The Newbury Pub & Roof terrace\, 137 Bartholomew St\, Newbury\, RG14 5HB\, United Kingdom
CATEGORIES:Open mic
ATTACH;FMTTYPE=image/jpeg:https://berkshireartistree.co.uk/wp-content/uploads/2024/05/The-Newbury-Inn_Berkshire-Artistree-1.jpeg
END:VEVENT
BEGIN:VEVENT
DTSTART;TZID=UTC:20260430T200000
DTEND;TZID=UTC:20260430T233000
DTSTAMP:20260423T194053
CREATED:20251124T135108Z
LAST-MODIFIED:20251124T135108Z
UID:10009324-1777579200-1777591800@berkshireartistree.co.uk
SUMMARY:Open Mic at The Newbury Pub & Terrace\, Newbury
DESCRIPTION:Open Mic at The Newbury Pub & Terrace\, Newbury\nhosted by Sion Whiley \n• Every Thursday \nOpen Mic at The Newbury Inn\, Newbury. Celebrating over 100 weekly open mic’s in Newbury hotspot\, the Newbury Pub & Terrace. Hosted by the fantastic Sion Whiley\, a local talent who fosters acts onto stage and is very welcoming to new talent! The open mic is held upstairs and in the summer months it moves outside to their tidy outdoor terrace to enjoy some sunshine! Sion is available for contact on the link below. See the venue and organiser links below for more details. \nFor more live music in Berkshire visit BerkshireArtistree.co.uk/live-music-events
URL:https://berkshireartistree.co.uk/live-music-event/open-mic-at-the-newbury-pub-terrace-newbury-2/2026-04-30/
LOCATION:The Newbury Pub & Roof terrace\, 137 Bartholomew St\, Newbury\, RG14 5HB\, United Kingdom
CATEGORIES:Open mic
ATTACH;FMTTYPE=image/jpeg:https://berkshireartistree.co.uk/wp-content/uploads/2024/05/The-Newbury-Inn_Berkshire-Artistree-1.jpeg
END:VEVENT
BEGIN:VEVENT
DTSTART;TZID=UTC:20260503T193000
DTEND;TZID=UTC:20260503T220000
DTSTAMP:20260423T194053
CREATED:20250813T121314Z
LAST-MODIFIED:20250813T123147Z
UID:10009363-1777836600-1777845600@berkshireartistree.co.uk
SUMMARY:Dreading Slam at the Rising Arts Centre\, Reading
DESCRIPTION:Dreading Slam at the Rising Arts Centre\, Reading\nhosted by Dreading Slam \n• Every 1st Sunday \nDreading Slam is a poetry competition held first Sunday of the month. Unleash your talent at one of Reading’s top open mic nights\, hosted at the vibrant Rising Arts Centre. Whether you perform poetry\, comedy\, music\, or spoken word\, this is your stage to shine. \nThe Rising Arts Centre offers a welcoming\, creative space in the heart of Reading. Step into an inspiring venue where local artists and performers gather to share their craft. Audiences can enjoy a relaxed\, friendly atmosphere while discovering fresh talent from the area. \nDreading Slam welcomes performers of all levels\, from beginner to expert. Sign up and showcase your skills to an enthusiastic\, supportive crowd. Each performance gets genuine attention\, giving both newcomers and seasoned artists a chance to thrive. \nFor spectators\, it’s a night packed with energy and creativity. Expect laughter\, thought-provoking poetry\, and memorable musical moments. Connect with local performers\, meet other art lovers\, and immerse yourself in Reading’s buzzing arts scene. \nWhether you live in Reading\, Wokingham\, Newbury\, or the surrounding Berkshire area\, Dreading Slam is the perfect night out. Attend as a performer or a fan—you’ll leave inspired and entertained. \nCheck out our events calendar for more information on the next event\, or you can join the Dreading Slam Facebook group for updates\, sign-up details\, and behind-the-scenes news. Don’t miss your chance to be part of Reading’s thriving creative community! \nPerform. Watch. Connect. Dreading Slam turns ordinary evenings into extraordinary experiences. Make your mark on the local arts scene today. See Dreading Slam for more details. \nFor more live music in Berkshire visit our events page.
URL:https://berkshireartistree.co.uk/live-music-event/dreading-slam-at-the-rising-arts-centre-reading/2026-05-03/
LOCATION:The Rising Sun Arts Centre\, Reading\, 30 Silver St\, Reading\, RG1 2ST\, United Kingdom
CATEGORIES:Open mic,Poetry
ATTACH;FMTTYPE=image/jpeg:https://berkshireartistree.co.uk/wp-content/uploads/2025/08/Dreading-Slam_Rising-Sun-Arts-Centre_Reading_Poetry-Night.jpg
END:VEVENT
BEGIN:VEVENT
DTSTART;TZID=UTC:20260507T200000
DTEND;TZID=UTC:20260507T233000
DTSTAMP:20260423T194053
CREATED:20251124T135108Z
LAST-MODIFIED:20251124T135108Z
UID:10009399-1778184000-1778196600@berkshireartistree.co.uk
SUMMARY:Open Mic at The Newbury Pub & Terrace\, Newbury
DESCRIPTION:Open Mic at The Newbury Pub & Terrace\, Newbury\nhosted by Sion Whiley \n• Every Thursday \nOpen Mic at The Newbury Inn\, Newbury. Celebrating over 100 weekly open mic’s in Newbury hotspot\, the Newbury Pub & Terrace. Hosted by the fantastic Sion Whiley\, a local talent who fosters acts onto stage and is very welcoming to new talent! The open mic is held upstairs and in the summer months it moves outside to their tidy outdoor terrace to enjoy some sunshine! Sion is available for contact on the link below. See the venue and organiser links below for more details. \nFor more live music in Berkshire visit BerkshireArtistree.co.uk/live-music-events
URL:https://berkshireartistree.co.uk/live-music-event/open-mic-at-the-newbury-pub-terrace-newbury-2/2026-05-07/
LOCATION:The Newbury Pub & Roof terrace\, 137 Bartholomew St\, Newbury\, RG14 5HB\, United Kingdom
CATEGORIES:Open mic
ATTACH;FMTTYPE=image/jpeg:https://berkshireartistree.co.uk/wp-content/uploads/2024/05/The-Newbury-Inn_Berkshire-Artistree-1.jpeg
END:VEVENT
BEGIN:VEVENT
DTSTART;TZID=UTC:20260512T200000
DTEND;TZID=UTC:20260512T230000
DTSTAMP:20260423T194053
CREATED:20250611T144740Z
LAST-MODIFIED:20260302T112709Z
UID:10009440-1778616000-1778626800@berkshireartistree.co.uk
SUMMARY:Scruffy Soul Open Mic\, Windsor
DESCRIPTION:Scruffy Soul Open Mic\, Windsor\nhosted by Ginni Hogarth \n• Every 2nd Tuesday of the month \nScruffy Soul Open Mic – Live Music & Creative Talent in Windsor\nLooking for a welcoming open mic night in Windsor? Scruffy Soul Open Mic invites musicians\, poets\, and performers of all levels to share their talent in a warm\, inclusive space at Windsor Baptist Church in Berkshire. \nHosted by the passionate Ginni Hogarth and the Scruffy Soul team\, this community-driven event is perfect for those wanting to perform live or simply enjoy an evening of original music\, spoken word\, and soul-stirring creativity. Whether you’re a first-timer or a regular on the Windsor music scene\, this is a platform where raw talent is celebrated and the vibe is always supportive.\nHeld in the heart of Windsor\, this unplugged open mic night offers a relaxed\, intimate setting where both seasoned performers and first-timers are warmly welcomed. Whether you’re a singer-songwriter ready to share new material\, or a music lover looking for a laid-back\, friendly vibe\, this space delivers a unique community-driven evening. \nWhat to Expect: \n• An unplugged\, acoustic-friendly setup \n• A supportive\, creative atmosphere \n• A diverse lineup of local talent – from folk and blues to spoken word \n• bring your own drinks and snacks! \nDoors open 7:30pm\, performances begin 8:00pm \nWant to Perform?\nSign-ups are taken on the night – just bring your instrument\, your voice\, or your words. Slots are typically 10 minutes each\, with a full PA and sound support provided. \nWhether you’re performing or watching\, the Ace Space Open Mic is one of Newbury’s most loved grassroots music nights. Come along\, meet the community\, and support local talent!See the venue and organiser links below for more details. \nFor more live music in Berkshire visit BerkshireArtistree.co.uk/live-music-events
URL:https://berkshireartistree.co.uk/live-music-event/scruffy-soul-open-mic-windsor/2026-05-12/
LOCATION:Windsor Baptist Church\, Victoria St\, Windsor\, SL4 1EH
CATEGORIES:Open mic
ATTACH;FMTTYPE=image/png:https://berkshireartistree.co.uk/wp-content/uploads/2025/06/Open-Mic_windsor_Scruffy-Soul.png
END:VEVENT
BEGIN:VEVENT
DTSTART;TZID=UTC:20260514T200000
DTEND;TZID=UTC:20260514T233000
DTSTAMP:20260423T194053
CREATED:20251124T135108Z
LAST-MODIFIED:20251124T135108Z
UID:10009452-1778788800-1778801400@berkshireartistree.co.uk
SUMMARY:Open Mic at The Newbury Pub & Terrace\, Newbury
DESCRIPTION:Open Mic at The Newbury Pub & Terrace\, Newbury\nhosted by Sion Whiley \n• Every Thursday \nOpen Mic at The Newbury Inn\, Newbury. Celebrating over 100 weekly open mic’s in Newbury hotspot\, the Newbury Pub & Terrace. Hosted by the fantastic Sion Whiley\, a local talent who fosters acts onto stage and is very welcoming to new talent! The open mic is held upstairs and in the summer months it moves outside to their tidy outdoor terrace to enjoy some sunshine! Sion is available for contact on the link below. See the venue and organiser links below for more details. \nFor more live music in Berkshire visit BerkshireArtistree.co.uk/live-music-events
URL:https://berkshireartistree.co.uk/live-music-event/open-mic-at-the-newbury-pub-terrace-newbury-2/2026-05-14/
LOCATION:The Newbury Pub & Roof terrace\, 137 Bartholomew St\, Newbury\, RG14 5HB\, United Kingdom
CATEGORIES:Open mic
ATTACH;FMTTYPE=image/jpeg:https://berkshireartistree.co.uk/wp-content/uploads/2024/05/The-Newbury-Inn_Berkshire-Artistree-1.jpeg
END:VEVENT
BEGIN:VEVENT
DTSTART;TZID=UTC:20260521T200000
DTEND;TZID=UTC:20260521T233000
DTSTAMP:20260423T194053
CREATED:20251124T135108Z
LAST-MODIFIED:20251124T135108Z
UID:10009512-1779393600-1779406200@berkshireartistree.co.uk
SUMMARY:Open Mic at The Newbury Pub & Terrace\, Newbury
DESCRIPTION:Open Mic at The Newbury Pub & Terrace\, Newbury\nhosted by Sion Whiley \n• Every Thursday \nOpen Mic at The Newbury Inn\, Newbury. Celebrating over 100 weekly open mic’s in Newbury hotspot\, the Newbury Pub & Terrace. Hosted by the fantastic Sion Whiley\, a local talent who fosters acts onto stage and is very welcoming to new talent! The open mic is held upstairs and in the summer months it moves outside to their tidy outdoor terrace to enjoy some sunshine! Sion is available for contact on the link below. See the venue and organiser links below for more details. \nFor more live music in Berkshire visit BerkshireArtistree.co.uk/live-music-events
URL:https://berkshireartistree.co.uk/live-music-event/open-mic-at-the-newbury-pub-terrace-newbury-2/2026-05-21/
LOCATION:The Newbury Pub & Roof terrace\, 137 Bartholomew St\, Newbury\, RG14 5HB\, United Kingdom
CATEGORIES:Open mic
ATTACH;FMTTYPE=image/jpeg:https://berkshireartistree.co.uk/wp-content/uploads/2024/05/The-Newbury-Inn_Berkshire-Artistree-1.jpeg
END:VEVENT
BEGIN:VEVENT
DTSTART;TZID=UTC:20260528T200000
DTEND;TZID=UTC:20260528T233000
DTSTAMP:20260423T194053
CREATED:20251124T135108Z
LAST-MODIFIED:20251124T135108Z
UID:10009607-1779998400-1780011000@berkshireartistree.co.uk
SUMMARY:Open Mic at The Newbury Pub & Terrace\, Newbury
DESCRIPTION:Open Mic at The Newbury Pub & Terrace\, Newbury\nhosted by Sion Whiley \n• Every Thursday \nOpen Mic at The Newbury Inn\, Newbury. Celebrating over 100 weekly open mic’s in Newbury hotspot\, the Newbury Pub & Terrace. Hosted by the fantastic Sion Whiley\, a local talent who fosters acts onto stage and is very welcoming to new talent! The open mic is held upstairs and in the summer months it moves outside to their tidy outdoor terrace to enjoy some sunshine! Sion is available for contact on the link below. See the venue and organiser links below for more details. \nFor more live music in Berkshire visit BerkshireArtistree.co.uk/live-music-events
URL:https://berkshireartistree.co.uk/live-music-event/open-mic-at-the-newbury-pub-terrace-newbury-2/2026-05-28/
LOCATION:The Newbury Pub & Roof terrace\, 137 Bartholomew St\, Newbury\, RG14 5HB\, United Kingdom
CATEGORIES:Open mic
ATTACH;FMTTYPE=image/jpeg:https://berkshireartistree.co.uk/wp-content/uploads/2024/05/The-Newbury-Inn_Berkshire-Artistree-1.jpeg
END:VEVENT
BEGIN:VEVENT
DTSTART;TZID=UTC:20260604T200000
DTEND;TZID=UTC:20260604T233000
DTSTAMP:20260423T194053
CREATED:20251124T135108Z
LAST-MODIFIED:20251124T135108Z
UID:10009655-1780603200-1780615800@berkshireartistree.co.uk
SUMMARY:Open Mic at The Newbury Pub & Terrace\, Newbury
DESCRIPTION:Open Mic at The Newbury Pub & Terrace\, Newbury\nhosted by Sion Whiley \n• Every Thursday \nOpen Mic at The Newbury Inn\, Newbury. Celebrating over 100 weekly open mic’s in Newbury hotspot\, the Newbury Pub & Terrace. Hosted by the fantastic Sion Whiley\, a local talent who fosters acts onto stage and is very welcoming to new talent! The open mic is held upstairs and in the summer months it moves outside to their tidy outdoor terrace to enjoy some sunshine! Sion is available for contact on the link below. See the venue and organiser links below for more details. \nFor more live music in Berkshire visit BerkshireArtistree.co.uk/live-music-events
URL:https://berkshireartistree.co.uk/live-music-event/open-mic-at-the-newbury-pub-terrace-newbury-2/2026-06-04/
LOCATION:The Newbury Pub & Roof terrace\, 137 Bartholomew St\, Newbury\, RG14 5HB\, United Kingdom
CATEGORIES:Open mic
ATTACH;FMTTYPE=image/jpeg:https://berkshireartistree.co.uk/wp-content/uploads/2024/05/The-Newbury-Inn_Berkshire-Artistree-1.jpeg
END:VEVENT
BEGIN:VEVENT
DTSTART;TZID=UTC:20260607T193000
DTEND;TZID=UTC:20260607T220000
DTSTAMP:20260423T194053
CREATED:20250813T121314Z
LAST-MODIFIED:20250813T123147Z
UID:10009819-1780860600-1780869600@berkshireartistree.co.uk
SUMMARY:Dreading Slam at the Rising Arts Centre\, Reading
DESCRIPTION:Dreading Slam at the Rising Arts Centre\, Reading\nhosted by Dreading Slam \n• Every 1st Sunday \nDreading Slam is a poetry competition held first Sunday of the month. Unleash your talent at one of Reading’s top open mic nights\, hosted at the vibrant Rising Arts Centre. Whether you perform poetry\, comedy\, music\, or spoken word\, this is your stage to shine. \nThe Rising Arts Centre offers a welcoming\, creative space in the heart of Reading. Step into an inspiring venue where local artists and performers gather to share their craft. Audiences can enjoy a relaxed\, friendly atmosphere while discovering fresh talent from the area. \nDreading Slam welcomes performers of all levels\, from beginner to expert. Sign up and showcase your skills to an enthusiastic\, supportive crowd. Each performance gets genuine attention\, giving both newcomers and seasoned artists a chance to thrive. \nFor spectators\, it’s a night packed with energy and creativity. Expect laughter\, thought-provoking poetry\, and memorable musical moments. Connect with local performers\, meet other art lovers\, and immerse yourself in Reading’s buzzing arts scene. \nWhether you live in Reading\, Wokingham\, Newbury\, or the surrounding Berkshire area\, Dreading Slam is the perfect night out. Attend as a performer or a fan—you’ll leave inspired and entertained. \nCheck out our events calendar for more information on the next event\, or you can join the Dreading Slam Facebook group for updates\, sign-up details\, and behind-the-scenes news. Don’t miss your chance to be part of Reading’s thriving creative community! \nPerform. Watch. Connect. Dreading Slam turns ordinary evenings into extraordinary experiences. Make your mark on the local arts scene today. See Dreading Slam for more details. \nFor more live music in Berkshire visit our events page.
URL:https://berkshireartistree.co.uk/live-music-event/dreading-slam-at-the-rising-arts-centre-reading/2026-06-07/
LOCATION:The Rising Sun Arts Centre\, Reading\, 30 Silver St\, Reading\, RG1 2ST\, United Kingdom
CATEGORIES:Open mic,Poetry
ATTACH;FMTTYPE=image/jpeg:https://berkshireartistree.co.uk/wp-content/uploads/2025/08/Dreading-Slam_Rising-Sun-Arts-Centre_Reading_Poetry-Night.jpg
END:VEVENT
BEGIN:VEVENT
DTSTART;TZID=UTC:20260609T200000
DTEND;TZID=UTC:20260609T230000
DTSTAMP:20260423T194053
CREATED:20250611T144740Z
LAST-MODIFIED:20260302T112709Z
UID:10009670-1781035200-1781046000@berkshireartistree.co.uk
SUMMARY:Scruffy Soul Open Mic\, Windsor
DESCRIPTION:Scruffy Soul Open Mic\, Windsor\nhosted by Ginni Hogarth \n• Every 2nd Tuesday of the month \nScruffy Soul Open Mic – Live Music & Creative Talent in Windsor\nLooking for a welcoming open mic night in Windsor? Scruffy Soul Open Mic invites musicians\, poets\, and performers of all levels to share their talent in a warm\, inclusive space at Windsor Baptist Church in Berkshire. \nHosted by the passionate Ginni Hogarth and the Scruffy Soul team\, this community-driven event is perfect for those wanting to perform live or simply enjoy an evening of original music\, spoken word\, and soul-stirring creativity. Whether you’re a first-timer or a regular on the Windsor music scene\, this is a platform where raw talent is celebrated and the vibe is always supportive.\nHeld in the heart of Windsor\, this unplugged open mic night offers a relaxed\, intimate setting where both seasoned performers and first-timers are warmly welcomed. Whether you’re a singer-songwriter ready to share new material\, or a music lover looking for a laid-back\, friendly vibe\, this space delivers a unique community-driven evening. \nWhat to Expect: \n• An unplugged\, acoustic-friendly setup \n• A supportive\, creative atmosphere \n• A diverse lineup of local talent – from folk and blues to spoken word \n• bring your own drinks and snacks! \nDoors open 7:30pm\, performances begin 8:00pm \nWant to Perform?\nSign-ups are taken on the night – just bring your instrument\, your voice\, or your words. Slots are typically 10 minutes each\, with a full PA and sound support provided. \nWhether you’re performing or watching\, the Ace Space Open Mic is one of Newbury’s most loved grassroots music nights. Come along\, meet the community\, and support local talent!See the venue and organiser links below for more details. \nFor more live music in Berkshire visit BerkshireArtistree.co.uk/live-music-events
URL:https://berkshireartistree.co.uk/live-music-event/scruffy-soul-open-mic-windsor/2026-06-09/
LOCATION:Windsor Baptist Church\, Victoria St\, Windsor\, SL4 1EH
CATEGORIES:Open mic
ATTACH;FMTTYPE=image/png:https://berkshireartistree.co.uk/wp-content/uploads/2025/06/Open-Mic_windsor_Scruffy-Soul.png
END:VEVENT
BEGIN:VEVENT
DTSTART;TZID=UTC:20260611T200000
DTEND;TZID=UTC:20260611T233000
DTSTAMP:20260423T194053
CREATED:20251124T135108Z
LAST-MODIFIED:20251124T135108Z
UID:10009694-1781208000-1781220600@berkshireartistree.co.uk
SUMMARY:Open Mic at The Newbury Pub & Terrace\, Newbury
DESCRIPTION:Open Mic at The Newbury Pub & Terrace\, Newbury\nhosted by Sion Whiley \n• Every Thursday \nOpen Mic at The Newbury Inn\, Newbury. Celebrating over 100 weekly open mic’s in Newbury hotspot\, the Newbury Pub & Terrace. Hosted by the fantastic Sion Whiley\, a local talent who fosters acts onto stage and is very welcoming to new talent! The open mic is held upstairs and in the summer months it moves outside to their tidy outdoor terrace to enjoy some sunshine! Sion is available for contact on the link below. See the venue and organiser links below for more details. \nFor more live music in Berkshire visit BerkshireArtistree.co.uk/live-music-events
URL:https://berkshireartistree.co.uk/live-music-event/open-mic-at-the-newbury-pub-terrace-newbury-2/2026-06-11/
LOCATION:The Newbury Pub & Roof terrace\, 137 Bartholomew St\, Newbury\, RG14 5HB\, United Kingdom
CATEGORIES:Open mic
ATTACH;FMTTYPE=image/jpeg:https://berkshireartistree.co.uk/wp-content/uploads/2024/05/The-Newbury-Inn_Berkshire-Artistree-1.jpeg
END:VEVENT
BEGIN:VEVENT
DTSTART;TZID=UTC:20260618T200000
DTEND;TZID=UTC:20260618T233000
DTSTAMP:20260423T194053
CREATED:20251124T135108Z
LAST-MODIFIED:20251124T135108Z
UID:10009728-1781812800-1781825400@berkshireartistree.co.uk
SUMMARY:Open Mic at The Newbury Pub & Terrace\, Newbury
DESCRIPTION:Open Mic at The Newbury Pub & Terrace\, Newbury\nhosted by Sion Whiley \n• Every Thursday \nOpen Mic at The Newbury Inn\, Newbury. Celebrating over 100 weekly open mic’s in Newbury hotspot\, the Newbury Pub & Terrace. Hosted by the fantastic Sion Whiley\, a local talent who fosters acts onto stage and is very welcoming to new talent! The open mic is held upstairs and in the summer months it moves outside to their tidy outdoor terrace to enjoy some sunshine! Sion is available for contact on the link below. See the venue and organiser links below for more details. \nFor more live music in Berkshire visit BerkshireArtistree.co.uk/live-music-events
URL:https://berkshireartistree.co.uk/live-music-event/open-mic-at-the-newbury-pub-terrace-newbury-2/2026-06-18/
LOCATION:The Newbury Pub & Roof terrace\, 137 Bartholomew St\, Newbury\, RG14 5HB\, United Kingdom
CATEGORIES:Open mic
ATTACH;FMTTYPE=image/jpeg:https://berkshireartistree.co.uk/wp-content/uploads/2024/05/The-Newbury-Inn_Berkshire-Artistree-1.jpeg
END:VEVENT
BEGIN:VEVENT
DTSTART;TZID=UTC:20260625T200000
DTEND;TZID=UTC:20260625T233000
DTSTAMP:20260423T194053
CREATED:20251124T135108Z
LAST-MODIFIED:20251124T135108Z
UID:10009794-1782417600-1782430200@berkshireartistree.co.uk
SUMMARY:Open Mic at The Newbury Pub & Terrace\, Newbury
DESCRIPTION:Open Mic at The Newbury Pub & Terrace\, Newbury\nhosted by Sion Whiley \n• Every Thursday \nOpen Mic at The Newbury Inn\, Newbury. Celebrating over 100 weekly open mic’s in Newbury hotspot\, the Newbury Pub & Terrace. Hosted by the fantastic Sion Whiley\, a local talent who fosters acts onto stage and is very welcoming to new talent! The open mic is held upstairs and in the summer months it moves outside to their tidy outdoor terrace to enjoy some sunshine! Sion is available for contact on the link below. See the venue and organiser links below for more details. \nFor more live music in Berkshire visit BerkshireArtistree.co.uk/live-music-events
URL:https://berkshireartistree.co.uk/live-music-event/open-mic-at-the-newbury-pub-terrace-newbury-2/2026-06-25/
LOCATION:The Newbury Pub & Roof terrace\, 137 Bartholomew St\, Newbury\, RG14 5HB\, United Kingdom
CATEGORIES:Open mic
ATTACH;FMTTYPE=image/jpeg:https://berkshireartistree.co.uk/wp-content/uploads/2024/05/The-Newbury-Inn_Berkshire-Artistree-1.jpeg
END:VEVENT
BEGIN:VEVENT
DTSTART;TZID=UTC:20260702T200000
DTEND;TZID=UTC:20260702T233000
DTSTAMP:20260423T194053
CREATED:20251124T135108Z
LAST-MODIFIED:20251124T135108Z
UID:10009837-1783022400-1783035000@berkshireartistree.co.uk
SUMMARY:Open Mic at The Newbury Pub & Terrace\, Newbury
DESCRIPTION:Open Mic at The Newbury Pub & Terrace\, Newbury\nhosted by Sion Whiley \n• Every Thursday \nOpen Mic at The Newbury Inn\, Newbury. Celebrating over 100 weekly open mic’s in Newbury hotspot\, the Newbury Pub & Terrace. Hosted by the fantastic Sion Whiley\, a local talent who fosters acts onto stage and is very welcoming to new talent! The open mic is held upstairs and in the summer months it moves outside to their tidy outdoor terrace to enjoy some sunshine! Sion is available for contact on the link below. See the venue and organiser links below for more details. \nFor more live music in Berkshire visit BerkshireArtistree.co.uk/live-music-events
URL:https://berkshireartistree.co.uk/live-music-event/open-mic-at-the-newbury-pub-terrace-newbury-2/2026-07-02/
LOCATION:The Newbury Pub & Roof terrace\, 137 Bartholomew St\, Newbury\, RG14 5HB\, United Kingdom
CATEGORIES:Open mic
ATTACH;FMTTYPE=image/jpeg:https://berkshireartistree.co.uk/wp-content/uploads/2024/05/The-Newbury-Inn_Berkshire-Artistree-1.jpeg
END:VEVENT
BEGIN:VEVENT
DTSTART;TZID=UTC:20260709T200000
DTEND;TZID=UTC:20260709T233000
DTSTAMP:20260423T194053
CREATED:20251124T135108Z
LAST-MODIFIED:20251124T135108Z
UID:10009874-1783627200-1783639800@berkshireartistree.co.uk
SUMMARY:Open Mic at The Newbury Pub & Terrace\, Newbury
DESCRIPTION:Open Mic at The Newbury Pub & Terrace\, Newbury\nhosted by Sion Whiley \n• Every Thursday \nOpen Mic at The Newbury Inn\, Newbury. Celebrating over 100 weekly open mic’s in Newbury hotspot\, the Newbury Pub & Terrace. Hosted by the fantastic Sion Whiley\, a local talent who fosters acts onto stage and is very welcoming to new talent! The open mic is held upstairs and in the summer months it moves outside to their tidy outdoor terrace to enjoy some sunshine! Sion is available for contact on the link below. See the venue and organiser links below for more details. \nFor more live music in Berkshire visit BerkshireArtistree.co.uk/live-music-events
URL:https://berkshireartistree.co.uk/live-music-event/open-mic-at-the-newbury-pub-terrace-newbury-2/2026-07-09/
LOCATION:The Newbury Pub & Roof terrace\, 137 Bartholomew St\, Newbury\, RG14 5HB\, United Kingdom
CATEGORIES:Open mic
ATTACH;FMTTYPE=image/jpeg:https://berkshireartistree.co.uk/wp-content/uploads/2024/05/The-Newbury-Inn_Berkshire-Artistree-1.jpeg
END:VEVENT
BEGIN:VEVENT
DTSTART;TZID=UTC:20260716T200000
DTEND;TZID=UTC:20260716T233000
DTSTAMP:20260423T194053
CREATED:20251124T135108Z
LAST-MODIFIED:20251124T135108Z
UID:10009937-1784232000-1784244600@berkshireartistree.co.uk
SUMMARY:Open Mic at The Newbury Pub & Terrace\, Newbury
DESCRIPTION:Open Mic at The Newbury Pub & Terrace\, Newbury\nhosted by Sion Whiley \n• Every Thursday \nOpen Mic at The Newbury Inn\, Newbury. Celebrating over 100 weekly open mic’s in Newbury hotspot\, the Newbury Pub & Terrace. Hosted by the fantastic Sion Whiley\, a local talent who fosters acts onto stage and is very welcoming to new talent! The open mic is held upstairs and in the summer months it moves outside to their tidy outdoor terrace to enjoy some sunshine! Sion is available for contact on the link below. See the venue and organiser links below for more details. \nFor more live music in Berkshire visit BerkshireArtistree.co.uk/live-music-events
URL:https://berkshireartistree.co.uk/live-music-event/open-mic-at-the-newbury-pub-terrace-newbury-2/2026-07-16/
LOCATION:The Newbury Pub & Roof terrace\, 137 Bartholomew St\, Newbury\, RG14 5HB\, United Kingdom
CATEGORIES:Open mic
ATTACH;FMTTYPE=image/jpeg:https://berkshireartistree.co.uk/wp-content/uploads/2024/05/The-Newbury-Inn_Berkshire-Artistree-1.jpeg
END:VEVENT
END:VCALENDAR