BEGIN:VCALENDAR
VERSION:2.0
PRODID:-//Berkshire Artistree - ECPv6.15.20//NONSGML v1.0//EN
CALSCALE:GREGORIAN
METHOD:PUBLISH
X-WR-CALNAME:Berkshire Artistree
X-ORIGINAL-URL:https://berkshireartistree.co.uk
X-WR-CALDESC:Events for Berkshire Artistree
REFRESH-INTERVAL;VALUE=DURATION:PT1H
X-Robots-Tag:noindex
X-PUBLISHED-TTL:PT1H
BEGIN:VTIMEZONE
TZID:UTC
BEGIN:STANDARD
TZOFFSETFROM:+0000
TZOFFSETTO:+0000
TZNAME:UTC
DTSTART:20250101T000000
END:STANDARD
END:VTIMEZONE
BEGIN:VEVENT
DTSTART;TZID=UTC:20260325T200000
DTEND;TZID=UTC:20260325T220000
DTSTAMP:20260425T144044
CREATED:20241016T215123Z
LAST-MODIFIED:20251012T122558Z
UID:10009135-1774468800-1774476000@berkshireartistree.co.uk
SUMMARY:Bohemian night at The Fisherman's cottage\, Reading
DESCRIPTION:Bohemian night at The Fisherman’s cottage\, Reading\nhosted by Rob Sowden \n• Every Wednesday \nEvery Wednesday down at the Fisherman’s Cottage in Reading\, Rob Sowden runs his famous bohemian open mic night. Situated down by the river\, boho night has a great reputation amongst the local musicians to welcome new acts and a great opportunity to network with other artists\, poets\, comedians and other diverse acts. Rob himself is an excellent musician\, who plays regularly and runs a number of open mic night around Reading. See the venue and organiser links below for more details. \nFor more live music in Berkshire visit BerkshireArtistree.co.uk/live-music-events
URL:https://berkshireartistree.co.uk/live-music-event/bohemian-night-at-the-fishermans-cottage-reading/2026-03-25/
LOCATION:The Fisherman’s Cottage\, Kennet Side\, Reading\, RG1 3DW\, United Kingdom
CATEGORIES:Open mic
ATTACH;FMTTYPE=image/png:https://berkshireartistree.co.uk/wp-content/uploads/2024/04/Fishermans-cottage_open-mic_boho-night_Berkshire-Artistree.png
END:VEVENT
BEGIN:VEVENT
DTSTART;TZID=UTC:20260325T190000
DTEND;TZID=UTC:20260325T213000
DTSTAMP:20260425T144044
CREATED:20241030T081720Z
LAST-MODIFIED:20241120T172211Z
UID:10009129-1774465200-1774474200@berkshireartistree.co.uk
SUMMARY:Artist Link-Up at The Rising Sun Arts Centre\, Reading
DESCRIPTION:Artist Link-Up at The Rising Sun Arts Centre\, Reading\nhosted by Only Adz \n• Every Wednesday \nArtist Link-Up is a great networking event for producers\, rappers\, artists and poets of all levels. Run by local artist Only Adz\, this event attracts more hip-hop and R&B style artists. See the venue and organiser links below for more details. \nFor more live music in Berkshire visit BerkshireArtistree.co.uk/live-music-events
URL:https://berkshireartistree.co.uk/live-music-event/artist-link-up-at-the-rising-sun-arts-centre-reading/2026-03-25/
LOCATION:The Rising Sun Arts Centre\, Reading\, 30 Silver St\, Reading\, RG1 2ST\, United Kingdom
ATTACH;FMTTYPE=image/jpeg:https://berkshireartistree.co.uk/wp-content/uploads/2024/04/Artist-Link-Up_Berkshire-Artistree_2.jpeg
END:VEVENT
BEGIN:VEVENT
DTSTART;TZID=UTC:20260324T193000
DTEND;TZID=UTC:20260324T220000
DTSTAMP:20260425T144044
CREATED:20260213T151248Z
LAST-MODIFIED:20260213T152532Z
UID:10009428-1774380600-1774389600@berkshireartistree.co.uk
SUMMARY:Spoken word poetry in Iver | The Whip and Collar
DESCRIPTION:Spoken word poetry in Iver\nExperience a powerful night of live poetry as Joe Campling takes centre stage for an intimate spoken word performance. This special event places Joe at The Whip and Collar\, where rhythm\, language\, and lived experience meet a welcoming crowd. From the opening piece\, this event sets a confident tone that draws listeners in and holds them there. \nThe Whip and Collar: Live Spoken Word in an Intimate Setting\nJoe Campling delivers poetry with clarity\, presence\, and purpose. He shapes each line with natural flow\, then builds momentum through sharp observation and emotional honesty. As a result\, the room feels connected and alert. His work moves between humour and reflection\, while his delivery keeps the audience engaged from start to finish. Because he performs with direct eye contact and steady pacing\, every word lands with impact. \nMeanwhile\, The Whip and Collar provides the ideal backdrop for spoken word. Its cosy interior and close layout bring performer and audience together. Therefore\, the atmosphere feels personal rather than distant. Listeners respond in the moment\, and that shared energy becomes part of the experience. Additionally\, the venue’s character adds warmth and texture to the evening. \nFor anyone seeking thoughtful live performance\, Joe offers spoken word at its most immediate. Expect vivid storytelling\, authentic expression\, and a night shaped by language and connection at The Whip and Collar. \n\nFor more events visit our events calendar!
URL:https://berkshireartistree.co.uk/live-music-event/spoken-word-poetry-in-iver-the-whip-and-collar/2026-03-24/
LOCATION:The Whip and Collar\, 135 Swallow St\, Iver\, SL0 0HU\, United Kingdom
ATTACH;FMTTYPE=image/webp:https://berkshireartistree.co.uk/wp-content/uploads/2026/02/whip-collar-iver-heath-sign.webp
END:VEVENT
END:VCALENDAR