BEGIN:VCALENDAR
VERSION:2.0
PRODID:-//Berkshire Artistree - ECPv6.15.20//NONSGML v1.0//EN
CALSCALE:GREGORIAN
METHOD:PUBLISH
X-WR-CALNAME:Berkshire Artistree
X-ORIGINAL-URL:https://berkshireartistree.co.uk
X-WR-CALDESC:Events for Berkshire Artistree
REFRESH-INTERVAL;VALUE=DURATION:PT1H
X-Robots-Tag:noindex
X-PUBLISHED-TTL:PT1H
BEGIN:VTIMEZONE
TZID:UTC
BEGIN:STANDARD
TZOFFSETFROM:+0000
TZOFFSETTO:+0000
TZNAME:UTC
DTSTART:20250101T000000
END:STANDARD
END:VTIMEZONE
BEGIN:VEVENT
DTSTART;TZID=UTC:20260331T193000
DTEND;TZID=UTC:20260331T220000
DTSTAMP:20260423T224053
CREATED:20260227T103709Z
LAST-MODIFIED:20260304T083857Z
UID:10009574-1774985400-1774994400@berkshireartistree.co.uk
SUMMARY:Live music in Bracknell\, Musica | Union Blue
DESCRIPTION:Live music in Bracknell\, Musica\nWith performance from Union Blue\n\n\n\n\n\n\n\nBlues outfit Union Blue performing at Musica brings slick jams and tight rhythms to a dedicated live music venue built for immersive sound and atmosphere. \nKey Points➖ Union Blue deliver grassroots blues with sharp\, groove-led precision➖ Live at Musica in Berkshire➖ Known for slick jams\, tight rhythms\, and confident stage presence➖ Purpose-built venue focused on sound quality and audience experience \nUnion Blue at Musica: Tight Rhythms\, Pure Live Energy\nUnion Blue at Musica promises a rhythm-driven live blues performance packed with energy and control. The band have built their name on slick jams and tight rhythms that feel effortless yet powerful. Their guitar lines cut cleanly through the mix\, while the bass and drums stay locked in from start to finish. As a result\, every track feels focused\, direct\, and engaging. \nOn stage\, Union Blue combine classic blues influences with a fresh edge. They move easily between structured grooves and expressive solos. Because of this balance\, the set never feels predictable. Instead\, the audience experiences authentic blues shaped by instinct and chemistry. Each song develops naturally\, yet the momentum never drops. \nMusica provides the perfect setting for this sound. The venue centres everything on live performance. Its layout keeps the crowd close to the stage\, so every riff and rhythm lands with clarity. In addition\, the atmosphere encourages proper listening. The result is a room that feels charged but never chaotic. \nAltogether\, Union Blue at Musica offers more than a standard night out. It delivers grassroots blues performed with precision and confidence in a venue designed for serious live music fans. For anyone who values tight musicianship and strong live energy\, this upcoming show stands out on the Berkshire scene. \n\n\n\n\n\n\n\n\n\n\nFor more live music check out Berkshireartistree.co.uk/live-music-events/
URL:https://berkshireartistree.co.uk/live-music-event/live-music-in-bracknell-musica-union-blue/
LOCATION:Live music in Bracknell | MUSICA\, 3 Eagle Ln\, Bracknell\, RG12 1BG
CATEGORIES:Original Music
ATTACH;FMTTYPE=image/png:https://berkshireartistree.co.uk/wp-content/uploads/2026/02/Union-Blue_live-music_blues.png
END:VEVENT
BEGIN:VEVENT
DTSTART;TZID=UTC:20260331T200000
DTEND;TZID=UTC:20260331T230000
DTSTAMP:20260423T224053
CREATED:20260328T094133Z
LAST-MODIFIED:20260328T094521Z
UID:10009797-1774987200-1774998000@berkshireartistree.co.uk
SUMMARY:Open Mic in Reading | The Boundary
DESCRIPTION:Open Mic at The Boundary\, Reading\nhosted by Harry J Music \n• \nHarry J at The Boundary launches an exciting new chapter in Reading’s grassroots scene with a vibrant Open Mic Night hosted by the charismatic local performer himself. This live music evening invites artists and audiences alike to gather at The Boundary for a night built on creativity\, connection\, and raw talent. Kicking off at 8pm\, with sign-ups open from 7:30pm\, the event sets the stage for emerging voices to step forward and be heard. \nHarry J at The Boundary Open Mic Experience\nHosted by Harry J\, this open mic is more than a casual jam. Instead\, it’s a carefully curated live music platform led by a performer who understands how to warm up a room and keep energy high. Known for his engaging presence and passion for supporting fellow musicians\, Harry J creates an atmosphere where first-timers and seasoned performers feel equally welcome. Meanwhile\, The Boundary provides the perfect backdrop. The venue’s intimate layout\, lively crowd\, and strong community spirit make it ideal for stripped-back sets\, acoustic showcases\, and bold new material. \nAdditionally\, the structured sign-up time ensures the evening flows smoothly. Performers can settle in\, connect with others\, and prepare before the music begins. Then\, as the night unfolds\, audiences can expect a diverse mix of styles and sounds\, each adding something fresh to the lineup. \nUltimately\, Harry J at The Boundary promises an authentic live music experience rooted in local talent and shared enthusiasm. For anyone eager to perform\, discover new artists\, or simply enjoy a dynamic night out\, this Open Mic Night at The Boundary is the place to be. \nFor more live music in Berkshire visit BerkshireArtistree.co.uk/live-music-events
URL:https://berkshireartistree.co.uk/live-music-event/open-mic-in-reading-the-boundary/2026-03-31/
LOCATION:The Boundary\, Reading\, 21-23 St Mary's Butts\, Reading\, RG1 2LN
CATEGORIES:Open mic
ATTACH;FMTTYPE=image/png:https://berkshireartistree.co.uk/wp-content/uploads/2026/02/open-mic-at-the-boundary_reading.png
END:VEVENT
END:VCALENDAR