BEGIN:VCALENDAR
VERSION:2.0
PRODID:-//Berkshire Artistree - ECPv6.15.20//NONSGML v1.0//EN
CALSCALE:GREGORIAN
METHOD:PUBLISH
X-ORIGINAL-URL:https://berkshireartistree.co.uk
X-WR-CALDESC:Events for Berkshire Artistree
REFRESH-INTERVAL;VALUE=DURATION:PT1H
X-Robots-Tag:noindex
X-PUBLISHED-TTL:PT1H
BEGIN:VTIMEZONE
TZID:UTC
BEGIN:STANDARD
TZOFFSETFROM:+0000
TZOFFSETTO:+0000
TZNAME:UTC
DTSTART:20250101T000000
END:STANDARD
END:VTIMEZONE
BEGIN:VEVENT
DTSTART;TZID=UTC:20260519T200000
DTEND;TZID=UTC:20260519T230000
DTSTAMP:20260423T224515
CREATED:20260218T155000Z
LAST-MODIFIED:20260218T155000Z
UID:10009918-1779220800-1779231600@berkshireartistree.co.uk
SUMMARY:Open mic at the Three Tuns\, Reading
DESCRIPTION:Jam night at the Three Tuns\, Reading \nHosted by Amanda’s Music Events \n\n\n\n\n\n\n\n\n\nThird Tuesday open mic at The Three Tuns is set to light up Wokingham Road with a relaxed\, high-quality night of live music. This much-loved monthly session brings together some of the best local players for an open\, welcoming jam that thrives on energy and collaboration. Kicking off from 8pm\, the evening keeps its friendly format while shifting to the vibrant surroundings of The Three Tuns. As a result\, regulars and new faces alike can expect a cracking atmosphere from the first note. \nExperience the Third Tuesday Jam at The Three Tuns\nJam night at The Three Tuns is fronted by a tight house band and supported by a skilled sound engineer who ensures every instrument cuts through clearly. Meanwhile\, performers can register early to take part\, making the night feel spontaneous yet expertly run. Guitars soar\, keys add depth\, and driving drums keep the momentum strong. In addition\, vocalists bring personality and flair\, turning each set into a unique live moment. \nThe Three Tuns provides the perfect backdrop for this open jam session. Its welcoming interior and lively crowd create a space where musicians feel supported and audiences stay engaged. Then\, as the night unfolds\, collaborations spark and familiar songs take on new life. \nWhether you play or simply love discovering raw local talent\, Amanda’s Jam at The Three Tuns delivers an authentic live music experience. Arrive early\, soak up the buzz\, and be part of a community-driven night that celebrates performance in its purest form. \n\n\n\n\n\n\n\n\n\nFor more live music\, check out our events calendar!
URL:https://berkshireartistree.co.uk/live-music-event/open-mic-at-the-three-tuns-reading/2026-05-19/
LOCATION:Live music at The Three Tuns\, Reading\, 191 Wokingham Rd\, Reading\, RG6 1LT
CATEGORIES:Jam Night,Open mic
ATTACH;FMTTYPE=image/png:https://berkshireartistree.co.uk/wp-content/uploads/2026/02/Open-mic-at-Three-tuns_reading.png
END:VEVENT
BEGIN:VEVENT
DTSTART;TZID=UTC:20260526T200000
DTEND;TZID=UTC:20260526T230000
DTSTAMP:20260423T224515
CREATED:20260328T094133Z
LAST-MODIFIED:20260328T094521Z
UID:10009799-1779825600-1779836400@berkshireartistree.co.uk
SUMMARY:Open Mic in Reading | The Boundary
DESCRIPTION:Open Mic at The Boundary\, Reading\nhosted by Harry J Music \n• \nHarry J at The Boundary launches an exciting new chapter in Reading’s grassroots scene with a vibrant Open Mic Night hosted by the charismatic local performer himself. This live music evening invites artists and audiences alike to gather at The Boundary for a night built on creativity\, connection\, and raw talent. Kicking off at 8pm\, with sign-ups open from 7:30pm\, the event sets the stage for emerging voices to step forward and be heard. \nHarry J at The Boundary Open Mic Experience\nHosted by Harry J\, this open mic is more than a casual jam. Instead\, it’s a carefully curated live music platform led by a performer who understands how to warm up a room and keep energy high. Known for his engaging presence and passion for supporting fellow musicians\, Harry J creates an atmosphere where first-timers and seasoned performers feel equally welcome. Meanwhile\, The Boundary provides the perfect backdrop. The venue’s intimate layout\, lively crowd\, and strong community spirit make it ideal for stripped-back sets\, acoustic showcases\, and bold new material. \nAdditionally\, the structured sign-up time ensures the evening flows smoothly. Performers can settle in\, connect with others\, and prepare before the music begins. Then\, as the night unfolds\, audiences can expect a diverse mix of styles and sounds\, each adding something fresh to the lineup. \nUltimately\, Harry J at The Boundary promises an authentic live music experience rooted in local talent and shared enthusiasm. For anyone eager to perform\, discover new artists\, or simply enjoy a dynamic night out\, this Open Mic Night at The Boundary is the place to be. \nFor more live music in Berkshire visit BerkshireArtistree.co.uk/live-music-events
URL:https://berkshireartistree.co.uk/live-music-event/open-mic-in-reading-the-boundary/2026-05-26/
LOCATION:The Boundary\, Reading\, 21-23 St Mary's Butts\, Reading\, RG1 2LN
CATEGORIES:Open mic
ATTACH;FMTTYPE=image/png:https://berkshireartistree.co.uk/wp-content/uploads/2026/02/open-mic-at-the-boundary_reading.png
END:VEVENT
END:VCALENDAR