BEGIN:VCALENDAR
VERSION:2.0
PRODID:-//Berkshire Artistree - ECPv6.15.20//NONSGML v1.0//EN
CALSCALE:GREGORIAN
METHOD:PUBLISH
X-WR-CALNAME:Berkshire Artistree
X-ORIGINAL-URL:https://berkshireartistree.co.uk
X-WR-CALDESC:Events for Berkshire Artistree
REFRESH-INTERVAL;VALUE=DURATION:PT1H
X-Robots-Tag:noindex
X-PUBLISHED-TTL:PT1H
BEGIN:VTIMEZONE
TZID:UTC
BEGIN:STANDARD
TZOFFSETFROM:+0000
TZOFFSETTO:+0000
TZNAME:UTC
DTSTART:20250101T000000
END:STANDARD
END:VTIMEZONE
BEGIN:VEVENT
DTSTART;TZID=UTC:20260605T190000
DTEND;TZID=UTC:20260605T230000
DTSTAMP:20260424T014051
CREATED:20250604T150914Z
LAST-MODIFIED:20250604T150914Z
UID:10009660-1780686000-1780700400@berkshireartistree.co.uk
SUMMARY:Open Mic at Ace Space\, Newbury
DESCRIPTION:Open Mic at Ace Space\, Newbury\nhosted by Ace Space \n• Every 1st Friday \nLooking for a welcoming space to perform your music\, poetry\, comedy or spoken word in Newbury? Or just after a great night out with live\, local entertainment? Ace Space’s legendary Open Mic Night is the place to be.\n  \nPLEASE ARRIVE EARLY TO SIGN UP – Musicians entry is free \nHeld in the heart of Newbury\, this unplugged open mic night offers a relaxed\, intimate setting where both seasoned performers and first-timers are warmly welcomed. Whether you’re a singer-songwriter ready to share new material\, or a music lover looking for a laid-back\, friendly vibe\, Ace Space delivers a unique community-driven evening.  \nThis open mic happens only once a month\, however opens doors for more shows and great networking opportunities with the Newbury arts scene! \nWhat to Expect: \n• An unplugged\, acoustic-friendly setup \n• A supportive\, creative atmosphere \n• A diverse lineup of local talent – from folk and blues to spoken word \n• Affordable bar and refreshments \nDoors open 7pm\, performances begin 8pm \nWant to Perform?\nSign-ups are taken on the night – just bring your instrument\, your voice\, or your words. Slots are typically 10 minutes each\, with a full PA and sound support provided. \nWhether you’re performing or watching\, the Ace Space Open Mic is one of Newbury’s most loved grassroots music nights. Come along\, meet the community\, and support local talent! See the venue and organiser links below for more details. \nFor more live music in Berkshire visit BerkshireArtistree.co.uk/live-music-events
URL:https://berkshireartistree.co.uk/live-music-event/open-mic-at-ace-space-newbury/2026-06-05/
LOCATION:Ace Space\, Newbuy\, St Nicholas Rd\, Newbury\, RG14 5PR
CATEGORIES:Open mic
ATTACH;FMTTYPE=image/png:https://berkshireartistree.co.uk/wp-content/uploads/2025/06/Open-Mic_Ace-Space_Newbury.png
END:VEVENT
BEGIN:VEVENT
DTSTART;TZID=UTC:20260605T193000
DTEND;TZID=UTC:20260605T213000
DTSTAMP:20260424T014051
CREATED:20260129T163513Z
LAST-MODIFIED:20260220T132533Z
UID:10009281-1780687800-1780695000@berkshireartistree.co.uk
SUMMARY:Live music at The Swan\, Pangbourne | Harry J Music
DESCRIPTION:Live music at The Swan\, Pangbourne \nWith performance from Harry J Music\n\n\n\n\n\n\n\nA relaxed and engaging night of live music is on offer with Harry J at The Swan Pangbourne. Set beside the river\, this performance focuses on well-known songs\, strong musicianship\, and a welcoming atmosphere. From the start\, Harry J at The Swan Pangbourne promises an evening built around songs audiences instantly recognise\, performed with care and personality. \nHarry J’s live set draws from decades of chart classics\, spanning the 60s\, 70s\, 80s\, 90s\, and popular hits released after 2000. He performs music made famous by Fleetwood Mac\, Bon Jovi\, Adele\, Tracy Chapman\, and the Eagles\, among many others. Rather than copying the originals\, he reshapes each song using expert guitar work and a loop station built live on stage. As each layer is added\, rhythms and harmonies take shape in real time. This approach keeps familiar songs fresh while remaining true to what makes them loved. \nMeanwhile\, the intimate setting of The Swan Pangbourne suits this style perfectly. The room allows the sound to travel clearly\, while the audience can follow the looping process as it happens. Additionally\, the relaxed layout encourages a social feel without pulling focus from the performance. The riverside surroundings help the evening flow at an easy pace. \nUltimately\, Harry J at The Swan Pangbourne delivers a live music experience rooted in great songs\, clear technique\, and audience connection. For fans of classic hits performed with a modern live edge\, this is an evening that feels both familiar and engaging. \n\n\n\n\n\n\n\nFor more Live music visit www.berkshireartistree.co.uk/live-music-events/ \nour full events calendar!
URL:https://berkshireartistree.co.uk/live-music-event/live-music-at-the-swan-pangbourne-harry-j-music/2026-06-05/
LOCATION:The Swan\, Pangbourne\, Shooters Hill\, Pangbourne\, Reading\, RG8 7DU
CATEGORIES:Live Music
ATTACH;FMTTYPE=image/jpeg:https://berkshireartistree.co.uk/wp-content/uploads/2025/06/Harry-jones_guitarist-and-singer_2.jpg
END:VEVENT
BEGIN:VEVENT
DTSTART;TZID=UTC:20260605T200000
DTEND;TZID=UTC:20260605T230000
DTSTAMP:20260424T014051
CREATED:20260114T163502Z
LAST-MODIFIED:20260114T163917Z
UID:10009664-1780689600-1780700400@berkshireartistree.co.uk
SUMMARY:Open Mic at The Oakingham Belle\, Wokingham
DESCRIPTION:Open Mic at The Oakingham Belle\nhosted by Abi Powell Music \n• First Friday of the month \n\n\n\n\n\n\n\n\n\n\n\n\n\n\n\n\n\n\n\n\n\n\nOpen Mic Night at The Oakingham Belle offers a relaxed and rewarding live music experience in the centre of Wokingham\, hosted by Abi Powell Music. Designed to welcome performers of all levels\, this monthly event brings together singers\, songwriters\, and musicians for an evening focused on creativity and shared enjoyment. From the outset\, Open Mic Night at The Oakingham Belle sets a supportive tone that encourages both confidence and experimentation on stage. \nMeanwhile\, Abi Powell Music guides the night with warmth and professionalism. As host\, Abi creates an environment where artists feel comfortable performing original material or putting their own spin on familiar songs. Additionally\, advance booking helps the evening run smoothly\, giving each performer a clear slot and a genuinely attentive audience. This structure allows performers to focus on their music rather than logistics\, which adds to the night’s easygoing flow. \nThe venue itself plays an essential role in shaping the atmosphere. The Oakingham Belle is a characterful local pub known for its welcoming interior and engaged crowd. As a result\, Open Mic Night at The Oakingham Belle feels social without becoming distracting\, making it ideal for live acoustic sets and intimate performances. \n\n\n\n\n\n\n\n\nFor more live music in Berkshire visit BerkshireArtistree.co.uk/live-music-events
URL:https://berkshireartistree.co.uk/live-music-event/open-mic-at-the-oakingham-belle-wokingham/2026-06-05/
LOCATION:The Oakingham Belle\, Oak Ave\, Wokingham\, RG40 1LH
CATEGORIES:Open mic
ATTACH;FMTTYPE=image/jpeg:https://berkshireartistree.co.uk/wp-content/uploads/2026/01/Open-Mic-at-The-Oakingham-Belle_Wokingham.jpg
END:VEVENT
BEGIN:VEVENT
DTSTART;TZID=UTC:20260609T190000
DTEND;TZID=UTC:20260609T220000
DTSTAMP:20260424T014051
CREATED:20260401T160029Z
LAST-MODIFIED:20260401T160100Z
UID:10009812-1781031600-1781042400@berkshireartistree.co.uk
SUMMARY:Open Mic in Pangbourne | Ada Meyhane
DESCRIPTION:Open mic night hosted by Amanda’s Music Events at Ada Meyhane Pangbourne brings an engaging\, community-driven live music experience to a warm\, intimate setting. \nKey Points➖ Open mic night curated by Amanda’s Music Events➖ Welcoming stage for emerging and established performers➖ Eclectic mix of acoustic\, vocal\, and stripped-back sets➖ Relaxed\, social atmosphere encouraging audience interaction➖ Hosted at Ada Meyhane Pangbourne with food and drinks available \nA vibrant night of live discovery at Ada Meyhane Pangbourne\nAmanda is known for several open mic nights around the Reading area\, with a reputation for accommodating acts of all shapes and sizes. Each set offers something different\, from heartfelt acoustic performances to lively vocal showcases. As a result\, the evening feels fresh and unpredictable\, keeping the room engaged from start to finish. Whether you’re stepping up to the mic or simply soaking it all in\, the event delivers a genuine grassroots music experience. \nMeanwhile\, Ada Meyhane Pangbourne provides the perfect backdrop. Known for its inviting ambience\, the venue blends cosy interiors with a sociable buzz\, making it ideal for both performers and listeners. Guests can enjoy food and drinks while discovering new talent\, which adds to the relaxed\, inclusive vibe of the night. The setting encourages conversation\, connection\, and repeat visits. \nUltimately\, Amanda’s Music Events at Ada Meyhane Pangbourne is more than just an open mic—it’s a celebration of local creativity and live performance. For those seeking an evening of music\, community\, and atmosphere\, this event offers a rewarding and memorable experience. \nFor more live music check out Berkshireartistree.co.uk/live-music-events/
URL:https://berkshireartistree.co.uk/live-music-event/open-mic-in-pangbourne-ada-meyhane/2026-06-09/
LOCATION:Ada Meyhane\, Pangbourne\, 3-5 Reading Rd\, Pangbourne\,\, Reading\,\, RG8 7LR\, United Kingdom
CATEGORIES:Open mic
ATTACH;FMTTYPE=image/jpeg:https://berkshireartistree.co.uk/wp-content/uploads/2024/04/Amandas-Music-Events_Berkshire-Artistree.jpeg
END:VEVENT
BEGIN:VEVENT
DTSTART;TZID=UTC:20260609T200000
DTEND;TZID=UTC:20260609T230000
DTSTAMP:20260424T014051
CREATED:20250611T144740Z
LAST-MODIFIED:20260302T112709Z
UID:10009670-1781035200-1781046000@berkshireartistree.co.uk
SUMMARY:Scruffy Soul Open Mic\, Windsor
DESCRIPTION:Scruffy Soul Open Mic\, Windsor\nhosted by Ginni Hogarth \n• Every 2nd Tuesday of the month \nScruffy Soul Open Mic – Live Music & Creative Talent in Windsor\nLooking for a welcoming open mic night in Windsor? Scruffy Soul Open Mic invites musicians\, poets\, and performers of all levels to share their talent in a warm\, inclusive space at Windsor Baptist Church in Berkshire. \nHosted by the passionate Ginni Hogarth and the Scruffy Soul team\, this community-driven event is perfect for those wanting to perform live or simply enjoy an evening of original music\, spoken word\, and soul-stirring creativity. Whether you’re a first-timer or a regular on the Windsor music scene\, this is a platform where raw talent is celebrated and the vibe is always supportive.\nHeld in the heart of Windsor\, this unplugged open mic night offers a relaxed\, intimate setting where both seasoned performers and first-timers are warmly welcomed. Whether you’re a singer-songwriter ready to share new material\, or a music lover looking for a laid-back\, friendly vibe\, this space delivers a unique community-driven evening. \nWhat to Expect: \n• An unplugged\, acoustic-friendly setup \n• A supportive\, creative atmosphere \n• A diverse lineup of local talent – from folk and blues to spoken word \n• bring your own drinks and snacks! \nDoors open 7:30pm\, performances begin 8:00pm \nWant to Perform?\nSign-ups are taken on the night – just bring your instrument\, your voice\, or your words. Slots are typically 10 minutes each\, with a full PA and sound support provided. \nWhether you’re performing or watching\, the Ace Space Open Mic is one of Newbury’s most loved grassroots music nights. Come along\, meet the community\, and support local talent!See the venue and organiser links below for more details. \nFor more live music in Berkshire visit BerkshireArtistree.co.uk/live-music-events
URL:https://berkshireartistree.co.uk/live-music-event/scruffy-soul-open-mic-windsor/2026-06-09/
LOCATION:Windsor Baptist Church\, Victoria St\, Windsor\, SL4 1EH
CATEGORIES:Open mic
ATTACH;FMTTYPE=image/png:https://berkshireartistree.co.uk/wp-content/uploads/2025/06/Open-Mic_windsor_Scruffy-Soul.png
END:VEVENT
BEGIN:VEVENT
DTSTART;TZID=UTC:20260616T200000
DTEND;TZID=UTC:20260616T230000
DTSTAMP:20260424T014051
CREATED:20260218T155000Z
LAST-MODIFIED:20260218T155000Z
UID:10009919-1781640000-1781650800@berkshireartistree.co.uk
SUMMARY:Open mic at the Three Tuns\, Reading
DESCRIPTION:Jam night at the Three Tuns\, Reading \nHosted by Amanda’s Music Events \n\n\n\n\n\n\n\n\n\nThird Tuesday open mic at The Three Tuns is set to light up Wokingham Road with a relaxed\, high-quality night of live music. This much-loved monthly session brings together some of the best local players for an open\, welcoming jam that thrives on energy and collaboration. Kicking off from 8pm\, the evening keeps its friendly format while shifting to the vibrant surroundings of The Three Tuns. As a result\, regulars and new faces alike can expect a cracking atmosphere from the first note. \nExperience the Third Tuesday Jam at The Three Tuns\nJam night at The Three Tuns is fronted by a tight house band and supported by a skilled sound engineer who ensures every instrument cuts through clearly. Meanwhile\, performers can register early to take part\, making the night feel spontaneous yet expertly run. Guitars soar\, keys add depth\, and driving drums keep the momentum strong. In addition\, vocalists bring personality and flair\, turning each set into a unique live moment. \nThe Three Tuns provides the perfect backdrop for this open jam session. Its welcoming interior and lively crowd create a space where musicians feel supported and audiences stay engaged. Then\, as the night unfolds\, collaborations spark and familiar songs take on new life. \nWhether you play or simply love discovering raw local talent\, Amanda’s Jam at The Three Tuns delivers an authentic live music experience. Arrive early\, soak up the buzz\, and be part of a community-driven night that celebrates performance in its purest form. \n\n\n\n\n\n\n\n\n\nFor more live music\, check out our events calendar!
URL:https://berkshireartistree.co.uk/live-music-event/open-mic-at-the-three-tuns-reading/2026-06-16/
LOCATION:Live music at The Three Tuns\, Reading\, 191 Wokingham Rd\, Reading\, RG6 1LT
CATEGORIES:Jam Night,Open mic
ATTACH;FMTTYPE=image/png:https://berkshireartistree.co.uk/wp-content/uploads/2026/02/Open-mic-at-Three-tuns_reading.png
END:VEVENT
BEGIN:VEVENT
DTSTART;TZID=UTC:20260618T200000
DTEND;TZID=UTC:20260618T223000
DTSTAMP:20260424T014051
CREATED:20250315T114500Z
LAST-MODIFIED:20260218T153818Z
UID:10009727-1781812800-1781821800@berkshireartistree.co.uk
SUMMARY:Open Mic at The Mad Squirrel\, High Wycombe
DESCRIPTION:Open Mic at The Mad Squirrel\, High Wycombe\nhosted by Andy Barrett \n\n\n\n\n\n\n\n\n\n\nOpen Mic at the Mad Squirrel is a standout live music night in the heart of High Wycombe. Located on the high street and run by Andy Barrett\, this popular event has quickly become a key date in the local music calendar. Over the past year\, Open Mic at the Mad Squirrel has grown into one of the town’s most respected grassroots showcases. As a result\, performers and audiences alike return week after week for an evening built on creativity and connection. \nWhy Open Mic at the Mad Squirrel Leads High Wycombe’s Live Scene\nEvery Open Mic at the Mad Squirrel delivers a welcoming and supportive atmosphere. First-time performers share the stage with experienced musicians\, and each act receives genuine attention from an engaged crowd. Because the night values inclusivity\, talent of all levels feels encouraged to take part. Meanwhile\, the variety of styles keeps the energy fresh and unpredictable. \nIn addition\, the venue itself plays a vital role in the event’s success. Its central location makes it easy to attend\, and its intimate setting ensures that every lyric and chord carries impact. The friendly community that surrounds Open Mic at the Mad Squirrel creates a safe space for experimentation and growth. Consequently\, many local artists now see it as a trusted platform to refine their sound and build confidence. \nFor anyone searching for authentic live music in High Wycombe\, this is the place to be. Open Mic at the Mad Squirrel continues to strengthen the town’s creative scene while offering unforgettable live performances in a truly community-driven setting. \n\n\n\n\n\n\n\n\n\n  \nFor more live music in Berkshire visit BerkshireArtistree.co.uk/live-music-events
URL:https://berkshireartistree.co.uk/live-music-event/open-mic-at-the-mad-squirrel-high-wycombe-2/2026-06-18/
LOCATION:Mad Squirrel\, High Wycombe\, 4-5 Church St\, High Wycombe\, HP11 2DE
CATEGORIES:Open mic
ATTACH;FMTTYPE=image/jpeg:https://berkshireartistree.co.uk/wp-content/uploads/2024/12/open-mic_mad-squirrel_high-wycombe-e1737893877386.jpg
END:VEVENT
BEGIN:VEVENT
DTSTART;TZID=UTC:20260619T193000
DTEND;TZID=UTC:20260619T213000
DTSTAMP:20260424T014051
CREATED:20260302T115918Z
LAST-MODIFIED:20260303T083958Z
UID:10009620-1781897400-1781904600@berkshireartistree.co.uk
SUMMARY:Live music in Pangbourne\, The Swan | Sion Whiley
DESCRIPTION:Live Music in Pangbourne\, The Swan\nAcclaimed singer-songwriter Sion Whiley performing at The Swan\, Pangbourne delivers an intimate night of original songs and expressive acoustic performance. \n\n\n\n\n\n\n\n\n\nKey Points➖ Sion Whiley live at The Swan\, Pangbourne➖ Acoustic set blending folk warmth with blues edge➖ Close-up performance in a welcoming riverside pub➖ Ideal for fans of authentic\, lyric-driven live music \nExperience Sion Whiley at The Swan\, Pangbourne\nSion Whiley at The Swan\, Pangbourne combines thoughtful songwriting\, rich vocals\, and confident acoustic guitar work in a venue that suits his style. He blends folk warmth with subtle blues tones and modern melody. As a result\, each song feels honest and direct. His live sets create an immediate connection with the room. Then\, they build in energy without losing their intimacy. Listeners can expect reflective moments alongside rhythmic highlights that lift the atmosphere. \nMoreover\, The Swan provides a relaxed riverside setting that enhances the performance. This popular Pangbourne pub pairs traditional charm with quality food and drink. Guests can enjoy well-kept ales\, selected wines\, and a comfortable layout that keeps the stage in clear view. The cosy interior encourages focus on the music. At the same time\, the friendly buzz adds to the sense of occasion. \nUltimately\, Sion Whiley at The Swan\, Pangbourne offers more than a standard gig. It brings live music in its purest and most engaging form to a welcoming local venue. Whether you already follow his work or plan to discover it for the first time\, this upcoming show promises strong songs\, genuine atmosphere\, and a memorable night of acoustic performance. \n\n\n\n\n\n\n\n\n\nFor more live music check out Berkshireartistree.co.uk/live-music-events/
URL:https://berkshireartistree.co.uk/live-music-event/live-music-in-pangbourne-the-swan-sion-whiley/2026-06-19/
LOCATION:The Swan\, Pangbourne\, Shooters Hill\, Pangbourne\, Reading\, RG8 7DU
CATEGORIES:Live Music
ATTACH;FMTTYPE=image/jpeg:https://berkshireartistree.co.uk/wp-content/uploads/2024/05/Sion-Whiley_Berkshire-Artistree.jpeg
END:VEVENT
BEGIN:VEVENT
DTSTART;TZID=UTC:20260628T200000
DTEND;TZID=UTC:20260628T220000
DTSTAMP:20260424T014051
CREATED:20260305T004824Z
LAST-MODIFIED:20260312T120201Z
UID:10009943-1782676800-1782684000@berkshireartistree.co.uk
SUMMARY:Live music in Henley\, The Old Bell | Steve Morano
DESCRIPTION:Live music in Henley with independent artist\n\n\n\n\n\n\n\n\n\n\n\n\n\n\nIndie folk singer-songwriter Steve Morano performing at The Old Bell Henley promises an intimate evening of thoughtful songwriting and warm live energy in one of Henley’s most characterful music-friendly pubs. \nKey Points \n➖ Acoustic folk and Americana-inspired performance from singer-songwriter Steve Morano➖ Intimate live setting inside The Old Bell Henley\, known for its welcoming atmosphere➖ Story-led songwriting with rich melodies and engaging stage presence➖ Ideal for fans of relaxed\, high-quality live music in a cosy pub venue \nWhy See Steve Morano at The Old Bell Henley\nWhen Steve Morano at The Old Bell Henley takes the stage\, audiences can expect heartfelt songwriting paired with an engaging acoustic performance style. Morano blends indie folk warmth with Americana storytelling\, creating songs that feel both personal and instantly relatable. His live shows focus on connection as much as music. Clear melodies\, reflective lyrics\, and relaxed humour between songs create a performance that feels welcoming from the first note. \nListeners who enjoy stripped-back performances often find Morano’s music especially rewarding. Each song reveals careful craftsmanship\, while his expressive delivery brings every lyric to life. As a result\, the audience becomes part of the experience rather than simply watching from the sidelines. \nThe Venue\nThe setting enhances the atmosphere perfectly. The Old Bell Henley is well known locally for hosting intimate live music nights in a classic pub environment. With its historic character\, comfortable layout\, and lively yet relaxed crowd\, the venue offers an ideal space for acoustic performances. Guests can enjoy a drink\, settle into the warm ambience\, and experience live music up close. \nAltogether\, Steve Morano at The Old Bell Henley offers a refreshing reminder of how powerful live acoustic music can be. For anyone seeking an evening of genuine songwriting and a welcoming venue atmosphere\, this performance delivers a memorable night of live music. \nFor more live music check out Berkshireartistree.co.uk/live-music-events/
URL:https://berkshireartistree.co.uk/live-music-event/live-music-in-henley-the-old-bell-steve-morano/2026-06-28/
LOCATION:The Old Bell\, Henley\, 20 Bell St\, Henley-on-Thames\, RG9 2BG\, United Kingdom
CATEGORIES:Live Music
ATTACH;FMTTYPE=image/jpeg:https://berkshireartistree.co.uk/wp-content/uploads/2026/03/Steve-Morano_live-music.jpg
END:VEVENT
END:VCALENDAR