BEGIN:VCALENDAR
VERSION:2.0
PRODID:-//Berkshire Artistree - ECPv6.15.20//NONSGML v1.0//EN
CALSCALE:GREGORIAN
METHOD:PUBLISH
X-ORIGINAL-URL:https://berkshireartistree.co.uk
X-WR-CALDESC:Events for Berkshire Artistree
REFRESH-INTERVAL;VALUE=DURATION:PT1H
X-Robots-Tag:noindex
X-PUBLISHED-TTL:PT1H
BEGIN:VTIMEZONE
TZID:UTC
BEGIN:STANDARD
TZOFFSETFROM:+0000
TZOFFSETTO:+0000
TZNAME:UTC
DTSTART:20250101T000000
END:STANDARD
END:VTIMEZONE
BEGIN:VEVENT
DTSTART;TZID=UTC:20260703T200000
DTEND;TZID=UTC:20260703T230000
DTSTAMP:20260424T003207
CREATED:20250422T065238Z
LAST-MODIFIED:20260210T082539Z
UID:10009841-1783108800-1783119600@berkshireartistree.co.uk
SUMMARY:Open Mic at The Butler\, Reading
DESCRIPTION:Open Mic at The Butler\, Reading \nhosted by Nicole Allan \n  \n• Every Friday \n  \nOne of Reading’s most popular open mic nights\, welcoming a range of acts from novice to expert. Run by Nicole Allan\, winner of the BA award 2022\, for her continuous efforts to encourage new artists to showcase their skills! See the venue and organiser links below for more details. The Butler hosts many live music nights\, both in the main bar and in the back room where bands play almost every weekend. The owners are huge supporters of live music in Reading and also allow Nicole to book her attendees at their annual music festival\, Marvellous. The Butler open mic night is situated on Chatham Street and is a short walk from Reading trains station. There is also 24 hour car parking directly opposite the pub.   Held every week\, the open mic at The Butler is super supportive and hosts a great community of musicians. \n  \nFor more live music in Berkshire visit BerkshireArtistree.co.uk/live-music-events
URL:https://berkshireartistree.co.uk/live-music-event/open-mic-at-the-butler-reading-25-2/2026-07-03/
LOCATION:The Butler\, Reading\, 85-91 Chatham St\, Reading\, RG1 7DS
CATEGORIES:Open mic
ATTACH;FMTTYPE=image/jpeg:https://berkshireartistree.co.uk/wp-content/uploads/2024/10/Open-Mic-Reading_The-Butler_Reading_Berkshire-Artistree-scaled.jpg
END:VEVENT
BEGIN:VEVENT
DTSTART;TZID=UTC:20260710T200000
DTEND;TZID=UTC:20260710T230000
DTSTAMP:20260424T003207
CREATED:20250422T065238Z
LAST-MODIFIED:20260210T082539Z
UID:10009877-1783713600-1783724400@berkshireartistree.co.uk
SUMMARY:Open Mic at The Butler\, Reading
DESCRIPTION:Open Mic at The Butler\, Reading \nhosted by Nicole Allan \n  \n• Every Friday \n  \nOne of Reading’s most popular open mic nights\, welcoming a range of acts from novice to expert. Run by Nicole Allan\, winner of the BA award 2022\, for her continuous efforts to encourage new artists to showcase their skills! See the venue and organiser links below for more details. The Butler hosts many live music nights\, both in the main bar and in the back room where bands play almost every weekend. The owners are huge supporters of live music in Reading and also allow Nicole to book her attendees at their annual music festival\, Marvellous. The Butler open mic night is situated on Chatham Street and is a short walk from Reading trains station. There is also 24 hour car parking directly opposite the pub.   Held every week\, the open mic at The Butler is super supportive and hosts a great community of musicians. \n  \nFor more live music in Berkshire visit BerkshireArtistree.co.uk/live-music-events
URL:https://berkshireartistree.co.uk/live-music-event/open-mic-at-the-butler-reading-25-2/2026-07-10/
LOCATION:The Butler\, Reading\, 85-91 Chatham St\, Reading\, RG1 7DS
CATEGORIES:Open mic
ATTACH;FMTTYPE=image/jpeg:https://berkshireartistree.co.uk/wp-content/uploads/2024/10/Open-Mic-Reading_The-Butler_Reading_Berkshire-Artistree-scaled.jpg
END:VEVENT
BEGIN:VEVENT
DTSTART;TZID=UTC:20260715T193000
DTEND;TZID=UTC:20260715T220000
DTSTAMP:20260424T003207
CREATED:20251213T095154Z
LAST-MODIFIED:20260124T105018Z
UID:10009923-1784143800-1784152800@berkshireartistree.co.uk
SUMMARY:So You Think You Know Music quiz at Bosco Lounge\, Woodley
DESCRIPTION:So You Think You Know Music quiz at Bosco Lounge\, Woodley \nhosted by Abi Powell Music and Nicole Allan \n• Every 3rd Wednesday \nJoin local musicians Abi Powell and Nicole Allan for So You Think You Know Music? — a fun-filled\, live music quiz night held at Bosco Lounge in Woodley. Celebrate songs from every era — from classic rock to modern pop hits — in this interactive\, high-energy music quiz night designed to test your knowledge and entertain music lovers of all ages. \nWhether you’re joining solo or bringing a team of friends\, this Woodley music quiz night is the perfect night out for anyone who loves music and wants to compete\, laugh and have fun. The event features: \n\n\nA mix of quiz rounds\, including picture rounds\, film & music trivia\, and audio-based questions. \n\n\nLive performances by talented local artists\, making this more than just a quiz — it’s a full interactive music experience. \n\n\nQuestions covering all music genres and decades — a genuine challenge for both casual fans and music buffs alike. \n\n\nExciting picture and audio rounds that keep the energy high and the competition friendly. \n\n\nPrizes and fun surprises throughout the evening\, adding an extra layer of excitement to your night. \n\n\n  \nDon’t miss out on this unique interactive music quiz evening in Woodley — bring your friends\, hone your recall of your favourite tracks\, and enjoy a night of sound\, nostalgia and friendly competition! \nTickets are £3.00 on the door\, or you can reserve a spot for your team on the Bsoco Lounge Website \nFor more live music in Berkshire visit BerkshireArtistree.co.uk/live-music-events
URL:https://berkshireartistree.co.uk/live-music-event/so-you-think-you-know-music-quiz-at-bosco-lounge-woodley/2026-07-15/
LOCATION:Bosco Lounge\, 55 Crockhamwell Rd\, Woodley\, Reading\, RG5 3JP\, United Kingdom
CATEGORIES:Music Quiz
ATTACH;FMTTYPE=image/jpeg:https://berkshireartistree.co.uk/wp-content/uploads/2025/01/SO-YOU-THINK-YOU-KNOW-MUSIC_live-music_quiz_Woodley_Bosco-Lounge.jpeg
END:VEVENT
BEGIN:VEVENT
DTSTART;TZID=UTC:20260717T200000
DTEND;TZID=UTC:20260717T230000
DTSTAMP:20260424T003207
CREATED:20250422T065238Z
LAST-MODIFIED:20260210T082539Z
UID:10009939-1784318400-1784329200@berkshireartistree.co.uk
SUMMARY:Open Mic at The Butler\, Reading
DESCRIPTION:Open Mic at The Butler\, Reading \nhosted by Nicole Allan \n  \n• Every Friday \n  \nOne of Reading’s most popular open mic nights\, welcoming a range of acts from novice to expert. Run by Nicole Allan\, winner of the BA award 2022\, for her continuous efforts to encourage new artists to showcase their skills! See the venue and organiser links below for more details. The Butler hosts many live music nights\, both in the main bar and in the back room where bands play almost every weekend. The owners are huge supporters of live music in Reading and also allow Nicole to book her attendees at their annual music festival\, Marvellous. The Butler open mic night is situated on Chatham Street and is a short walk from Reading trains station. There is also 24 hour car parking directly opposite the pub.   Held every week\, the open mic at The Butler is super supportive and hosts a great community of musicians. \n  \nFor more live music in Berkshire visit BerkshireArtistree.co.uk/live-music-events
URL:https://berkshireartistree.co.uk/live-music-event/open-mic-at-the-butler-reading-25-2/2026-07-17/
LOCATION:The Butler\, Reading\, 85-91 Chatham St\, Reading\, RG1 7DS
CATEGORIES:Open mic
ATTACH;FMTTYPE=image/jpeg:https://berkshireartistree.co.uk/wp-content/uploads/2024/10/Open-Mic-Reading_The-Butler_Reading_Berkshire-Artistree-scaled.jpg
END:VEVENT
BEGIN:VEVENT
DTSTART;TZID=UTC:20260730T200000
DTEND;TZID=UTC:20260730T223000
DTSTAMP:20260424T003207
CREATED:20250328T080543Z
LAST-MODIFIED:20260206T121124Z
UID:10008101-1785441600-1785450600@berkshireartistree.co.uk
SUMMARY:Original Live Music at The Butler\, Reading
DESCRIPTION:Original Live Music at The Butler\, Reading \nhosted by Nicole Allan \n• Every Last Thursday \n\nOriginal Live Music Night\, run by Nicole Allan\, is a welcoming open mic that celebrates original music and creative expression. This free-entry live music night invites songwriters and performers to step on stage\, share their original material\, and connect with a supportive live audience. From the very first note\, the focus is on authenticity\, creativity\, and community. \nDue to growing demand\, the format has evolved into a relaxed\, unplanned open mic where anyone can arrive on the night and perform. As a result\, artists are encouraged to try new songs\, workshop fresh ideas\, and test material in front of fellow musicians and music lovers. Meanwhile\, audiences are invited to support the performers directly\, with tipping encouraged for each set. \nAdditionally\, this original live music night has become a valuable networking space. Emerging artists can meet peers\, discover new talent\, and learn by watching experienced songwriters perform their craft live. However\, the atmosphere remains inclusive and low-pressure\, making it an ideal setting for first-time performers as well as seasoned musicians. \nFinally\, whether you’re an artist looking to share your music or a listener eager to hear something new\, this open mic offers a genuine live music experience rooted in creativity and connection. For further details\, including venue information and organiser updates\, see the venue and organiser pages below! \n\nFor more live music in Berkshire visit our events page.
URL:https://berkshireartistree.co.uk/live-music-event/original-live-music-at-the-butler-reading/2026-07-30/
LOCATION:The Butler\, Reading\, 85-91 Chatham St\, Reading\, RG1 7DS
CATEGORIES:Original Music
ATTACH;FMTTYPE=image/jpeg:https://berkshireartistree.co.uk/wp-content/uploads/2025/03/The-Butler_Reading_Original-live-music-.jpg
END:VEVENT
END:VCALENDAR