BEGIN:VCALENDAR
VERSION:2.0
PRODID:-//Berkshire Artistree - ECPv6.15.20//NONSGML v1.0//EN
CALSCALE:GREGORIAN
METHOD:PUBLISH
X-WR-CALNAME:Berkshire Artistree
X-ORIGINAL-URL:https://berkshireartistree.co.uk
X-WR-CALDESC:Events for Berkshire Artistree
REFRESH-INTERVAL;VALUE=DURATION:PT1H
X-Robots-Tag:noindex
X-PUBLISHED-TTL:PT1H
BEGIN:VTIMEZONE
TZID:UTC
BEGIN:STANDARD
TZOFFSETFROM:+0000
TZOFFSETTO:+0000
TZNAME:UTC
DTSTART:20250101T000000
END:STANDARD
END:VTIMEZONE
BEGIN:VEVENT
DTSTART;TZID=UTC:20261023T193000
DTEND;TZID=UTC:20261023T213000
DTSTAMP:20260424T012604
CREATED:20260203T180507Z
LAST-MODIFIED:20260205T160633Z
UID:10009355-1792783800-1792791000@berkshireartistree.co.uk
SUMMARY:Live music at The Swan\, Pangbourne | One Eyed Man
DESCRIPTION:Live Music at The Swan\, Pangbourne\nWith One Eyed Man performing live \n  \nOne Eyed Man at The Swan Pangbourne brings sharp songwriting and a vivid live edge to a room built for close listening. One Eyed Man shapes each set with dynamic shifts\, clear melodies\, and lyrics that land in real time. You’ll hear detail in the phrasing\, then feel the lift when the arrangement opens up. Meanwhile\, The Swan Pangbourne offers a welcoming\, characterful setting where the music stays front and centre. \nThe show thrives on connection. One Eyed Man performs with focus and presence\, so quieter moments feel intentional\, not small. Additionally\, the stronger hooks hit harder in an intimate space\, because the audience sits right inside the sound. The Swan’s riverside charm and relaxed hospitality add to that immediacy. However\, the atmosphere never turns casual about the music. The room encourages attention\, and the performance rewards it with subtle changes\, confident pacing\, and thoughtful tension-and-release. \nOne Eyed Man live at The Swan Pangbourne\nThen\, as the set builds\, you can expect a night that suits both dedicated fans and first-time listeners. You won’t need spectacle to stay engaged. Instead\, you’ll follow the stories\, the textures\, and the live decisions that make the songs feel newly made. Finally\, if you want an arts-led evening with heart\, craft\, and a great venue\, One Eyed Man at The Swan Pangbourne delivers. \n  \nFor more live music in Berkshire visit BerkshireArtistree.co.uk/live-music-events
URL:https://berkshireartistree.co.uk/live-music-event/live-music-at-the-swan-panngbourne-one-eyed-man/
LOCATION:The Swan\, Pangbourne\, Shooters Hill\, Pangbourne\, Reading\, RG8 7DU
CATEGORIES:Live Music
ATTACH;FMTTYPE=image/webp:https://berkshireartistree.co.uk/wp-content/uploads/2025/04/One-Eyed-Man_berkshire-artistree_Poster.webp
END:VEVENT
BEGIN:VEVENT
DTSTART;TZID=UTC:20261027T193000
DTEND;TZID=UTC:20261027T220000
DTSTAMP:20260424T012604
CREATED:20260213T151248Z
LAST-MODIFIED:20260213T152532Z
UID:10009435-1793129400-1793138400@berkshireartistree.co.uk
SUMMARY:Spoken word poetry in Iver | The Whip and Collar
DESCRIPTION:Spoken word poetry in Iver\nExperience a powerful night of live poetry as Joe Campling takes centre stage for an intimate spoken word performance. This special event places Joe at The Whip and Collar\, where rhythm\, language\, and lived experience meet a welcoming crowd. From the opening piece\, this event sets a confident tone that draws listeners in and holds them there. \nThe Whip and Collar: Live Spoken Word in an Intimate Setting\nJoe Campling delivers poetry with clarity\, presence\, and purpose. He shapes each line with natural flow\, then builds momentum through sharp observation and emotional honesty. As a result\, the room feels connected and alert. His work moves between humour and reflection\, while his delivery keeps the audience engaged from start to finish. Because he performs with direct eye contact and steady pacing\, every word lands with impact. \nMeanwhile\, The Whip and Collar provides the ideal backdrop for spoken word. Its cosy interior and close layout bring performer and audience together. Therefore\, the atmosphere feels personal rather than distant. Listeners respond in the moment\, and that shared energy becomes part of the experience. Additionally\, the venue’s character adds warmth and texture to the evening. \nFor anyone seeking thoughtful live performance\, Joe offers spoken word at its most immediate. Expect vivid storytelling\, authentic expression\, and a night shaped by language and connection at The Whip and Collar. \n\nFor more events visit our events calendar!
URL:https://berkshireartistree.co.uk/live-music-event/spoken-word-poetry-in-iver-the-whip-and-collar/2026-10-27/
LOCATION:The Whip and Collar\, 135 Swallow St\, Iver\, SL0 0HU\, United Kingdom
ATTACH;FMTTYPE=image/webp:https://berkshireartistree.co.uk/wp-content/uploads/2026/02/whip-collar-iver-heath-sign.webp
END:VEVENT
BEGIN:VEVENT
DTSTART;TZID=UTC:20261029T200000
DTEND;TZID=UTC:20261029T223000
DTSTAMP:20260424T012604
CREATED:20250328T080543Z
LAST-MODIFIED:20260206T121124Z
UID:10008104-1793304000-1793313000@berkshireartistree.co.uk
SUMMARY:Original Live Music at The Butler\, Reading
DESCRIPTION:Original Live Music at The Butler\, Reading \nhosted by Nicole Allan \n• Every Last Thursday \n\nOriginal Live Music Night\, run by Nicole Allan\, is a welcoming open mic that celebrates original music and creative expression. This free-entry live music night invites songwriters and performers to step on stage\, share their original material\, and connect with a supportive live audience. From the very first note\, the focus is on authenticity\, creativity\, and community. \nDue to growing demand\, the format has evolved into a relaxed\, unplanned open mic where anyone can arrive on the night and perform. As a result\, artists are encouraged to try new songs\, workshop fresh ideas\, and test material in front of fellow musicians and music lovers. Meanwhile\, audiences are invited to support the performers directly\, with tipping encouraged for each set. \nAdditionally\, this original live music night has become a valuable networking space. Emerging artists can meet peers\, discover new talent\, and learn by watching experienced songwriters perform their craft live. However\, the atmosphere remains inclusive and low-pressure\, making it an ideal setting for first-time performers as well as seasoned musicians. \nFinally\, whether you’re an artist looking to share your music or a listener eager to hear something new\, this open mic offers a genuine live music experience rooted in creativity and connection. For further details\, including venue information and organiser updates\, see the venue and organiser pages below! \n\nFor more live music in Berkshire visit our events page.
URL:https://berkshireartistree.co.uk/live-music-event/original-live-music-at-the-butler-reading/2026-10-29/
LOCATION:The Butler\, Reading\, 85-91 Chatham St\, Reading\, RG1 7DS
CATEGORIES:Original Music
ATTACH;FMTTYPE=image/jpeg:https://berkshireartistree.co.uk/wp-content/uploads/2025/03/The-Butler_Reading_Original-live-music-.jpg
END:VEVENT
END:VCALENDAR