BEGIN:VCALENDAR
VERSION:2.0
PRODID:-//Berkshire Artistree - ECPv6.15.20//NONSGML v1.0//EN
CALSCALE:GREGORIAN
METHOD:PUBLISH
X-WR-CALNAME:Berkshire Artistree
X-ORIGINAL-URL:https://berkshireartistree.co.uk
X-WR-CALDESC:Events for Berkshire Artistree
REFRESH-INTERVAL;VALUE=DURATION:PT1H
X-Robots-Tag:noindex
X-PUBLISHED-TTL:PT1H
BEGIN:VTIMEZONE
TZID:UTC
BEGIN:STANDARD
TZOFFSETFROM:+0000
TZOFFSETTO:+0000
TZNAME:UTC
DTSTART:20250101T000000
END:STANDARD
END:VTIMEZONE
BEGIN:VEVENT
DTSTART;TZID=UTC:20260423T193000
DTEND;TZID=UTC:20260423T220000
DTSTAMP:20260423T193710
CREATED:20251124T135027Z
LAST-MODIFIED:20251124T135028Z
UID:10009311-1776972600-1776981600@berkshireartistree.co.uk
SUMMARY:Open Mic at The Victoria Arms\, Wokingham
DESCRIPTION:Open Mic at The Victoria Arms\, Wokingham\nhosted by The Victoria Arms \n• Every Thursday \nOpen mic at the Victoria Arms\, located on the far side of Wokingham on Easthampstead Road. The night is one every week and anyone is welcome to play! See the venue and organiser links below for more details. \nFor more live music in Berkshire visit BerkshireArtistree.co.uk/live-music-events
URL:https://berkshireartistree.co.uk/live-music-event/open-mic-at-the-victoria-arms-wokingham-7-2/2026-04-23/
LOCATION:The Victoria Arms\, 1 Easthampstead Rd\, Wokgingham\, RG40 2EH\, United Kingdom
CATEGORIES:live music wokingham,Open mic
ATTACH;FMTTYPE=image/jpeg:https://berkshireartistree.co.uk/wp-content/uploads/2024/10/Open-Mic-at-The-Victoria-Arms_Wokingham_Berkshire-Artistree.jpg
END:VEVENT
BEGIN:VEVENT
DTSTART;TZID=UTC:20260426T140000
DTEND;TZID=UTC:20260426T163000
DTSTAMP:20260423T193710
CREATED:20250603T092051Z
LAST-MODIFIED:20260121T121339Z
UID:10009570-1777212000-1777221000@berkshireartistree.co.uk
SUMMARY:Open Mic at The Emmbrook Inn\, Wokingham
DESCRIPTION:Open Mic at The Emmbrook Inn\, Wokingham\nhosted by Tanya Watts \n• Every last Sunday \nWokingham Open Mic Night – Hosted by Tanya Watts at The Emmbrook Inn \nLooking for an open mic night in Wokingham? Join us at The Emmbrook Inn on the first Friday of every month\, where local musicians\, singers\, and performers gather for one of Berkshire’s most welcoming live music events. \nHosted by Tanya Watts\, an experienced host of multiple events\, this open mic night is a must for anyone in the Wokingham area looking to perform or enjoy a night of great local talent. Whether you’re a solo acoustic act\, a duo\, or trying out original songs for the first time\, this is the perfect place to showcase your music in a friendly and supportive atmosphere. \nLocated on Emmbrook Road\, The Emmbrook Inn offers a cosy\, laid-back setting ideal for live music lovers. Whether you’re a performer or a music fan looking for a great night out in Wokingham\, the Emmbrook Inn’s Open Mic Night is the place to be. Discover new talent\, meet fellow musicians\, and enjoy a night of genuine live music just minutes from Wokingham town centre. \nThe pub has a great selection of food including an exclusive Thai menu\, alongside your classic pub menu. They also feature a number of other events to enjoy\, including a pub quiz and more live music! \nDon’t miss Wokingham’s favourite monthly open mic night—bring your instrument\, your voice\, and your friends!See the venue and organiser links below for more details. \nFor more live music in Berkshire visit BerkshireArtistree.co.uk/live-music-events
URL:https://berkshireartistree.co.uk/live-music-event/open-mic-at-the-emmbrook-inn-wokingham/2026-04-26/
LOCATION:The Emmbrook Inn\, Wokingham\, 51 Emmbrook Rd\, Wokingham\, RG41 1HG\, United Kingdom
CATEGORIES:Open mic
ATTACH;FMTTYPE=image/jpeg:https://berkshireartistree.co.uk/wp-content/uploads/2025/06/Open-Mic-at-Emmbrook-Inn_Wokingham_Tanya.jpg
END:VEVENT
BEGIN:VEVENT
DTSTART;TZID=UTC:20260430T193000
DTEND;TZID=UTC:20260430T220000
DTSTAMP:20260423T193710
CREATED:20251124T135027Z
LAST-MODIFIED:20251124T135028Z
UID:10009312-1777577400-1777586400@berkshireartistree.co.uk
SUMMARY:Open Mic at The Victoria Arms\, Wokingham
DESCRIPTION:Open Mic at The Victoria Arms\, Wokingham\nhosted by The Victoria Arms \n• Every Thursday \nOpen mic at the Victoria Arms\, located on the far side of Wokingham on Easthampstead Road. The night is one every week and anyone is welcome to play! See the venue and organiser links below for more details. \nFor more live music in Berkshire visit BerkshireArtistree.co.uk/live-music-events
URL:https://berkshireartistree.co.uk/live-music-event/open-mic-at-the-victoria-arms-wokingham-7-2/2026-04-30/
LOCATION:The Victoria Arms\, 1 Easthampstead Rd\, Wokgingham\, RG40 2EH\, United Kingdom
CATEGORIES:live music wokingham,Open mic
ATTACH;FMTTYPE=image/jpeg:https://berkshireartistree.co.uk/wp-content/uploads/2024/10/Open-Mic-at-The-Victoria-Arms_Wokingham_Berkshire-Artistree.jpg
END:VEVENT
END:VCALENDAR