BEGIN:VCALENDAR
VERSION:2.0
PRODID:-//Berkshire Artistree - ECPv6.15.20//NONSGML v1.0//EN
CALSCALE:GREGORIAN
METHOD:PUBLISH
X-WR-CALNAME:Berkshire Artistree
X-ORIGINAL-URL:https://berkshireartistree.co.uk
X-WR-CALDESC:Events for Berkshire Artistree
REFRESH-INTERVAL;VALUE=DURATION:PT1H
X-Robots-Tag:noindex
X-PUBLISHED-TTL:PT1H
BEGIN:VTIMEZONE
TZID:UTC
BEGIN:STANDARD
TZOFFSETFROM:+0000
TZOFFSETTO:+0000
TZNAME:UTC
DTSTART:20250101T000000
END:STANDARD
END:VTIMEZONE
BEGIN:VEVENT
DTSTART;TZID=UTC:20260417T200000
DTEND;TZID=UTC:20260417T230000
DTSTAMP:20260423T212448
CREATED:20250422T065238Z
LAST-MODIFIED:20260210T082539Z
UID:10009221-1776456000-1776466800@berkshireartistree.co.uk
SUMMARY:Open Mic at The Butler\, Reading
DESCRIPTION:Open Mic at The Butler\, Reading \nhosted by Nicole Allan \n  \n• Every Friday \n  \nOne of Reading’s most popular open mic nights\, welcoming a range of acts from novice to expert. Run by Nicole Allan\, winner of the BA award 2022\, for her continuous efforts to encourage new artists to showcase their skills! See the venue and organiser links below for more details. The Butler hosts many live music nights\, both in the main bar and in the back room where bands play almost every weekend. The owners are huge supporters of live music in Reading and also allow Nicole to book her attendees at their annual music festival\, Marvellous. The Butler open mic night is situated on Chatham Street and is a short walk from Reading trains station. There is also 24 hour car parking directly opposite the pub.   Held every week\, the open mic at The Butler is super supportive and hosts a great community of musicians. \n  \nFor more live music in Berkshire visit BerkshireArtistree.co.uk/live-music-events
URL:https://berkshireartistree.co.uk/live-music-event/open-mic-at-the-butler-reading-25-2/2026-04-17/
LOCATION:The Butler\, Reading\, 85-91 Chatham St\, Reading\, RG1 7DS
CATEGORIES:Open mic
ATTACH;FMTTYPE=image/jpeg:https://berkshireartistree.co.uk/wp-content/uploads/2024/10/Open-Mic-Reading_The-Butler_Reading_Berkshire-Artistree-scaled.jpg
END:VEVENT
BEGIN:VEVENT
DTSTART;TZID=UTC:20260410T200000
DTEND;TZID=UTC:20260410T230000
DTSTAMP:20260423T212448
CREATED:20250422T065238Z
LAST-MODIFIED:20260210T082539Z
UID:10009190-1775851200-1775862000@berkshireartistree.co.uk
SUMMARY:Open Mic at The Butler\, Reading
DESCRIPTION:Open Mic at The Butler\, Reading \nhosted by Nicole Allan \n  \n• Every Friday \n  \nOne of Reading’s most popular open mic nights\, welcoming a range of acts from novice to expert. Run by Nicole Allan\, winner of the BA award 2022\, for her continuous efforts to encourage new artists to showcase their skills! See the venue and organiser links below for more details. The Butler hosts many live music nights\, both in the main bar and in the back room where bands play almost every weekend. The owners are huge supporters of live music in Reading and also allow Nicole to book her attendees at their annual music festival\, Marvellous. The Butler open mic night is situated on Chatham Street and is a short walk from Reading trains station. There is also 24 hour car parking directly opposite the pub.   Held every week\, the open mic at The Butler is super supportive and hosts a great community of musicians. \n  \nFor more live music in Berkshire visit BerkshireArtistree.co.uk/live-music-events
URL:https://berkshireartistree.co.uk/live-music-event/open-mic-at-the-butler-reading-25-2/2026-04-10/
LOCATION:The Butler\, Reading\, 85-91 Chatham St\, Reading\, RG1 7DS
CATEGORIES:Open mic
ATTACH;FMTTYPE=image/jpeg:https://berkshireartistree.co.uk/wp-content/uploads/2024/10/Open-Mic-Reading_The-Butler_Reading_Berkshire-Artistree-scaled.jpg
END:VEVENT
BEGIN:VEVENT
DTSTART;TZID=UTC:20260403T200000
DTEND;TZID=UTC:20260403T230000
DTSTAMP:20260423T212448
CREATED:20250422T065238Z
LAST-MODIFIED:20260210T082539Z
UID:10009160-1775246400-1775257200@berkshireartistree.co.uk
SUMMARY:Open Mic at The Butler\, Reading
DESCRIPTION:Open Mic at The Butler\, Reading \nhosted by Nicole Allan \n  \n• Every Friday \n  \nOne of Reading’s most popular open mic nights\, welcoming a range of acts from novice to expert. Run by Nicole Allan\, winner of the BA award 2022\, for her continuous efforts to encourage new artists to showcase their skills! See the venue and organiser links below for more details. The Butler hosts many live music nights\, both in the main bar and in the back room where bands play almost every weekend. The owners are huge supporters of live music in Reading and also allow Nicole to book her attendees at their annual music festival\, Marvellous. The Butler open mic night is situated on Chatham Street and is a short walk from Reading trains station. There is also 24 hour car parking directly opposite the pub.   Held every week\, the open mic at The Butler is super supportive and hosts a great community of musicians. \n  \nFor more live music in Berkshire visit BerkshireArtistree.co.uk/live-music-events
URL:https://berkshireartistree.co.uk/live-music-event/open-mic-at-the-butler-reading-25-2/2026-04-03/
LOCATION:The Butler\, Reading\, 85-91 Chatham St\, Reading\, RG1 7DS
CATEGORIES:Open mic
ATTACH;FMTTYPE=image/jpeg:https://berkshireartistree.co.uk/wp-content/uploads/2024/10/Open-Mic-Reading_The-Butler_Reading_Berkshire-Artistree-scaled.jpg
END:VEVENT
BEGIN:VEVENT
DTSTART;TZID=UTC:20260327T200000
DTEND;TZID=UTC:20260327T230000
DTSTAMP:20260423T212448
CREATED:20250422T065238Z
LAST-MODIFIED:20260210T082539Z
UID:10009142-1774641600-1774652400@berkshireartistree.co.uk
SUMMARY:Open Mic at The Butler\, Reading
DESCRIPTION:Open Mic at The Butler\, Reading \nhosted by Nicole Allan \n  \n• Every Friday \n  \nOne of Reading’s most popular open mic nights\, welcoming a range of acts from novice to expert. Run by Nicole Allan\, winner of the BA award 2022\, for her continuous efforts to encourage new artists to showcase their skills! See the venue and organiser links below for more details. The Butler hosts many live music nights\, both in the main bar and in the back room where bands play almost every weekend. The owners are huge supporters of live music in Reading and also allow Nicole to book her attendees at their annual music festival\, Marvellous. The Butler open mic night is situated on Chatham Street and is a short walk from Reading trains station. There is also 24 hour car parking directly opposite the pub.   Held every week\, the open mic at The Butler is super supportive and hosts a great community of musicians. \n  \nFor more live music in Berkshire visit BerkshireArtistree.co.uk/live-music-events
URL:https://berkshireartistree.co.uk/live-music-event/open-mic-at-the-butler-reading-25-2/2026-03-27/
LOCATION:The Butler\, Reading\, 85-91 Chatham St\, Reading\, RG1 7DS
CATEGORIES:Open mic
ATTACH;FMTTYPE=image/jpeg:https://berkshireartistree.co.uk/wp-content/uploads/2024/10/Open-Mic-Reading_The-Butler_Reading_Berkshire-Artistree-scaled.jpg
END:VEVENT
BEGIN:VEVENT
DTSTART;TZID=UTC:20260326T200000
DTEND;TZID=UTC:20260326T223000
DTSTAMP:20260423T212448
CREATED:20250328T080543Z
LAST-MODIFIED:20260206T121124Z
UID:10008097-1774555200-1774564200@berkshireartistree.co.uk
SUMMARY:Original Live Music at The Butler\, Reading
DESCRIPTION:Original Live Music at The Butler\, Reading \nhosted by Nicole Allan \n• Every Last Thursday \n\nOriginal Live Music Night\, run by Nicole Allan\, is a welcoming open mic that celebrates original music and creative expression. This free-entry live music night invites songwriters and performers to step on stage\, share their original material\, and connect with a supportive live audience. From the very first note\, the focus is on authenticity\, creativity\, and community. \nDue to growing demand\, the format has evolved into a relaxed\, unplanned open mic where anyone can arrive on the night and perform. As a result\, artists are encouraged to try new songs\, workshop fresh ideas\, and test material in front of fellow musicians and music lovers. Meanwhile\, audiences are invited to support the performers directly\, with tipping encouraged for each set. \nAdditionally\, this original live music night has become a valuable networking space. Emerging artists can meet peers\, discover new talent\, and learn by watching experienced songwriters perform their craft live. However\, the atmosphere remains inclusive and low-pressure\, making it an ideal setting for first-time performers as well as seasoned musicians. \nFinally\, whether you’re an artist looking to share your music or a listener eager to hear something new\, this open mic offers a genuine live music experience rooted in creativity and connection. For further details\, including venue information and organiser updates\, see the venue and organiser pages below! \n\nFor more live music in Berkshire visit our events page.
URL:https://berkshireartistree.co.uk/live-music-event/original-live-music-at-the-butler-reading/2026-03-26/
LOCATION:The Butler\, Reading\, 85-91 Chatham St\, Reading\, RG1 7DS
CATEGORIES:Original Music
ATTACH;FMTTYPE=image/jpeg:https://berkshireartistree.co.uk/wp-content/uploads/2025/03/The-Butler_Reading_Original-live-music-.jpg
END:VEVENT
END:VCALENDAR