BEGIN:VCALENDAR
VERSION:2.0
PRODID:-//Berkshire Artistree - ECPv6.15.20//NONSGML v1.0//EN
CALSCALE:GREGORIAN
METHOD:PUBLISH
X-WR-CALNAME:Berkshire Artistree
X-ORIGINAL-URL:https://berkshireartistree.co.uk
X-WR-CALDESC:Events for Berkshire Artistree
REFRESH-INTERVAL;VALUE=DURATION:PT1H
X-Robots-Tag:noindex
X-PUBLISHED-TTL:PT1H
BEGIN:VTIMEZONE
TZID:UTC
BEGIN:STANDARD
TZOFFSETFROM:+0000
TZOFFSETTO:+0000
TZNAME:UTC
DTSTART:20250101T000000
END:STANDARD
END:VTIMEZONE
BEGIN:VEVENT
DTSTART;TZID=UTC:20260513T200000
DTEND;TZID=UTC:20260513T220000
DTSTAMP:20260423T173640
CREATED:20260113T061156Z
LAST-MODIFIED:20260221T155428Z
UID:10009446-1778702400-1778709600@berkshireartistree.co.uk
SUMMARY:Open Mic at The Miller of Mansfield\, Goring | The Soundbar
DESCRIPTION:Open Mic at The Miller of Mansfield\, Goring \n  \n• Every Second Wednesday \n  \nOpen Mic Night at The Miller of Mansfield is a lively and welcoming live music event for anyone searching for an open mic in Mansfield Woodhouse. Held every second Wednesday at the venue’s Sound Bar\, it brings together local performers\, music lovers\, and curious newcomers for an evening of relaxed\, grassroots entertainment. \nThis open mic near me celebrates live music in all its forms. Acoustic sets\, original songs\, and familiar favourites all feature\, creating a varied and enjoyable listening experience. Performers of all levels are encouraged to take part\, while audiences can settle in and enjoy the creativity unfolding on stage. As a result\, each night feels fresh\, personal\, and full of character. \nThe Sound Bar offers an intimate setting that makes performances feel close and engaging. Performers can connect easily with the audience\, and guests can enjoy live music without the formality of a traditional gig. The atmosphere remains friendly and supportive throughout the evening. \nThe Miller of Mansfield enhances the experience with its warm hospitality and classic pub charm. Importantly\, it has become a trusted spot for live music in the area\, drawing a regular crowd alongside first-time visitors. Drinks flow\, conversations spark\, and the music sets the tone for a memorable night out! \nFor anyone regularly searching for an open mic near me\, this event delivers consistency\, quality\, and community spirit. It’s a rewarding midweek choice for discovering local talent and enjoying live music in a relaxed pub setting. \nFor more live music in Berkshire visit BerkshireArtistree.co.uk/live-music-events
URL:https://berkshireartistree.co.uk/live-music-event/open-mic-at-the-miller-of-mansfield-goring-the-soundbar/2026-05-13/
LOCATION:The Miller of Mansfield\, High St\,\, Goring\,\, Reading\,\, RG8 9AW
CATEGORIES:Open mic
ATTACH;FMTTYPE=image/jpeg:https://berkshireartistree.co.uk/wp-content/uploads/2026/01/Open-Mic-at-The-Miller-of-Mansfield_Sound-Bar_-Goring-e1768284379583.jpg
END:VEVENT
BEGIN:VEVENT
DTSTART;TZID=UTC:20260610T200000
DTEND;TZID=UTC:20260610T220000
DTSTAMP:20260423T173640
CREATED:20260113T061156Z
LAST-MODIFIED:20260221T155428Z
UID:10009686-1781121600-1781128800@berkshireartistree.co.uk
SUMMARY:Open Mic at The Miller of Mansfield\, Goring | The Soundbar
DESCRIPTION:Open Mic at The Miller of Mansfield\, Goring \n  \n• Every Second Wednesday \n  \nOpen Mic Night at The Miller of Mansfield is a lively and welcoming live music event for anyone searching for an open mic in Mansfield Woodhouse. Held every second Wednesday at the venue’s Sound Bar\, it brings together local performers\, music lovers\, and curious newcomers for an evening of relaxed\, grassroots entertainment. \nThis open mic near me celebrates live music in all its forms. Acoustic sets\, original songs\, and familiar favourites all feature\, creating a varied and enjoyable listening experience. Performers of all levels are encouraged to take part\, while audiences can settle in and enjoy the creativity unfolding on stage. As a result\, each night feels fresh\, personal\, and full of character. \nThe Sound Bar offers an intimate setting that makes performances feel close and engaging. Performers can connect easily with the audience\, and guests can enjoy live music without the formality of a traditional gig. The atmosphere remains friendly and supportive throughout the evening. \nThe Miller of Mansfield enhances the experience with its warm hospitality and classic pub charm. Importantly\, it has become a trusted spot for live music in the area\, drawing a regular crowd alongside first-time visitors. Drinks flow\, conversations spark\, and the music sets the tone for a memorable night out! \nFor anyone regularly searching for an open mic near me\, this event delivers consistency\, quality\, and community spirit. It’s a rewarding midweek choice for discovering local talent and enjoying live music in a relaxed pub setting. \nFor more live music in Berkshire visit BerkshireArtistree.co.uk/live-music-events
URL:https://berkshireartistree.co.uk/live-music-event/open-mic-at-the-miller-of-mansfield-goring-the-soundbar/2026-06-10/
LOCATION:The Miller of Mansfield\, High St\,\, Goring\,\, Reading\,\, RG8 9AW
CATEGORIES:Open mic
ATTACH;FMTTYPE=image/jpeg:https://berkshireartistree.co.uk/wp-content/uploads/2026/01/Open-Mic-at-The-Miller-of-Mansfield_Sound-Bar_-Goring-e1768284379583.jpg
END:VEVENT
BEGIN:VEVENT
DTSTART;TZID=UTC:20260708T200000
DTEND;TZID=UTC:20260708T220000
DTSTAMP:20260423T173640
CREATED:20260113T061156Z
LAST-MODIFIED:20260221T155428Z
UID:10009866-1783540800-1783548000@berkshireartistree.co.uk
SUMMARY:Open Mic at The Miller of Mansfield\, Goring | The Soundbar
DESCRIPTION:Open Mic at The Miller of Mansfield\, Goring \n  \n• Every Second Wednesday \n  \nOpen Mic Night at The Miller of Mansfield is a lively and welcoming live music event for anyone searching for an open mic in Mansfield Woodhouse. Held every second Wednesday at the venue’s Sound Bar\, it brings together local performers\, music lovers\, and curious newcomers for an evening of relaxed\, grassroots entertainment. \nThis open mic near me celebrates live music in all its forms. Acoustic sets\, original songs\, and familiar favourites all feature\, creating a varied and enjoyable listening experience. Performers of all levels are encouraged to take part\, while audiences can settle in and enjoy the creativity unfolding on stage. As a result\, each night feels fresh\, personal\, and full of character. \nThe Sound Bar offers an intimate setting that makes performances feel close and engaging. Performers can connect easily with the audience\, and guests can enjoy live music without the formality of a traditional gig. The atmosphere remains friendly and supportive throughout the evening. \nThe Miller of Mansfield enhances the experience with its warm hospitality and classic pub charm. Importantly\, it has become a trusted spot for live music in the area\, drawing a regular crowd alongside first-time visitors. Drinks flow\, conversations spark\, and the music sets the tone for a memorable night out! \nFor anyone regularly searching for an open mic near me\, this event delivers consistency\, quality\, and community spirit. It’s a rewarding midweek choice for discovering local talent and enjoying live music in a relaxed pub setting. \nFor more live music in Berkshire visit BerkshireArtistree.co.uk/live-music-events
URL:https://berkshireartistree.co.uk/live-music-event/open-mic-at-the-miller-of-mansfield-goring-the-soundbar/2026-07-08/
LOCATION:The Miller of Mansfield\, High St\,\, Goring\,\, Reading\,\, RG8 9AW
CATEGORIES:Open mic
ATTACH;FMTTYPE=image/jpeg:https://berkshireartistree.co.uk/wp-content/uploads/2026/01/Open-Mic-at-The-Miller-of-Mansfield_Sound-Bar_-Goring-e1768284379583.jpg
END:VEVENT
END:VCALENDAR