BEGIN:VCALENDAR
VERSION:2.0
PRODID:-//Berkshire Artistree - ECPv6.15.20//NONSGML v1.0//EN
CALSCALE:GREGORIAN
METHOD:PUBLISH
X-ORIGINAL-URL:https://berkshireartistree.co.uk
X-WR-CALDESC:Events for Berkshire Artistree
REFRESH-INTERVAL;VALUE=DURATION:PT1H
X-Robots-Tag:noindex
X-PUBLISHED-TTL:PT1H
BEGIN:VTIMEZONE
TZID:UTC
BEGIN:STANDARD
TZOFFSETFROM:+0000
TZOFFSETTO:+0000
TZNAME:UTC
DTSTART:20250101T000000
END:STANDARD
END:VTIMEZONE
BEGIN:VEVENT
DTSTART;TZID=UTC:20260424T193000
DTEND;TZID=UTC:20260424T213000
DTSTAMP:20260423T160744
CREATED:20260129T163513Z
LAST-MODIFIED:20260220T132533Z
UID:10009280-1777059000-1777066200@berkshireartistree.co.uk
SUMMARY:Live music at The Swan\, Pangbourne | Harry J Music
DESCRIPTION:Live music at The Swan\, Pangbourne \nWith performance from Harry J Music\n\n\n\n\n\n\n\nA relaxed and engaging night of live music is on offer with Harry J at The Swan Pangbourne. Set beside the river\, this performance focuses on well-known songs\, strong musicianship\, and a welcoming atmosphere. From the start\, Harry J at The Swan Pangbourne promises an evening built around songs audiences instantly recognise\, performed with care and personality. \nHarry J’s live set draws from decades of chart classics\, spanning the 60s\, 70s\, 80s\, 90s\, and popular hits released after 2000. He performs music made famous by Fleetwood Mac\, Bon Jovi\, Adele\, Tracy Chapman\, and the Eagles\, among many others. Rather than copying the originals\, he reshapes each song using expert guitar work and a loop station built live on stage. As each layer is added\, rhythms and harmonies take shape in real time. This approach keeps familiar songs fresh while remaining true to what makes them loved. \nMeanwhile\, the intimate setting of The Swan Pangbourne suits this style perfectly. The room allows the sound to travel clearly\, while the audience can follow the looping process as it happens. Additionally\, the relaxed layout encourages a social feel without pulling focus from the performance. The riverside surroundings help the evening flow at an easy pace. \nUltimately\, Harry J at The Swan Pangbourne delivers a live music experience rooted in great songs\, clear technique\, and audience connection. For fans of classic hits performed with a modern live edge\, this is an evening that feels both familiar and engaging. \n\n\n\n\n\n\n\nFor more Live music visit www.berkshireartistree.co.uk/live-music-events/ \nour full events calendar!
URL:https://berkshireartistree.co.uk/live-music-event/live-music-at-the-swan-pangbourne-harry-j-music/2026-04-24/
LOCATION:The Swan\, Pangbourne\, Shooters Hill\, Pangbourne\, Reading\, RG8 7DU
CATEGORIES:Live Music
ATTACH;FMTTYPE=image/jpeg:https://berkshireartistree.co.uk/wp-content/uploads/2025/06/Harry-jones_guitarist-and-singer_2.jpg
END:VEVENT
BEGIN:VEVENT
DTSTART;TZID=UTC:20260525T150000
DTEND;TZID=UTC:20260525T170000
DTSTAMP:20260423T160744
CREATED:20260205T170203Z
LAST-MODIFIED:20260410T094544Z
UID:10009369-1779721200-1779728400@berkshireartistree.co.uk
SUMMARY:Live music at The Swan\, Pangbourne | Bank Holiday Special
DESCRIPTION:Live Music at The Swan\, Pangbourne\nWith Omari performing live\n  \nA Bank Holiday live music special featuring Omari at The Swan Pangbourne sets the tone for a relaxed yet engaging celebration by the Thames. Omari’s famous sets at The Swan Pangbourne are perfectly suited to a long weekend atmosphere\, offering live performances that encourage listeners to get up and dancing from the get go. From the opening songs\, this Bank Holiday event places quality live music at the heart of the experience. \nOmari’s live shows are defined by a masterclass of expressive vocals\, coupled with live looping of various instruments including guitar\, flute and saxophone. His material blends soul and contemporary influences\, which translates especially well in an intimate setting. As a result\, each performance feels personal and unrushed. Meanwhile\, The Swan Pangbourne provides an inviting backdrop for a Bank Holiday gathering. Its welcoming interior and attentive crowd culture allow the music to breathe. Additionally\, the riverside location adds a subtle sense of occasion\, making the performance feel special without becoming overstated. \nBeautiful riverside setting\nThe venue sits in the heart of Pangbourne overlooking the Thames river\, where you can catch the glorious sunset glancing of the water. Enjoy a wonderful gastro menu while enjoying one of Berkshire’s top talent\, performing a range of hits on multiple instruments! \nFor more live music in Berkshire visit BerkshireArtistree.co.uk/live-music-events
URL:https://berkshireartistree.co.uk/live-music-event/live-music-at-the-swan-pangbourne-omari/2026-05-25/
LOCATION:The Swan\, Pangbourne\, Shooters Hill\, Pangbourne\, Reading\, RG8 7DU
CATEGORIES:Live Music
ATTACH;FMTTYPE=image/webp:https://berkshireartistree.co.uk/wp-content/uploads/2026/02/Omari-Johnson-Daley_sax.webp
END:VEVENT
BEGIN:VEVENT
DTSTART;TZID=UTC:20260605T193000
DTEND;TZID=UTC:20260605T213000
DTSTAMP:20260423T160744
CREATED:20260129T163513Z
LAST-MODIFIED:20260220T132533Z
UID:10009281-1780687800-1780695000@berkshireartistree.co.uk
SUMMARY:Live music at The Swan\, Pangbourne | Harry J Music
DESCRIPTION:Live music at The Swan\, Pangbourne \nWith performance from Harry J Music\n\n\n\n\n\n\n\nA relaxed and engaging night of live music is on offer with Harry J at The Swan Pangbourne. Set beside the river\, this performance focuses on well-known songs\, strong musicianship\, and a welcoming atmosphere. From the start\, Harry J at The Swan Pangbourne promises an evening built around songs audiences instantly recognise\, performed with care and personality. \nHarry J’s live set draws from decades of chart classics\, spanning the 60s\, 70s\, 80s\, 90s\, and popular hits released after 2000. He performs music made famous by Fleetwood Mac\, Bon Jovi\, Adele\, Tracy Chapman\, and the Eagles\, among many others. Rather than copying the originals\, he reshapes each song using expert guitar work and a loop station built live on stage. As each layer is added\, rhythms and harmonies take shape in real time. This approach keeps familiar songs fresh while remaining true to what makes them loved. \nMeanwhile\, the intimate setting of The Swan Pangbourne suits this style perfectly. The room allows the sound to travel clearly\, while the audience can follow the looping process as it happens. Additionally\, the relaxed layout encourages a social feel without pulling focus from the performance. The riverside surroundings help the evening flow at an easy pace. \nUltimately\, Harry J at The Swan Pangbourne delivers a live music experience rooted in great songs\, clear technique\, and audience connection. For fans of classic hits performed with a modern live edge\, this is an evening that feels both familiar and engaging. \n\n\n\n\n\n\n\nFor more Live music visit www.berkshireartistree.co.uk/live-music-events/ \nour full events calendar!
URL:https://berkshireartistree.co.uk/live-music-event/live-music-at-the-swan-pangbourne-harry-j-music/2026-06-05/
LOCATION:The Swan\, Pangbourne\, Shooters Hill\, Pangbourne\, Reading\, RG8 7DU
CATEGORIES:Live Music
ATTACH;FMTTYPE=image/jpeg:https://berkshireartistree.co.uk/wp-content/uploads/2025/06/Harry-jones_guitarist-and-singer_2.jpg
END:VEVENT
BEGIN:VEVENT
DTSTART;TZID=UTC:20260717T193000
DTEND;TZID=UTC:20260717T213000
DTSTAMP:20260423T160744
CREATED:20260129T163513Z
LAST-MODIFIED:20260220T132533Z
UID:10009282-1784316600-1784323800@berkshireartistree.co.uk
SUMMARY:Live music at The Swan\, Pangbourne | Harry J Music
DESCRIPTION:Live music at The Swan\, Pangbourne \nWith performance from Harry J Music\n\n\n\n\n\n\n\nA relaxed and engaging night of live music is on offer with Harry J at The Swan Pangbourne. Set beside the river\, this performance focuses on well-known songs\, strong musicianship\, and a welcoming atmosphere. From the start\, Harry J at The Swan Pangbourne promises an evening built around songs audiences instantly recognise\, performed with care and personality. \nHarry J’s live set draws from decades of chart classics\, spanning the 60s\, 70s\, 80s\, 90s\, and popular hits released after 2000. He performs music made famous by Fleetwood Mac\, Bon Jovi\, Adele\, Tracy Chapman\, and the Eagles\, among many others. Rather than copying the originals\, he reshapes each song using expert guitar work and a loop station built live on stage. As each layer is added\, rhythms and harmonies take shape in real time. This approach keeps familiar songs fresh while remaining true to what makes them loved. \nMeanwhile\, the intimate setting of The Swan Pangbourne suits this style perfectly. The room allows the sound to travel clearly\, while the audience can follow the looping process as it happens. Additionally\, the relaxed layout encourages a social feel without pulling focus from the performance. The riverside surroundings help the evening flow at an easy pace. \nUltimately\, Harry J at The Swan Pangbourne delivers a live music experience rooted in great songs\, clear technique\, and audience connection. For fans of classic hits performed with a modern live edge\, this is an evening that feels both familiar and engaging. \n\n\n\n\n\n\n\nFor more Live music visit www.berkshireartistree.co.uk/live-music-events/ \nour full events calendar!
URL:https://berkshireartistree.co.uk/live-music-event/live-music-at-the-swan-pangbourne-harry-j-music/2026-07-17/
LOCATION:The Swan\, Pangbourne\, Shooters Hill\, Pangbourne\, Reading\, RG8 7DU
CATEGORIES:Live Music
ATTACH;FMTTYPE=image/jpeg:https://berkshireartistree.co.uk/wp-content/uploads/2025/06/Harry-jones_guitarist-and-singer_2.jpg
END:VEVENT
BEGIN:VEVENT
DTSTART;TZID=UTC:20260828T193000
DTEND;TZID=UTC:20260828T213000
DTSTAMP:20260423T160744
CREATED:20260129T163513Z
LAST-MODIFIED:20260220T132533Z
UID:10009283-1787945400-1787952600@berkshireartistree.co.uk
SUMMARY:Live music at The Swan\, Pangbourne | Harry J Music
DESCRIPTION:Live music at The Swan\, Pangbourne \nWith performance from Harry J Music\n\n\n\n\n\n\n\nA relaxed and engaging night of live music is on offer with Harry J at The Swan Pangbourne. Set beside the river\, this performance focuses on well-known songs\, strong musicianship\, and a welcoming atmosphere. From the start\, Harry J at The Swan Pangbourne promises an evening built around songs audiences instantly recognise\, performed with care and personality. \nHarry J’s live set draws from decades of chart classics\, spanning the 60s\, 70s\, 80s\, 90s\, and popular hits released after 2000. He performs music made famous by Fleetwood Mac\, Bon Jovi\, Adele\, Tracy Chapman\, and the Eagles\, among many others. Rather than copying the originals\, he reshapes each song using expert guitar work and a loop station built live on stage. As each layer is added\, rhythms and harmonies take shape in real time. This approach keeps familiar songs fresh while remaining true to what makes them loved. \nMeanwhile\, the intimate setting of The Swan Pangbourne suits this style perfectly. The room allows the sound to travel clearly\, while the audience can follow the looping process as it happens. Additionally\, the relaxed layout encourages a social feel without pulling focus from the performance. The riverside surroundings help the evening flow at an easy pace. \nUltimately\, Harry J at The Swan Pangbourne delivers a live music experience rooted in great songs\, clear technique\, and audience connection. For fans of classic hits performed with a modern live edge\, this is an evening that feels both familiar and engaging. \n\n\n\n\n\n\n\nFor more Live music visit www.berkshireartistree.co.uk/live-music-events/ \nour full events calendar!
URL:https://berkshireartistree.co.uk/live-music-event/live-music-at-the-swan-pangbourne-harry-j-music/2026-08-28/
LOCATION:The Swan\, Pangbourne\, Shooters Hill\, Pangbourne\, Reading\, RG8 7DU
CATEGORIES:Live Music
ATTACH;FMTTYPE=image/jpeg:https://berkshireartistree.co.uk/wp-content/uploads/2025/06/Harry-jones_guitarist-and-singer_2.jpg
END:VEVENT
BEGIN:VEVENT
DTSTART;TZID=UTC:20260831T130000
DTEND;TZID=UTC:20260831T150000
DTSTAMP:20260423T160744
CREATED:20260205T170203Z
LAST-MODIFIED:20260410T094544Z
UID:10009370-1788181200-1788188400@berkshireartistree.co.uk
SUMMARY:Live music at The Swan\, Pangbourne | Bank Holiday Special
DESCRIPTION:Live Music at The Swan\, Pangbourne\nWith Omari performing live\n  \nA Bank Holiday live music special featuring Omari at The Swan Pangbourne sets the tone for a relaxed yet engaging celebration by the Thames. Omari’s famous sets at The Swan Pangbourne are perfectly suited to a long weekend atmosphere\, offering live performances that encourage listeners to get up and dancing from the get go. From the opening songs\, this Bank Holiday event places quality live music at the heart of the experience. \nOmari’s live shows are defined by a masterclass of expressive vocals\, coupled with live looping of various instruments including guitar\, flute and saxophone. His material blends soul and contemporary influences\, which translates especially well in an intimate setting. As a result\, each performance feels personal and unrushed. Meanwhile\, The Swan Pangbourne provides an inviting backdrop for a Bank Holiday gathering. Its welcoming interior and attentive crowd culture allow the music to breathe. Additionally\, the riverside location adds a subtle sense of occasion\, making the performance feel special without becoming overstated. \nBeautiful riverside setting\nThe venue sits in the heart of Pangbourne overlooking the Thames river\, where you can catch the glorious sunset glancing of the water. Enjoy a wonderful gastro menu while enjoying one of Berkshire’s top talent\, performing a range of hits on multiple instruments! \nFor more live music in Berkshire visit BerkshireArtistree.co.uk/live-music-events
URL:https://berkshireartistree.co.uk/live-music-event/live-music-at-the-swan-pangbourne-omari/2026-08-31/
LOCATION:The Swan\, Pangbourne\, Shooters Hill\, Pangbourne\, Reading\, RG8 7DU
CATEGORIES:Live Music
ATTACH;FMTTYPE=image/webp:https://berkshireartistree.co.uk/wp-content/uploads/2026/02/Omari-Johnson-Daley_sax.webp
END:VEVENT
BEGIN:VEVENT
DTSTART;TZID=UTC:20261120T193000
DTEND;TZID=UTC:20261120T213000
DTSTAMP:20260423T160744
CREATED:20260129T163513Z
LAST-MODIFIED:20260220T132533Z
UID:10009284-1795203000-1795210200@berkshireartistree.co.uk
SUMMARY:Live music at The Swan\, Pangbourne | Harry J Music
DESCRIPTION:Live music at The Swan\, Pangbourne \nWith performance from Harry J Music\n\n\n\n\n\n\n\nA relaxed and engaging night of live music is on offer with Harry J at The Swan Pangbourne. Set beside the river\, this performance focuses on well-known songs\, strong musicianship\, and a welcoming atmosphere. From the start\, Harry J at The Swan Pangbourne promises an evening built around songs audiences instantly recognise\, performed with care and personality. \nHarry J’s live set draws from decades of chart classics\, spanning the 60s\, 70s\, 80s\, 90s\, and popular hits released after 2000. He performs music made famous by Fleetwood Mac\, Bon Jovi\, Adele\, Tracy Chapman\, and the Eagles\, among many others. Rather than copying the originals\, he reshapes each song using expert guitar work and a loop station built live on stage. As each layer is added\, rhythms and harmonies take shape in real time. This approach keeps familiar songs fresh while remaining true to what makes them loved. \nMeanwhile\, the intimate setting of The Swan Pangbourne suits this style perfectly. The room allows the sound to travel clearly\, while the audience can follow the looping process as it happens. Additionally\, the relaxed layout encourages a social feel without pulling focus from the performance. The riverside surroundings help the evening flow at an easy pace. \nUltimately\, Harry J at The Swan Pangbourne delivers a live music experience rooted in great songs\, clear technique\, and audience connection. For fans of classic hits performed with a modern live edge\, this is an evening that feels both familiar and engaging. \n\n\n\n\n\n\n\nFor more Live music visit www.berkshireartistree.co.uk/live-music-events/ \nour full events calendar!
URL:https://berkshireartistree.co.uk/live-music-event/live-music-at-the-swan-pangbourne-harry-j-music/2026-11-20/
LOCATION:The Swan\, Pangbourne\, Shooters Hill\, Pangbourne\, Reading\, RG8 7DU
CATEGORIES:Live Music
ATTACH;FMTTYPE=image/jpeg:https://berkshireartistree.co.uk/wp-content/uploads/2025/06/Harry-jones_guitarist-and-singer_2.jpg
END:VEVENT
END:VCALENDAR